BEGIN:VCALENDAR
VERSION:2.0
PRODID:-//MaddHatterPro.com - ECPv6.15.20//NONSGML v1.0//EN
CALSCALE:GREGORIAN
METHOD:PUBLISH
X-WR-CALNAME:MaddHatterPro.com
X-ORIGINAL-URL:https://www.maddhatterpro.com
X-WR-CALDESC:Events for MaddHatterPro.com
REFRESH-INTERVAL;VALUE=DURATION:PT1H
X-Robots-Tag:noindex
X-PUBLISHED-TTL:PT1H
BEGIN:VTIMEZONE
TZID:UTC
BEGIN:STANDARD
TZOFFSETFROM:+0000
TZOFFSETTO:+0000
TZNAME:UTC
DTSTART:20290101T000000
END:STANDARD
END:VTIMEZONE
BEGIN:VEVENT
DTSTART;TZID=UTC:20300908T210000
DTEND;TZID=UTC:20300908T210000
DTSTAMP:20260424T182335
CREATED:20250703T234035Z
LAST-MODIFIED:20260206T144755Z
UID:10025052-1915131600-1915131600@www.maddhatterpro.com
SUMMARY:Boycott Bar Karaoke
DESCRIPTION:The award winning Boycott bar\, and MaddHatter. The most incredible\, supportive crowds. This bar is a treat. Come out with KJ Zondo and not only see\, but FEEL the hype. Good vibes only! \n4301 N 7th Ave\, Phoenix\, AZ 85013 \n+16028256240
URL:https://www.maddhatterpro.com/event/boycott-bar-karaoke/2030-09-08/
LOCATION:Boycott Bar\, 4301 N 7th Ave\, Phoenix\, AZ\, 85013\, United States
CATEGORIES:Karaoke,KJ Zondo
ATTACH;FMTTYPE=image/jpeg:https://www.maddhatterpro.com/wp-content/uploads/2026/02/boycott-PHX.jpg
END:VEVENT
BEGIN:VEVENT
DTSTART;TZID=UTC:20300915T210000
DTEND;TZID=UTC:20300915T210000
DTSTAMP:20260424T182335
CREATED:20250703T234035Z
LAST-MODIFIED:20260206T144755Z
UID:10025053-1915736400-1915736400@www.maddhatterpro.com
SUMMARY:Boycott Bar Karaoke
DESCRIPTION:The award winning Boycott bar\, and MaddHatter. The most incredible\, supportive crowds. This bar is a treat. Come out with KJ Zondo and not only see\, but FEEL the hype. Good vibes only! \n4301 N 7th Ave\, Phoenix\, AZ 85013 \n+16028256240
URL:https://www.maddhatterpro.com/event/boycott-bar-karaoke/2030-09-15/
LOCATION:Boycott Bar\, 4301 N 7th Ave\, Phoenix\, AZ\, 85013\, United States
CATEGORIES:Karaoke,KJ Zondo
ATTACH;FMTTYPE=image/jpeg:https://www.maddhatterpro.com/wp-content/uploads/2026/02/boycott-PHX.jpg
END:VEVENT
BEGIN:VEVENT
DTSTART;TZID=UTC:20300922T210000
DTEND;TZID=UTC:20300922T210000
DTSTAMP:20260424T182335
CREATED:20250703T234035Z
LAST-MODIFIED:20260206T144755Z
UID:10025054-1916341200-1916341200@www.maddhatterpro.com
SUMMARY:Boycott Bar Karaoke
DESCRIPTION:The award winning Boycott bar\, and MaddHatter. The most incredible\, supportive crowds. This bar is a treat. Come out with KJ Zondo and not only see\, but FEEL the hype. Good vibes only! \n4301 N 7th Ave\, Phoenix\, AZ 85013 \n+16028256240
URL:https://www.maddhatterpro.com/event/boycott-bar-karaoke/2030-09-22/
LOCATION:Boycott Bar\, 4301 N 7th Ave\, Phoenix\, AZ\, 85013\, United States
CATEGORIES:Karaoke,KJ Zondo
ATTACH;FMTTYPE=image/jpeg:https://www.maddhatterpro.com/wp-content/uploads/2026/02/boycott-PHX.jpg
END:VEVENT
BEGIN:VEVENT
DTSTART;TZID=UTC:20300929T210000
DTEND;TZID=UTC:20300929T210000
DTSTAMP:20260424T182335
CREATED:20250703T234035Z
LAST-MODIFIED:20260206T144755Z
UID:10025055-1916946000-1916946000@www.maddhatterpro.com
SUMMARY:Boycott Bar Karaoke
DESCRIPTION:The award winning Boycott bar\, and MaddHatter. The most incredible\, supportive crowds. This bar is a treat. Come out with KJ Zondo and not only see\, but FEEL the hype. Good vibes only! \n4301 N 7th Ave\, Phoenix\, AZ 85013 \n+16028256240
URL:https://www.maddhatterpro.com/event/boycott-bar-karaoke/2030-09-29/
LOCATION:Boycott Bar\, 4301 N 7th Ave\, Phoenix\, AZ\, 85013\, United States
CATEGORIES:Karaoke,KJ Zondo
ATTACH;FMTTYPE=image/jpeg:https://www.maddhatterpro.com/wp-content/uploads/2026/02/boycott-PHX.jpg
END:VEVENT
BEGIN:VEVENT
DTSTART;TZID=UTC:20301006T210000
DTEND;TZID=UTC:20301006T210000
DTSTAMP:20260424T182335
CREATED:20250703T234035Z
LAST-MODIFIED:20260206T144755Z
UID:10025056-1917550800-1917550800@www.maddhatterpro.com
SUMMARY:Boycott Bar Karaoke
DESCRIPTION:The award winning Boycott bar\, and MaddHatter. The most incredible\, supportive crowds. This bar is a treat. Come out with KJ Zondo and not only see\, but FEEL the hype. Good vibes only! \n4301 N 7th Ave\, Phoenix\, AZ 85013 \n+16028256240
URL:https://www.maddhatterpro.com/event/boycott-bar-karaoke/2030-10-06/
LOCATION:Boycott Bar\, 4301 N 7th Ave\, Phoenix\, AZ\, 85013\, United States
CATEGORIES:Karaoke,KJ Zondo
ATTACH;FMTTYPE=image/jpeg:https://www.maddhatterpro.com/wp-content/uploads/2026/02/boycott-PHX.jpg
END:VEVENT
BEGIN:VEVENT
DTSTART;TZID=UTC:20301013T210000
DTEND;TZID=UTC:20301013T210000
DTSTAMP:20260424T182335
CREATED:20250703T234035Z
LAST-MODIFIED:20260206T144755Z
UID:10025057-1918155600-1918155600@www.maddhatterpro.com
SUMMARY:Boycott Bar Karaoke
DESCRIPTION:The award winning Boycott bar\, and MaddHatter. The most incredible\, supportive crowds. This bar is a treat. Come out with KJ Zondo and not only see\, but FEEL the hype. Good vibes only! \n4301 N 7th Ave\, Phoenix\, AZ 85013 \n+16028256240
URL:https://www.maddhatterpro.com/event/boycott-bar-karaoke/2030-10-13/
LOCATION:Boycott Bar\, 4301 N 7th Ave\, Phoenix\, AZ\, 85013\, United States
CATEGORIES:Karaoke,KJ Zondo
ATTACH;FMTTYPE=image/jpeg:https://www.maddhatterpro.com/wp-content/uploads/2026/02/boycott-PHX.jpg
END:VEVENT
BEGIN:VEVENT
DTSTART;TZID=UTC:20301020T210000
DTEND;TZID=UTC:20301020T210000
DTSTAMP:20260424T182335
CREATED:20250703T234035Z
LAST-MODIFIED:20260206T144755Z
UID:10025058-1918760400-1918760400@www.maddhatterpro.com
SUMMARY:Boycott Bar Karaoke
DESCRIPTION:The award winning Boycott bar\, and MaddHatter. The most incredible\, supportive crowds. This bar is a treat. Come out with KJ Zondo and not only see\, but FEEL the hype. Good vibes only! \n4301 N 7th Ave\, Phoenix\, AZ 85013 \n+16028256240
URL:https://www.maddhatterpro.com/event/boycott-bar-karaoke/2030-10-20/
LOCATION:Boycott Bar\, 4301 N 7th Ave\, Phoenix\, AZ\, 85013\, United States
CATEGORIES:Karaoke,KJ Zondo
ATTACH;FMTTYPE=image/jpeg:https://www.maddhatterpro.com/wp-content/uploads/2026/02/boycott-PHX.jpg
END:VEVENT
BEGIN:VEVENT
DTSTART;TZID=UTC:20301027T210000
DTEND;TZID=UTC:20301027T210000
DTSTAMP:20260424T182335
CREATED:20250703T234035Z
LAST-MODIFIED:20260206T144755Z
UID:10025059-1919365200-1919365200@www.maddhatterpro.com
SUMMARY:Boycott Bar Karaoke
DESCRIPTION:The award winning Boycott bar\, and MaddHatter. The most incredible\, supportive crowds. This bar is a treat. Come out with KJ Zondo and not only see\, but FEEL the hype. Good vibes only! \n4301 N 7th Ave\, Phoenix\, AZ 85013 \n+16028256240
URL:https://www.maddhatterpro.com/event/boycott-bar-karaoke/2030-10-27/
LOCATION:Boycott Bar\, 4301 N 7th Ave\, Phoenix\, AZ\, 85013\, United States
CATEGORIES:Karaoke,KJ Zondo
ATTACH;FMTTYPE=image/jpeg:https://www.maddhatterpro.com/wp-content/uploads/2026/02/boycott-PHX.jpg
END:VEVENT
BEGIN:VEVENT
DTSTART;TZID=UTC:20301103T210000
DTEND;TZID=UTC:20301103T210000
DTSTAMP:20260424T182335
CREATED:20250703T234035Z
LAST-MODIFIED:20260206T144755Z
UID:10025060-1919970000-1919970000@www.maddhatterpro.com
SUMMARY:Boycott Bar Karaoke
DESCRIPTION:The award winning Boycott bar\, and MaddHatter. The most incredible\, supportive crowds. This bar is a treat. Come out with KJ Zondo and not only see\, but FEEL the hype. Good vibes only! \n4301 N 7th Ave\, Phoenix\, AZ 85013 \n+16028256240
URL:https://www.maddhatterpro.com/event/boycott-bar-karaoke/2030-11-03/
LOCATION:Boycott Bar\, 4301 N 7th Ave\, Phoenix\, AZ\, 85013\, United States
CATEGORIES:Karaoke,KJ Zondo
ATTACH;FMTTYPE=image/jpeg:https://www.maddhatterpro.com/wp-content/uploads/2026/02/boycott-PHX.jpg
END:VEVENT
BEGIN:VEVENT
DTSTART;TZID=UTC:20301110T210000
DTEND;TZID=UTC:20301110T210000
DTSTAMP:20260424T182335
CREATED:20250703T234035Z
LAST-MODIFIED:20260206T144755Z
UID:10025061-1920574800-1920574800@www.maddhatterpro.com
SUMMARY:Boycott Bar Karaoke
DESCRIPTION:The award winning Boycott bar\, and MaddHatter. The most incredible\, supportive crowds. This bar is a treat. Come out with KJ Zondo and not only see\, but FEEL the hype. Good vibes only! \n4301 N 7th Ave\, Phoenix\, AZ 85013 \n+16028256240
URL:https://www.maddhatterpro.com/event/boycott-bar-karaoke/2030-11-10/
LOCATION:Boycott Bar\, 4301 N 7th Ave\, Phoenix\, AZ\, 85013\, United States
CATEGORIES:Karaoke,KJ Zondo
ATTACH;FMTTYPE=image/jpeg:https://www.maddhatterpro.com/wp-content/uploads/2026/02/boycott-PHX.jpg
END:VEVENT
BEGIN:VEVENT
DTSTART;TZID=UTC:20301117T210000
DTEND;TZID=UTC:20301117T210000
DTSTAMP:20260424T182335
CREATED:20250703T234035Z
LAST-MODIFIED:20260206T144755Z
UID:10025062-1921179600-1921179600@www.maddhatterpro.com
SUMMARY:Boycott Bar Karaoke
DESCRIPTION:The award winning Boycott bar\, and MaddHatter. The most incredible\, supportive crowds. This bar is a treat. Come out with KJ Zondo and not only see\, but FEEL the hype. Good vibes only! \n4301 N 7th Ave\, Phoenix\, AZ 85013 \n+16028256240
URL:https://www.maddhatterpro.com/event/boycott-bar-karaoke/2030-11-17/
LOCATION:Boycott Bar\, 4301 N 7th Ave\, Phoenix\, AZ\, 85013\, United States
CATEGORIES:Karaoke,KJ Zondo
ATTACH;FMTTYPE=image/jpeg:https://www.maddhatterpro.com/wp-content/uploads/2026/02/boycott-PHX.jpg
END:VEVENT
BEGIN:VEVENT
DTSTART;TZID=UTC:20301124T210000
DTEND;TZID=UTC:20301124T210000
DTSTAMP:20260424T182335
CREATED:20250703T234035Z
LAST-MODIFIED:20260206T144755Z
UID:10025063-1921784400-1921784400@www.maddhatterpro.com
SUMMARY:Boycott Bar Karaoke
DESCRIPTION:The award winning Boycott bar\, and MaddHatter. The most incredible\, supportive crowds. This bar is a treat. Come out with KJ Zondo and not only see\, but FEEL the hype. Good vibes only! \n4301 N 7th Ave\, Phoenix\, AZ 85013 \n+16028256240
URL:https://www.maddhatterpro.com/event/boycott-bar-karaoke/2030-11-24/
LOCATION:Boycott Bar\, 4301 N 7th Ave\, Phoenix\, AZ\, 85013\, United States
CATEGORIES:Karaoke,KJ Zondo
ATTACH;FMTTYPE=image/jpeg:https://www.maddhatterpro.com/wp-content/uploads/2026/02/boycott-PHX.jpg
END:VEVENT
BEGIN:VEVENT
DTSTART;TZID=UTC:20301201T210000
DTEND;TZID=UTC:20301201T210000
DTSTAMP:20260424T182335
CREATED:20250703T234035Z
LAST-MODIFIED:20260206T144755Z
UID:10025064-1922389200-1922389200@www.maddhatterpro.com
SUMMARY:Boycott Bar Karaoke
DESCRIPTION:The award winning Boycott bar\, and MaddHatter. The most incredible\, supportive crowds. This bar is a treat. Come out with KJ Zondo and not only see\, but FEEL the hype. Good vibes only! \n4301 N 7th Ave\, Phoenix\, AZ 85013 \n+16028256240
URL:https://www.maddhatterpro.com/event/boycott-bar-karaoke/2030-12-01/
LOCATION:Boycott Bar\, 4301 N 7th Ave\, Phoenix\, AZ\, 85013\, United States
CATEGORIES:Karaoke,KJ Zondo
ATTACH;FMTTYPE=image/jpeg:https://www.maddhatterpro.com/wp-content/uploads/2026/02/boycott-PHX.jpg
END:VEVENT
BEGIN:VEVENT
DTSTART;TZID=UTC:20301208T210000
DTEND;TZID=UTC:20301208T210000
DTSTAMP:20260424T182335
CREATED:20250703T234035Z
LAST-MODIFIED:20260206T144755Z
UID:10025065-1922994000-1922994000@www.maddhatterpro.com
SUMMARY:Boycott Bar Karaoke
DESCRIPTION:The award winning Boycott bar\, and MaddHatter. The most incredible\, supportive crowds. This bar is a treat. Come out with KJ Zondo and not only see\, but FEEL the hype. Good vibes only! \n4301 N 7th Ave\, Phoenix\, AZ 85013 \n+16028256240
URL:https://www.maddhatterpro.com/event/boycott-bar-karaoke/2030-12-08/
LOCATION:Boycott Bar\, 4301 N 7th Ave\, Phoenix\, AZ\, 85013\, United States
CATEGORIES:Karaoke,KJ Zondo
ATTACH;FMTTYPE=image/jpeg:https://www.maddhatterpro.com/wp-content/uploads/2026/02/boycott-PHX.jpg
END:VEVENT
BEGIN:VEVENT
DTSTART;TZID=UTC:20301215T210000
DTEND;TZID=UTC:20301215T210000
DTSTAMP:20260424T182335
CREATED:20250703T234035Z
LAST-MODIFIED:20260206T144755Z
UID:10025066-1923598800-1923598800@www.maddhatterpro.com
SUMMARY:Boycott Bar Karaoke
DESCRIPTION:The award winning Boycott bar\, and MaddHatter. The most incredible\, supportive crowds. This bar is a treat. Come out with KJ Zondo and not only see\, but FEEL the hype. Good vibes only! \n4301 N 7th Ave\, Phoenix\, AZ 85013 \n+16028256240
URL:https://www.maddhatterpro.com/event/boycott-bar-karaoke/2030-12-15/
LOCATION:Boycott Bar\, 4301 N 7th Ave\, Phoenix\, AZ\, 85013\, United States
CATEGORIES:Karaoke,KJ Zondo
ATTACH;FMTTYPE=image/jpeg:https://www.maddhatterpro.com/wp-content/uploads/2026/02/boycott-PHX.jpg
END:VEVENT
BEGIN:VEVENT
DTSTART;TZID=UTC:20301222T210000
DTEND;TZID=UTC:20301222T210000
DTSTAMP:20260424T182335
CREATED:20250703T234035Z
LAST-MODIFIED:20260206T144755Z
UID:10025067-1924203600-1924203600@www.maddhatterpro.com
SUMMARY:Boycott Bar Karaoke
DESCRIPTION:The award winning Boycott bar\, and MaddHatter. The most incredible\, supportive crowds. This bar is a treat. Come out with KJ Zondo and not only see\, but FEEL the hype. Good vibes only! \n4301 N 7th Ave\, Phoenix\, AZ 85013 \n+16028256240
URL:https://www.maddhatterpro.com/event/boycott-bar-karaoke/2030-12-22/
LOCATION:Boycott Bar\, 4301 N 7th Ave\, Phoenix\, AZ\, 85013\, United States
CATEGORIES:Karaoke,KJ Zondo
ATTACH;FMTTYPE=image/jpeg:https://www.maddhatterpro.com/wp-content/uploads/2026/02/boycott-PHX.jpg
END:VEVENT
BEGIN:VEVENT
DTSTART;TZID=UTC:20301229T210000
DTEND;TZID=UTC:20301229T210000
DTSTAMP:20260424T182335
CREATED:20250703T234035Z
LAST-MODIFIED:20260206T144755Z
UID:10025068-1924808400-1924808400@www.maddhatterpro.com
SUMMARY:Boycott Bar Karaoke
DESCRIPTION:The award winning Boycott bar\, and MaddHatter. The most incredible\, supportive crowds. This bar is a treat. Come out with KJ Zondo and not only see\, but FEEL the hype. Good vibes only! \n4301 N 7th Ave\, Phoenix\, AZ 85013 \n+16028256240
URL:https://www.maddhatterpro.com/event/boycott-bar-karaoke/2030-12-29/
LOCATION:Boycott Bar\, 4301 N 7th Ave\, Phoenix\, AZ\, 85013\, United States
CATEGORIES:Karaoke,KJ Zondo
ATTACH;FMTTYPE=image/jpeg:https://www.maddhatterpro.com/wp-content/uploads/2026/02/boycott-PHX.jpg
END:VEVENT
BEGIN:VEVENT
DTSTART;TZID=UTC:20310105T210000
DTEND;TZID=UTC:20310105T210000
DTSTAMP:20260424T182335
CREATED:20250703T234035Z
LAST-MODIFIED:20260206T144755Z
UID:10025069-1925413200-1925413200@www.maddhatterpro.com
SUMMARY:Boycott Bar Karaoke
DESCRIPTION:The award winning Boycott bar\, and MaddHatter. The most incredible\, supportive crowds. This bar is a treat. Come out with KJ Zondo and not only see\, but FEEL the hype. Good vibes only! \n4301 N 7th Ave\, Phoenix\, AZ 85013 \n+16028256240
URL:https://www.maddhatterpro.com/event/boycott-bar-karaoke/2031-01-05/
LOCATION:Boycott Bar\, 4301 N 7th Ave\, Phoenix\, AZ\, 85013\, United States
CATEGORIES:Karaoke,KJ Zondo
ATTACH;FMTTYPE=image/jpeg:https://www.maddhatterpro.com/wp-content/uploads/2026/02/boycott-PHX.jpg
END:VEVENT
BEGIN:VEVENT
DTSTART;TZID=UTC:20310112T210000
DTEND;TZID=UTC:20310112T210000
DTSTAMP:20260424T182335
CREATED:20250703T234035Z
LAST-MODIFIED:20260206T144755Z
UID:10025070-1926018000-1926018000@www.maddhatterpro.com
SUMMARY:Boycott Bar Karaoke
DESCRIPTION:The award winning Boycott bar\, and MaddHatter. The most incredible\, supportive crowds. This bar is a treat. Come out with KJ Zondo and not only see\, but FEEL the hype. Good vibes only! \n4301 N 7th Ave\, Phoenix\, AZ 85013 \n+16028256240
URL:https://www.maddhatterpro.com/event/boycott-bar-karaoke/2031-01-12/
LOCATION:Boycott Bar\, 4301 N 7th Ave\, Phoenix\, AZ\, 85013\, United States
CATEGORIES:Karaoke,KJ Zondo
ATTACH;FMTTYPE=image/jpeg:https://www.maddhatterpro.com/wp-content/uploads/2026/02/boycott-PHX.jpg
END:VEVENT
BEGIN:VEVENT
DTSTART;TZID=UTC:20310119T210000
DTEND;TZID=UTC:20310119T210000
DTSTAMP:20260424T182335
CREATED:20250703T234035Z
LAST-MODIFIED:20260206T144755Z
UID:10025071-1926622800-1926622800@www.maddhatterpro.com
SUMMARY:Boycott Bar Karaoke
DESCRIPTION:The award winning Boycott bar\, and MaddHatter. The most incredible\, supportive crowds. This bar is a treat. Come out with KJ Zondo and not only see\, but FEEL the hype. Good vibes only! \n4301 N 7th Ave\, Phoenix\, AZ 85013 \n+16028256240
URL:https://www.maddhatterpro.com/event/boycott-bar-karaoke/2031-01-19/
LOCATION:Boycott Bar\, 4301 N 7th Ave\, Phoenix\, AZ\, 85013\, United States
CATEGORIES:Karaoke,KJ Zondo
ATTACH;FMTTYPE=image/jpeg:https://www.maddhatterpro.com/wp-content/uploads/2026/02/boycott-PHX.jpg
END:VEVENT
BEGIN:VEVENT
DTSTART;TZID=UTC:20310126T210000
DTEND;TZID=UTC:20310126T210000
DTSTAMP:20260424T182335
CREATED:20250703T234035Z
LAST-MODIFIED:20260206T144755Z
UID:10025072-1927227600-1927227600@www.maddhatterpro.com
SUMMARY:Boycott Bar Karaoke
DESCRIPTION:The award winning Boycott bar\, and MaddHatter. The most incredible\, supportive crowds. This bar is a treat. Come out with KJ Zondo and not only see\, but FEEL the hype. Good vibes only! \n4301 N 7th Ave\, Phoenix\, AZ 85013 \n+16028256240
URL:https://www.maddhatterpro.com/event/boycott-bar-karaoke/2031-01-26/
LOCATION:Boycott Bar\, 4301 N 7th Ave\, Phoenix\, AZ\, 85013\, United States
CATEGORIES:Karaoke,KJ Zondo
ATTACH;FMTTYPE=image/jpeg:https://www.maddhatterpro.com/wp-content/uploads/2026/02/boycott-PHX.jpg
END:VEVENT
BEGIN:VEVENT
DTSTART;TZID=UTC:20310202T210000
DTEND;TZID=UTC:20310202T210000
DTSTAMP:20260424T182335
CREATED:20250703T234035Z
LAST-MODIFIED:20260206T144755Z
UID:10025073-1927832400-1927832400@www.maddhatterpro.com
SUMMARY:Boycott Bar Karaoke
DESCRIPTION:The award winning Boycott bar\, and MaddHatter. The most incredible\, supportive crowds. This bar is a treat. Come out with KJ Zondo and not only see\, but FEEL the hype. Good vibes only! \n4301 N 7th Ave\, Phoenix\, AZ 85013 \n+16028256240
URL:https://www.maddhatterpro.com/event/boycott-bar-karaoke/2031-02-02/
LOCATION:Boycott Bar\, 4301 N 7th Ave\, Phoenix\, AZ\, 85013\, United States
CATEGORIES:Karaoke,KJ Zondo
ATTACH;FMTTYPE=image/jpeg:https://www.maddhatterpro.com/wp-content/uploads/2026/02/boycott-PHX.jpg
END:VEVENT
END:VCALENDAR