BEGIN:VCALENDAR
VERSION:2.0
PRODID:-//MaddHatterPro.com - ECPv6.15.20//NONSGML v1.0//EN
CALSCALE:GREGORIAN
METHOD:PUBLISH
X-WR-CALNAME:MaddHatterPro.com
X-ORIGINAL-URL:https://www.maddhatterpro.com
X-WR-CALDESC:Events for MaddHatterPro.com
REFRESH-INTERVAL;VALUE=DURATION:PT1H
X-Robots-Tag:noindex
X-PUBLISHED-TTL:PT1H
BEGIN:VTIMEZONE
TZID:UTC
BEGIN:STANDARD
TZOFFSETFROM:+0000
TZOFFSETTO:+0000
TZNAME:UTC
DTSTART:20250101T000000
END:STANDARD
END:VTIMEZONE
BEGIN:VEVENT
DTSTART;TZID=UTC:20260722T200000
DTEND;TZID=UTC:20260722T233000
DTSTAMP:20260423T185940
CREATED:20260206T145935Z
LAST-MODIFIED:20260206T145935Z
UID:10025653-1784750400-1784763000@www.maddhatterpro.com
SUMMARY:The V Spot
DESCRIPTION:Downtown Glendale’s newest night life! The V Spot joining MaddHatter Productions in karaoke! KJ Amygdala in the house making sure you have a blast. Come out to see us and sing the night away!
URL:https://www.maddhatterpro.com/event/the-v-spot/2026-07-22/
LOCATION:The V Spot\, 5601 W Glendale Ave\, Glendale\, AZ\, 85301\, United States
ATTACH;FMTTYPE=image/jpeg:https://www.maddhatterpro.com/wp-content/uploads/2026/02/The-V-Spot-Glendale.jpg
END:VEVENT
BEGIN:VEVENT
DTSTART;TZID=UTC:20260729T200000
DTEND;TZID=UTC:20260729T233000
DTSTAMP:20260423T185940
CREATED:20260206T145935Z
LAST-MODIFIED:20260206T145935Z
UID:10025654-1785355200-1785367800@www.maddhatterpro.com
SUMMARY:The V Spot
DESCRIPTION:Downtown Glendale’s newest night life! The V Spot joining MaddHatter Productions in karaoke! KJ Amygdala in the house making sure you have a blast. Come out to see us and sing the night away!
URL:https://www.maddhatterpro.com/event/the-v-spot/2026-07-29/
LOCATION:The V Spot\, 5601 W Glendale Ave\, Glendale\, AZ\, 85301\, United States
ATTACH;FMTTYPE=image/jpeg:https://www.maddhatterpro.com/wp-content/uploads/2026/02/The-V-Spot-Glendale.jpg
END:VEVENT
BEGIN:VEVENT
DTSTART;TZID=UTC:20260805T200000
DTEND;TZID=UTC:20260805T233000
DTSTAMP:20260423T185940
CREATED:20260206T145935Z
LAST-MODIFIED:20260206T145935Z
UID:10025655-1785960000-1785972600@www.maddhatterpro.com
SUMMARY:The V Spot
DESCRIPTION:Downtown Glendale’s newest night life! The V Spot joining MaddHatter Productions in karaoke! KJ Amygdala in the house making sure you have a blast. Come out to see us and sing the night away!
URL:https://www.maddhatterpro.com/event/the-v-spot/2026-08-05/
LOCATION:The V Spot\, 5601 W Glendale Ave\, Glendale\, AZ\, 85301\, United States
ATTACH;FMTTYPE=image/jpeg:https://www.maddhatterpro.com/wp-content/uploads/2026/02/The-V-Spot-Glendale.jpg
END:VEVENT
BEGIN:VEVENT
DTSTART;TZID=UTC:20260812T200000
DTEND;TZID=UTC:20260812T233000
DTSTAMP:20260423T185940
CREATED:20260206T145935Z
LAST-MODIFIED:20260206T145935Z
UID:10025656-1786564800-1786577400@www.maddhatterpro.com
SUMMARY:The V Spot
DESCRIPTION:Downtown Glendale’s newest night life! The V Spot joining MaddHatter Productions in karaoke! KJ Amygdala in the house making sure you have a blast. Come out to see us and sing the night away!
URL:https://www.maddhatterpro.com/event/the-v-spot/2026-08-12/
LOCATION:The V Spot\, 5601 W Glendale Ave\, Glendale\, AZ\, 85301\, United States
ATTACH;FMTTYPE=image/jpeg:https://www.maddhatterpro.com/wp-content/uploads/2026/02/The-V-Spot-Glendale.jpg
END:VEVENT
BEGIN:VEVENT
DTSTART;TZID=UTC:20260819T200000
DTEND;TZID=UTC:20260819T233000
DTSTAMP:20260423T185940
CREATED:20260206T145935Z
LAST-MODIFIED:20260206T145935Z
UID:10025657-1787169600-1787182200@www.maddhatterpro.com
SUMMARY:The V Spot
DESCRIPTION:Downtown Glendale’s newest night life! The V Spot joining MaddHatter Productions in karaoke! KJ Amygdala in the house making sure you have a blast. Come out to see us and sing the night away!
URL:https://www.maddhatterpro.com/event/the-v-spot/2026-08-19/
LOCATION:The V Spot\, 5601 W Glendale Ave\, Glendale\, AZ\, 85301\, United States
ATTACH;FMTTYPE=image/jpeg:https://www.maddhatterpro.com/wp-content/uploads/2026/02/The-V-Spot-Glendale.jpg
END:VEVENT
BEGIN:VEVENT
DTSTART;TZID=UTC:20260826T200000
DTEND;TZID=UTC:20260826T233000
DTSTAMP:20260423T185940
CREATED:20260206T145935Z
LAST-MODIFIED:20260206T145935Z
UID:10025658-1787774400-1787787000@www.maddhatterpro.com
SUMMARY:The V Spot
DESCRIPTION:Downtown Glendale’s newest night life! The V Spot joining MaddHatter Productions in karaoke! KJ Amygdala in the house making sure you have a blast. Come out to see us and sing the night away!
URL:https://www.maddhatterpro.com/event/the-v-spot/2026-08-26/
LOCATION:The V Spot\, 5601 W Glendale Ave\, Glendale\, AZ\, 85301\, United States
ATTACH;FMTTYPE=image/jpeg:https://www.maddhatterpro.com/wp-content/uploads/2026/02/The-V-Spot-Glendale.jpg
END:VEVENT
BEGIN:VEVENT
DTSTART;TZID=UTC:20260902T200000
DTEND;TZID=UTC:20260902T233000
DTSTAMP:20260423T185940
CREATED:20260206T145935Z
LAST-MODIFIED:20260206T145935Z
UID:10025659-1788379200-1788391800@www.maddhatterpro.com
SUMMARY:The V Spot
DESCRIPTION:Downtown Glendale’s newest night life! The V Spot joining MaddHatter Productions in karaoke! KJ Amygdala in the house making sure you have a blast. Come out to see us and sing the night away!
URL:https://www.maddhatterpro.com/event/the-v-spot/2026-09-02/
LOCATION:The V Spot\, 5601 W Glendale Ave\, Glendale\, AZ\, 85301\, United States
ATTACH;FMTTYPE=image/jpeg:https://www.maddhatterpro.com/wp-content/uploads/2026/02/The-V-Spot-Glendale.jpg
END:VEVENT
BEGIN:VEVENT
DTSTART;TZID=UTC:20260909T200000
DTEND;TZID=UTC:20260909T233000
DTSTAMP:20260423T185940
CREATED:20260206T145935Z
LAST-MODIFIED:20260206T145935Z
UID:10025660-1788984000-1788996600@www.maddhatterpro.com
SUMMARY:The V Spot
DESCRIPTION:Downtown Glendale’s newest night life! The V Spot joining MaddHatter Productions in karaoke! KJ Amygdala in the house making sure you have a blast. Come out to see us and sing the night away!
URL:https://www.maddhatterpro.com/event/the-v-spot/2026-09-09/
LOCATION:The V Spot\, 5601 W Glendale Ave\, Glendale\, AZ\, 85301\, United States
ATTACH;FMTTYPE=image/jpeg:https://www.maddhatterpro.com/wp-content/uploads/2026/02/The-V-Spot-Glendale.jpg
END:VEVENT
BEGIN:VEVENT
DTSTART;TZID=UTC:20260916T200000
DTEND;TZID=UTC:20260916T233000
DTSTAMP:20260423T185940
CREATED:20260206T145935Z
LAST-MODIFIED:20260206T145935Z
UID:10025661-1789588800-1789601400@www.maddhatterpro.com
SUMMARY:The V Spot
DESCRIPTION:Downtown Glendale’s newest night life! The V Spot joining MaddHatter Productions in karaoke! KJ Amygdala in the house making sure you have a blast. Come out to see us and sing the night away!
URL:https://www.maddhatterpro.com/event/the-v-spot/2026-09-16/
LOCATION:The V Spot\, 5601 W Glendale Ave\, Glendale\, AZ\, 85301\, United States
ATTACH;FMTTYPE=image/jpeg:https://www.maddhatterpro.com/wp-content/uploads/2026/02/The-V-Spot-Glendale.jpg
END:VEVENT
BEGIN:VEVENT
DTSTART;TZID=UTC:20260923T200000
DTEND;TZID=UTC:20260923T233000
DTSTAMP:20260423T185940
CREATED:20260206T145935Z
LAST-MODIFIED:20260206T145935Z
UID:10025662-1790193600-1790206200@www.maddhatterpro.com
SUMMARY:The V Spot
DESCRIPTION:Downtown Glendale’s newest night life! The V Spot joining MaddHatter Productions in karaoke! KJ Amygdala in the house making sure you have a blast. Come out to see us and sing the night away!
URL:https://www.maddhatterpro.com/event/the-v-spot/2026-09-23/
LOCATION:The V Spot\, 5601 W Glendale Ave\, Glendale\, AZ\, 85301\, United States
ATTACH;FMTTYPE=image/jpeg:https://www.maddhatterpro.com/wp-content/uploads/2026/02/The-V-Spot-Glendale.jpg
END:VEVENT
BEGIN:VEVENT
DTSTART;TZID=UTC:20260930T200000
DTEND;TZID=UTC:20260930T233000
DTSTAMP:20260423T185940
CREATED:20260206T145935Z
LAST-MODIFIED:20260206T145935Z
UID:10025663-1790798400-1790811000@www.maddhatterpro.com
SUMMARY:The V Spot
DESCRIPTION:Downtown Glendale’s newest night life! The V Spot joining MaddHatter Productions in karaoke! KJ Amygdala in the house making sure you have a blast. Come out to see us and sing the night away!
URL:https://www.maddhatterpro.com/event/the-v-spot/2026-09-30/
LOCATION:The V Spot\, 5601 W Glendale Ave\, Glendale\, AZ\, 85301\, United States
ATTACH;FMTTYPE=image/jpeg:https://www.maddhatterpro.com/wp-content/uploads/2026/02/The-V-Spot-Glendale.jpg
END:VEVENT
BEGIN:VEVENT
DTSTART;TZID=UTC:20261007T200000
DTEND;TZID=UTC:20261007T233000
DTSTAMP:20260423T185940
CREATED:20260206T145935Z
LAST-MODIFIED:20260206T145935Z
UID:10025664-1791403200-1791415800@www.maddhatterpro.com
SUMMARY:The V Spot
DESCRIPTION:Downtown Glendale’s newest night life! The V Spot joining MaddHatter Productions in karaoke! KJ Amygdala in the house making sure you have a blast. Come out to see us and sing the night away!
URL:https://www.maddhatterpro.com/event/the-v-spot/2026-10-07/
LOCATION:The V Spot\, 5601 W Glendale Ave\, Glendale\, AZ\, 85301\, United States
ATTACH;FMTTYPE=image/jpeg:https://www.maddhatterpro.com/wp-content/uploads/2026/02/The-V-Spot-Glendale.jpg
END:VEVENT
BEGIN:VEVENT
DTSTART;TZID=UTC:20261014T200000
DTEND;TZID=UTC:20261014T233000
DTSTAMP:20260423T185940
CREATED:20260206T145935Z
LAST-MODIFIED:20260206T145935Z
UID:10025665-1792008000-1792020600@www.maddhatterpro.com
SUMMARY:The V Spot
DESCRIPTION:Downtown Glendale’s newest night life! The V Spot joining MaddHatter Productions in karaoke! KJ Amygdala in the house making sure you have a blast. Come out to see us and sing the night away!
URL:https://www.maddhatterpro.com/event/the-v-spot/2026-10-14/
LOCATION:The V Spot\, 5601 W Glendale Ave\, Glendale\, AZ\, 85301\, United States
ATTACH;FMTTYPE=image/jpeg:https://www.maddhatterpro.com/wp-content/uploads/2026/02/The-V-Spot-Glendale.jpg
END:VEVENT
BEGIN:VEVENT
DTSTART;TZID=UTC:20261021T200000
DTEND;TZID=UTC:20261021T233000
DTSTAMP:20260423T185940
CREATED:20260206T145935Z
LAST-MODIFIED:20260206T145935Z
UID:10025666-1792612800-1792625400@www.maddhatterpro.com
SUMMARY:The V Spot
DESCRIPTION:Downtown Glendale’s newest night life! The V Spot joining MaddHatter Productions in karaoke! KJ Amygdala in the house making sure you have a blast. Come out to see us and sing the night away!
URL:https://www.maddhatterpro.com/event/the-v-spot/2026-10-21/
LOCATION:The V Spot\, 5601 W Glendale Ave\, Glendale\, AZ\, 85301\, United States
ATTACH;FMTTYPE=image/jpeg:https://www.maddhatterpro.com/wp-content/uploads/2026/02/The-V-Spot-Glendale.jpg
END:VEVENT
BEGIN:VEVENT
DTSTART;TZID=UTC:20261028T200000
DTEND;TZID=UTC:20261028T233000
DTSTAMP:20260423T185940
CREATED:20260206T145935Z
LAST-MODIFIED:20260206T145935Z
UID:10025667-1793217600-1793230200@www.maddhatterpro.com
SUMMARY:The V Spot
DESCRIPTION:Downtown Glendale’s newest night life! The V Spot joining MaddHatter Productions in karaoke! KJ Amygdala in the house making sure you have a blast. Come out to see us and sing the night away!
URL:https://www.maddhatterpro.com/event/the-v-spot/2026-10-28/
LOCATION:The V Spot\, 5601 W Glendale Ave\, Glendale\, AZ\, 85301\, United States
ATTACH;FMTTYPE=image/jpeg:https://www.maddhatterpro.com/wp-content/uploads/2026/02/The-V-Spot-Glendale.jpg
END:VEVENT
BEGIN:VEVENT
DTSTART;TZID=UTC:20261104T200000
DTEND;TZID=UTC:20261104T233000
DTSTAMP:20260423T185940
CREATED:20260206T145935Z
LAST-MODIFIED:20260206T145935Z
UID:10025668-1793822400-1793835000@www.maddhatterpro.com
SUMMARY:The V Spot
DESCRIPTION:Downtown Glendale’s newest night life! The V Spot joining MaddHatter Productions in karaoke! KJ Amygdala in the house making sure you have a blast. Come out to see us and sing the night away!
URL:https://www.maddhatterpro.com/event/the-v-spot/2026-11-04/
LOCATION:The V Spot\, 5601 W Glendale Ave\, Glendale\, AZ\, 85301\, United States
ATTACH;FMTTYPE=image/jpeg:https://www.maddhatterpro.com/wp-content/uploads/2026/02/The-V-Spot-Glendale.jpg
END:VEVENT
BEGIN:VEVENT
DTSTART;TZID=UTC:20261111T200000
DTEND;TZID=UTC:20261111T233000
DTSTAMP:20260423T185940
CREATED:20260206T145935Z
LAST-MODIFIED:20260206T145935Z
UID:10025669-1794427200-1794439800@www.maddhatterpro.com
SUMMARY:The V Spot
DESCRIPTION:Downtown Glendale’s newest night life! The V Spot joining MaddHatter Productions in karaoke! KJ Amygdala in the house making sure you have a blast. Come out to see us and sing the night away!
URL:https://www.maddhatterpro.com/event/the-v-spot/2026-11-11/
LOCATION:The V Spot\, 5601 W Glendale Ave\, Glendale\, AZ\, 85301\, United States
ATTACH;FMTTYPE=image/jpeg:https://www.maddhatterpro.com/wp-content/uploads/2026/02/The-V-Spot-Glendale.jpg
END:VEVENT
BEGIN:VEVENT
DTSTART;TZID=UTC:20261118T200000
DTEND;TZID=UTC:20261118T233000
DTSTAMP:20260423T185940
CREATED:20260206T145935Z
LAST-MODIFIED:20260206T145935Z
UID:10025670-1795032000-1795044600@www.maddhatterpro.com
SUMMARY:The V Spot
DESCRIPTION:Downtown Glendale’s newest night life! The V Spot joining MaddHatter Productions in karaoke! KJ Amygdala in the house making sure you have a blast. Come out to see us and sing the night away!
URL:https://www.maddhatterpro.com/event/the-v-spot/2026-11-18/
LOCATION:The V Spot\, 5601 W Glendale Ave\, Glendale\, AZ\, 85301\, United States
ATTACH;FMTTYPE=image/jpeg:https://www.maddhatterpro.com/wp-content/uploads/2026/02/The-V-Spot-Glendale.jpg
END:VEVENT
BEGIN:VEVENT
DTSTART;TZID=UTC:20261125T200000
DTEND;TZID=UTC:20261125T233000
DTSTAMP:20260423T185940
CREATED:20260206T145935Z
LAST-MODIFIED:20260206T145935Z
UID:10025671-1795636800-1795649400@www.maddhatterpro.com
SUMMARY:The V Spot
DESCRIPTION:Downtown Glendale’s newest night life! The V Spot joining MaddHatter Productions in karaoke! KJ Amygdala in the house making sure you have a blast. Come out to see us and sing the night away!
URL:https://www.maddhatterpro.com/event/the-v-spot/2026-11-25/
LOCATION:The V Spot\, 5601 W Glendale Ave\, Glendale\, AZ\, 85301\, United States
ATTACH;FMTTYPE=image/jpeg:https://www.maddhatterpro.com/wp-content/uploads/2026/02/The-V-Spot-Glendale.jpg
END:VEVENT
BEGIN:VEVENT
DTSTART;TZID=UTC:20261202T200000
DTEND;TZID=UTC:20261202T233000
DTSTAMP:20260423T185940
CREATED:20260206T145935Z
LAST-MODIFIED:20260206T145935Z
UID:10025672-1796241600-1796254200@www.maddhatterpro.com
SUMMARY:The V Spot
DESCRIPTION:Downtown Glendale’s newest night life! The V Spot joining MaddHatter Productions in karaoke! KJ Amygdala in the house making sure you have a blast. Come out to see us and sing the night away!
URL:https://www.maddhatterpro.com/event/the-v-spot/2026-12-02/
LOCATION:The V Spot\, 5601 W Glendale Ave\, Glendale\, AZ\, 85301\, United States
ATTACH;FMTTYPE=image/jpeg:https://www.maddhatterpro.com/wp-content/uploads/2026/02/The-V-Spot-Glendale.jpg
END:VEVENT
BEGIN:VEVENT
DTSTART;TZID=UTC:20261209T200000
DTEND;TZID=UTC:20261209T233000
DTSTAMP:20260423T185940
CREATED:20260206T145935Z
LAST-MODIFIED:20260206T145935Z
UID:10025673-1796846400-1796859000@www.maddhatterpro.com
SUMMARY:The V Spot
DESCRIPTION:Downtown Glendale’s newest night life! The V Spot joining MaddHatter Productions in karaoke! KJ Amygdala in the house making sure you have a blast. Come out to see us and sing the night away!
URL:https://www.maddhatterpro.com/event/the-v-spot/2026-12-09/
LOCATION:The V Spot\, 5601 W Glendale Ave\, Glendale\, AZ\, 85301\, United States
ATTACH;FMTTYPE=image/jpeg:https://www.maddhatterpro.com/wp-content/uploads/2026/02/The-V-Spot-Glendale.jpg
END:VEVENT
BEGIN:VEVENT
DTSTART;TZID=UTC:20261216T200000
DTEND;TZID=UTC:20261216T233000
DTSTAMP:20260423T185940
CREATED:20260206T145935Z
LAST-MODIFIED:20260206T145935Z
UID:10025674-1797451200-1797463800@www.maddhatterpro.com
SUMMARY:The V Spot
DESCRIPTION:Downtown Glendale’s newest night life! The V Spot joining MaddHatter Productions in karaoke! KJ Amygdala in the house making sure you have a blast. Come out to see us and sing the night away!
URL:https://www.maddhatterpro.com/event/the-v-spot/2026-12-16/
LOCATION:The V Spot\, 5601 W Glendale Ave\, Glendale\, AZ\, 85301\, United States
ATTACH;FMTTYPE=image/jpeg:https://www.maddhatterpro.com/wp-content/uploads/2026/02/The-V-Spot-Glendale.jpg
END:VEVENT
BEGIN:VEVENT
DTSTART;TZID=UTC:20261223T200000
DTEND;TZID=UTC:20261223T233000
DTSTAMP:20260423T185940
CREATED:20260206T145935Z
LAST-MODIFIED:20260206T145935Z
UID:10025675-1798056000-1798068600@www.maddhatterpro.com
SUMMARY:The V Spot
DESCRIPTION:Downtown Glendale’s newest night life! The V Spot joining MaddHatter Productions in karaoke! KJ Amygdala in the house making sure you have a blast. Come out to see us and sing the night away!
URL:https://www.maddhatterpro.com/event/the-v-spot/2026-12-23/
LOCATION:The V Spot\, 5601 W Glendale Ave\, Glendale\, AZ\, 85301\, United States
ATTACH;FMTTYPE=image/jpeg:https://www.maddhatterpro.com/wp-content/uploads/2026/02/The-V-Spot-Glendale.jpg
END:VEVENT
BEGIN:VEVENT
DTSTART;TZID=UTC:20261230T200000
DTEND;TZID=UTC:20261230T233000
DTSTAMP:20260423T185940
CREATED:20260206T145935Z
LAST-MODIFIED:20260206T145935Z
UID:10025676-1798660800-1798673400@www.maddhatterpro.com
SUMMARY:The V Spot
DESCRIPTION:Downtown Glendale’s newest night life! The V Spot joining MaddHatter Productions in karaoke! KJ Amygdala in the house making sure you have a blast. Come out to see us and sing the night away!
URL:https://www.maddhatterpro.com/event/the-v-spot/2026-12-30/
LOCATION:The V Spot\, 5601 W Glendale Ave\, Glendale\, AZ\, 85301\, United States
ATTACH;FMTTYPE=image/jpeg:https://www.maddhatterpro.com/wp-content/uploads/2026/02/The-V-Spot-Glendale.jpg
END:VEVENT
BEGIN:VEVENT
DTSTART;TZID=UTC:20270106T200000
DTEND;TZID=UTC:20270106T233000
DTSTAMP:20260423T185940
CREATED:20260206T145935Z
LAST-MODIFIED:20260206T145935Z
UID:10025677-1799265600-1799278200@www.maddhatterpro.com
SUMMARY:The V Spot
DESCRIPTION:Downtown Glendale’s newest night life! The V Spot joining MaddHatter Productions in karaoke! KJ Amygdala in the house making sure you have a blast. Come out to see us and sing the night away!
URL:https://www.maddhatterpro.com/event/the-v-spot/2027-01-06/
LOCATION:The V Spot\, 5601 W Glendale Ave\, Glendale\, AZ\, 85301\, United States
ATTACH;FMTTYPE=image/jpeg:https://www.maddhatterpro.com/wp-content/uploads/2026/02/The-V-Spot-Glendale.jpg
END:VEVENT
BEGIN:VEVENT
DTSTART;TZID=UTC:20270113T200000
DTEND;TZID=UTC:20270113T233000
DTSTAMP:20260423T185940
CREATED:20260206T145935Z
LAST-MODIFIED:20260206T145935Z
UID:10025678-1799870400-1799883000@www.maddhatterpro.com
SUMMARY:The V Spot
DESCRIPTION:Downtown Glendale’s newest night life! The V Spot joining MaddHatter Productions in karaoke! KJ Amygdala in the house making sure you have a blast. Come out to see us and sing the night away!
URL:https://www.maddhatterpro.com/event/the-v-spot/2027-01-13/
LOCATION:The V Spot\, 5601 W Glendale Ave\, Glendale\, AZ\, 85301\, United States
ATTACH;FMTTYPE=image/jpeg:https://www.maddhatterpro.com/wp-content/uploads/2026/02/The-V-Spot-Glendale.jpg
END:VEVENT
BEGIN:VEVENT
DTSTART;TZID=UTC:20270120T200000
DTEND;TZID=UTC:20270120T233000
DTSTAMP:20260423T185940
CREATED:20260206T145935Z
LAST-MODIFIED:20260206T145935Z
UID:10025679-1800475200-1800487800@www.maddhatterpro.com
SUMMARY:The V Spot
DESCRIPTION:Downtown Glendale’s newest night life! The V Spot joining MaddHatter Productions in karaoke! KJ Amygdala in the house making sure you have a blast. Come out to see us and sing the night away!
URL:https://www.maddhatterpro.com/event/the-v-spot/2027-01-20/
LOCATION:The V Spot\, 5601 W Glendale Ave\, Glendale\, AZ\, 85301\, United States
ATTACH;FMTTYPE=image/jpeg:https://www.maddhatterpro.com/wp-content/uploads/2026/02/The-V-Spot-Glendale.jpg
END:VEVENT
BEGIN:VEVENT
DTSTART;TZID=UTC:20270127T200000
DTEND;TZID=UTC:20270127T233000
DTSTAMP:20260423T185940
CREATED:20260206T145935Z
LAST-MODIFIED:20260206T145935Z
UID:10025680-1801080000-1801092600@www.maddhatterpro.com
SUMMARY:The V Spot
DESCRIPTION:Downtown Glendale’s newest night life! The V Spot joining MaddHatter Productions in karaoke! KJ Amygdala in the house making sure you have a blast. Come out to see us and sing the night away!
URL:https://www.maddhatterpro.com/event/the-v-spot/2027-01-27/
LOCATION:The V Spot\, 5601 W Glendale Ave\, Glendale\, AZ\, 85301\, United States
ATTACH;FMTTYPE=image/jpeg:https://www.maddhatterpro.com/wp-content/uploads/2026/02/The-V-Spot-Glendale.jpg
END:VEVENT
BEGIN:VEVENT
DTSTART;TZID=UTC:20270203T200000
DTEND;TZID=UTC:20270203T233000
DTSTAMP:20260423T185940
CREATED:20260206T145935Z
LAST-MODIFIED:20260206T145935Z
UID:10025681-1801684800-1801697400@www.maddhatterpro.com
SUMMARY:The V Spot
DESCRIPTION:Downtown Glendale’s newest night life! The V Spot joining MaddHatter Productions in karaoke! KJ Amygdala in the house making sure you have a blast. Come out to see us and sing the night away!
URL:https://www.maddhatterpro.com/event/the-v-spot/2027-02-03/
LOCATION:The V Spot\, 5601 W Glendale Ave\, Glendale\, AZ\, 85301\, United States
ATTACH;FMTTYPE=image/jpeg:https://www.maddhatterpro.com/wp-content/uploads/2026/02/The-V-Spot-Glendale.jpg
END:VEVENT
BEGIN:VEVENT
DTSTART;TZID=UTC:20270210T200000
DTEND;TZID=UTC:20270210T233000
DTSTAMP:20260423T185940
CREATED:20260206T145935Z
LAST-MODIFIED:20260206T145935Z
UID:10025682-1802289600-1802302200@www.maddhatterpro.com
SUMMARY:The V Spot
DESCRIPTION:Downtown Glendale’s newest night life! The V Spot joining MaddHatter Productions in karaoke! KJ Amygdala in the house making sure you have a blast. Come out to see us and sing the night away!
URL:https://www.maddhatterpro.com/event/the-v-spot/2027-02-10/
LOCATION:The V Spot\, 5601 W Glendale Ave\, Glendale\, AZ\, 85301\, United States
ATTACH;FMTTYPE=image/jpeg:https://www.maddhatterpro.com/wp-content/uploads/2026/02/The-V-Spot-Glendale.jpg
END:VEVENT
END:VCALENDAR