BEGIN:VCALENDAR
VERSION:2.0
PRODID:-//MaddHatterPro.com - ECPv6.15.20//NONSGML v1.0//EN
CALSCALE:GREGORIAN
METHOD:PUBLISH
X-WR-CALNAME:MaddHatterPro.com
X-ORIGINAL-URL:https://www.maddhatterpro.com
X-WR-CALDESC:Events for MaddHatterPro.com
REFRESH-INTERVAL;VALUE=DURATION:PT1H
X-Robots-Tag:noindex
X-PUBLISHED-TTL:PT1H
BEGIN:VTIMEZONE
TZID:UTC
BEGIN:STANDARD
TZOFFSETFROM:+0000
TZOFFSETTO:+0000
TZNAME:UTC
DTSTART:20250101T000000
END:STANDARD
END:VTIMEZONE
BEGIN:VEVENT
DTSTART;TZID=UTC:20260721T210000
DTEND;TZID=UTC:20260721T210000
DTSTAMP:20260423T173406
CREATED:20250703T231700Z
LAST-MODIFIED:20260206T143948Z
UID:10019945-1784667600-1784667600@www.maddhatterpro.com
SUMMARY:Pub Rock Live Karaoke
DESCRIPTION:Karaoke in South Scottsdale’s prime spot! The amazing KJ Zondo in the house\, 9pm to 1am. Come keep me busy and I will stay till you’re done! \n8005 E Roosevelt St\, Scottsdale\, AZ 85257 \n+14809454985
URL:https://www.maddhatterpro.com/event/pub-rock-live-karaoke/2026-07-21/
LOCATION:Pub Rock Live\, 8005 E Roosevelt St\, Scottsdale\, AZ\, 85257\, United States
CATEGORIES:Karaoke,KJ Zondo
ATTACH;FMTTYPE=image/jpeg:https://www.maddhatterpro.com/wp-content/uploads/2026/02/PubRock-Scottsdale.jpg
END:VEVENT
BEGIN:VEVENT
DTSTART;TZID=UTC:20260728T210000
DTEND;TZID=UTC:20260728T210000
DTSTAMP:20260423T173406
CREATED:20250703T231700Z
LAST-MODIFIED:20260206T143948Z
UID:10019946-1785272400-1785272400@www.maddhatterpro.com
SUMMARY:Pub Rock Live Karaoke
DESCRIPTION:Karaoke in South Scottsdale’s prime spot! The amazing KJ Zondo in the house\, 9pm to 1am. Come keep me busy and I will stay till you’re done! \n8005 E Roosevelt St\, Scottsdale\, AZ 85257 \n+14809454985
URL:https://www.maddhatterpro.com/event/pub-rock-live-karaoke/2026-07-28/
LOCATION:Pub Rock Live\, 8005 E Roosevelt St\, Scottsdale\, AZ\, 85257\, United States
CATEGORIES:Karaoke,KJ Zondo
ATTACH;FMTTYPE=image/jpeg:https://www.maddhatterpro.com/wp-content/uploads/2026/02/PubRock-Scottsdale.jpg
END:VEVENT
BEGIN:VEVENT
DTSTART;TZID=UTC:20260804T210000
DTEND;TZID=UTC:20260804T210000
DTSTAMP:20260423T173406
CREATED:20250703T231700Z
LAST-MODIFIED:20260206T143948Z
UID:10019947-1785877200-1785877200@www.maddhatterpro.com
SUMMARY:Pub Rock Live Karaoke
DESCRIPTION:Karaoke in South Scottsdale’s prime spot! The amazing KJ Zondo in the house\, 9pm to 1am. Come keep me busy and I will stay till you’re done! \n8005 E Roosevelt St\, Scottsdale\, AZ 85257 \n+14809454985
URL:https://www.maddhatterpro.com/event/pub-rock-live-karaoke/2026-08-04/
LOCATION:Pub Rock Live\, 8005 E Roosevelt St\, Scottsdale\, AZ\, 85257\, United States
CATEGORIES:Karaoke,KJ Zondo
ATTACH;FMTTYPE=image/jpeg:https://www.maddhatterpro.com/wp-content/uploads/2026/02/PubRock-Scottsdale.jpg
END:VEVENT
BEGIN:VEVENT
DTSTART;TZID=UTC:20260811T210000
DTEND;TZID=UTC:20260811T210000
DTSTAMP:20260423T173406
CREATED:20250703T231700Z
LAST-MODIFIED:20260206T143948Z
UID:10019948-1786482000-1786482000@www.maddhatterpro.com
SUMMARY:Pub Rock Live Karaoke
DESCRIPTION:Karaoke in South Scottsdale’s prime spot! The amazing KJ Zondo in the house\, 9pm to 1am. Come keep me busy and I will stay till you’re done! \n8005 E Roosevelt St\, Scottsdale\, AZ 85257 \n+14809454985
URL:https://www.maddhatterpro.com/event/pub-rock-live-karaoke/2026-08-11/
LOCATION:Pub Rock Live\, 8005 E Roosevelt St\, Scottsdale\, AZ\, 85257\, United States
CATEGORIES:Karaoke,KJ Zondo
ATTACH;FMTTYPE=image/jpeg:https://www.maddhatterpro.com/wp-content/uploads/2026/02/PubRock-Scottsdale.jpg
END:VEVENT
BEGIN:VEVENT
DTSTART;TZID=UTC:20260818T210000
DTEND;TZID=UTC:20260818T210000
DTSTAMP:20260423T173406
CREATED:20250703T231700Z
LAST-MODIFIED:20260206T143948Z
UID:10019949-1787086800-1787086800@www.maddhatterpro.com
SUMMARY:Pub Rock Live Karaoke
DESCRIPTION:Karaoke in South Scottsdale’s prime spot! The amazing KJ Zondo in the house\, 9pm to 1am. Come keep me busy and I will stay till you’re done! \n8005 E Roosevelt St\, Scottsdale\, AZ 85257 \n+14809454985
URL:https://www.maddhatterpro.com/event/pub-rock-live-karaoke/2026-08-18/
LOCATION:Pub Rock Live\, 8005 E Roosevelt St\, Scottsdale\, AZ\, 85257\, United States
CATEGORIES:Karaoke,KJ Zondo
ATTACH;FMTTYPE=image/jpeg:https://www.maddhatterpro.com/wp-content/uploads/2026/02/PubRock-Scottsdale.jpg
END:VEVENT
BEGIN:VEVENT
DTSTART;TZID=UTC:20260825T210000
DTEND;TZID=UTC:20260825T210000
DTSTAMP:20260423T173406
CREATED:20250703T231700Z
LAST-MODIFIED:20260206T143948Z
UID:10019950-1787691600-1787691600@www.maddhatterpro.com
SUMMARY:Pub Rock Live Karaoke
DESCRIPTION:Karaoke in South Scottsdale’s prime spot! The amazing KJ Zondo in the house\, 9pm to 1am. Come keep me busy and I will stay till you’re done! \n8005 E Roosevelt St\, Scottsdale\, AZ 85257 \n+14809454985
URL:https://www.maddhatterpro.com/event/pub-rock-live-karaoke/2026-08-25/
LOCATION:Pub Rock Live\, 8005 E Roosevelt St\, Scottsdale\, AZ\, 85257\, United States
CATEGORIES:Karaoke,KJ Zondo
ATTACH;FMTTYPE=image/jpeg:https://www.maddhatterpro.com/wp-content/uploads/2026/02/PubRock-Scottsdale.jpg
END:VEVENT
BEGIN:VEVENT
DTSTART;TZID=UTC:20260901T210000
DTEND;TZID=UTC:20260901T210000
DTSTAMP:20260423T173406
CREATED:20250703T231700Z
LAST-MODIFIED:20260206T143948Z
UID:10019951-1788296400-1788296400@www.maddhatterpro.com
SUMMARY:Pub Rock Live Karaoke
DESCRIPTION:Karaoke in South Scottsdale’s prime spot! The amazing KJ Zondo in the house\, 9pm to 1am. Come keep me busy and I will stay till you’re done! \n8005 E Roosevelt St\, Scottsdale\, AZ 85257 \n+14809454985
URL:https://www.maddhatterpro.com/event/pub-rock-live-karaoke/2026-09-01/
LOCATION:Pub Rock Live\, 8005 E Roosevelt St\, Scottsdale\, AZ\, 85257\, United States
CATEGORIES:Karaoke,KJ Zondo
ATTACH;FMTTYPE=image/jpeg:https://www.maddhatterpro.com/wp-content/uploads/2026/02/PubRock-Scottsdale.jpg
END:VEVENT
BEGIN:VEVENT
DTSTART;TZID=UTC:20260908T210000
DTEND;TZID=UTC:20260908T210000
DTSTAMP:20260423T173406
CREATED:20250703T231700Z
LAST-MODIFIED:20260206T143948Z
UID:10019952-1788901200-1788901200@www.maddhatterpro.com
SUMMARY:Pub Rock Live Karaoke
DESCRIPTION:Karaoke in South Scottsdale’s prime spot! The amazing KJ Zondo in the house\, 9pm to 1am. Come keep me busy and I will stay till you’re done! \n8005 E Roosevelt St\, Scottsdale\, AZ 85257 \n+14809454985
URL:https://www.maddhatterpro.com/event/pub-rock-live-karaoke/2026-09-08/
LOCATION:Pub Rock Live\, 8005 E Roosevelt St\, Scottsdale\, AZ\, 85257\, United States
CATEGORIES:Karaoke,KJ Zondo
ATTACH;FMTTYPE=image/jpeg:https://www.maddhatterpro.com/wp-content/uploads/2026/02/PubRock-Scottsdale.jpg
END:VEVENT
BEGIN:VEVENT
DTSTART;TZID=UTC:20260915T210000
DTEND;TZID=UTC:20260915T210000
DTSTAMP:20260423T173406
CREATED:20250703T231700Z
LAST-MODIFIED:20260206T143948Z
UID:10019953-1789506000-1789506000@www.maddhatterpro.com
SUMMARY:Pub Rock Live Karaoke
DESCRIPTION:Karaoke in South Scottsdale’s prime spot! The amazing KJ Zondo in the house\, 9pm to 1am. Come keep me busy and I will stay till you’re done! \n8005 E Roosevelt St\, Scottsdale\, AZ 85257 \n+14809454985
URL:https://www.maddhatterpro.com/event/pub-rock-live-karaoke/2026-09-15/
LOCATION:Pub Rock Live\, 8005 E Roosevelt St\, Scottsdale\, AZ\, 85257\, United States
CATEGORIES:Karaoke,KJ Zondo
ATTACH;FMTTYPE=image/jpeg:https://www.maddhatterpro.com/wp-content/uploads/2026/02/PubRock-Scottsdale.jpg
END:VEVENT
BEGIN:VEVENT
DTSTART;TZID=UTC:20260922T210000
DTEND;TZID=UTC:20260922T210000
DTSTAMP:20260423T173406
CREATED:20250703T231700Z
LAST-MODIFIED:20260206T143948Z
UID:10019954-1790110800-1790110800@www.maddhatterpro.com
SUMMARY:Pub Rock Live Karaoke
DESCRIPTION:Karaoke in South Scottsdale’s prime spot! The amazing KJ Zondo in the house\, 9pm to 1am. Come keep me busy and I will stay till you’re done! \n8005 E Roosevelt St\, Scottsdale\, AZ 85257 \n+14809454985
URL:https://www.maddhatterpro.com/event/pub-rock-live-karaoke/2026-09-22/
LOCATION:Pub Rock Live\, 8005 E Roosevelt St\, Scottsdale\, AZ\, 85257\, United States
CATEGORIES:Karaoke,KJ Zondo
ATTACH;FMTTYPE=image/jpeg:https://www.maddhatterpro.com/wp-content/uploads/2026/02/PubRock-Scottsdale.jpg
END:VEVENT
BEGIN:VEVENT
DTSTART;TZID=UTC:20260929T210000
DTEND;TZID=UTC:20260929T210000
DTSTAMP:20260423T173406
CREATED:20250703T231700Z
LAST-MODIFIED:20260206T143948Z
UID:10019955-1790715600-1790715600@www.maddhatterpro.com
SUMMARY:Pub Rock Live Karaoke
DESCRIPTION:Karaoke in South Scottsdale’s prime spot! The amazing KJ Zondo in the house\, 9pm to 1am. Come keep me busy and I will stay till you’re done! \n8005 E Roosevelt St\, Scottsdale\, AZ 85257 \n+14809454985
URL:https://www.maddhatterpro.com/event/pub-rock-live-karaoke/2026-09-29/
LOCATION:Pub Rock Live\, 8005 E Roosevelt St\, Scottsdale\, AZ\, 85257\, United States
CATEGORIES:Karaoke,KJ Zondo
ATTACH;FMTTYPE=image/jpeg:https://www.maddhatterpro.com/wp-content/uploads/2026/02/PubRock-Scottsdale.jpg
END:VEVENT
BEGIN:VEVENT
DTSTART;TZID=UTC:20261006T210000
DTEND;TZID=UTC:20261006T210000
DTSTAMP:20260423T173406
CREATED:20250703T231700Z
LAST-MODIFIED:20260206T143948Z
UID:10019956-1791320400-1791320400@www.maddhatterpro.com
SUMMARY:Pub Rock Live Karaoke
DESCRIPTION:Karaoke in South Scottsdale’s prime spot! The amazing KJ Zondo in the house\, 9pm to 1am. Come keep me busy and I will stay till you’re done! \n8005 E Roosevelt St\, Scottsdale\, AZ 85257 \n+14809454985
URL:https://www.maddhatterpro.com/event/pub-rock-live-karaoke/2026-10-06/
LOCATION:Pub Rock Live\, 8005 E Roosevelt St\, Scottsdale\, AZ\, 85257\, United States
CATEGORIES:Karaoke,KJ Zondo
ATTACH;FMTTYPE=image/jpeg:https://www.maddhatterpro.com/wp-content/uploads/2026/02/PubRock-Scottsdale.jpg
END:VEVENT
BEGIN:VEVENT
DTSTART;TZID=UTC:20261013T210000
DTEND;TZID=UTC:20261013T210000
DTSTAMP:20260423T173406
CREATED:20250703T231700Z
LAST-MODIFIED:20260206T143948Z
UID:10019957-1791925200-1791925200@www.maddhatterpro.com
SUMMARY:Pub Rock Live Karaoke
DESCRIPTION:Karaoke in South Scottsdale’s prime spot! The amazing KJ Zondo in the house\, 9pm to 1am. Come keep me busy and I will stay till you’re done! \n8005 E Roosevelt St\, Scottsdale\, AZ 85257 \n+14809454985
URL:https://www.maddhatterpro.com/event/pub-rock-live-karaoke/2026-10-13/
LOCATION:Pub Rock Live\, 8005 E Roosevelt St\, Scottsdale\, AZ\, 85257\, United States
CATEGORIES:Karaoke,KJ Zondo
ATTACH;FMTTYPE=image/jpeg:https://www.maddhatterpro.com/wp-content/uploads/2026/02/PubRock-Scottsdale.jpg
END:VEVENT
BEGIN:VEVENT
DTSTART;TZID=UTC:20261020T210000
DTEND;TZID=UTC:20261020T210000
DTSTAMP:20260423T173406
CREATED:20250703T231700Z
LAST-MODIFIED:20260206T143948Z
UID:10019958-1792530000-1792530000@www.maddhatterpro.com
SUMMARY:Pub Rock Live Karaoke
DESCRIPTION:Karaoke in South Scottsdale’s prime spot! The amazing KJ Zondo in the house\, 9pm to 1am. Come keep me busy and I will stay till you’re done! \n8005 E Roosevelt St\, Scottsdale\, AZ 85257 \n+14809454985
URL:https://www.maddhatterpro.com/event/pub-rock-live-karaoke/2026-10-20/
LOCATION:Pub Rock Live\, 8005 E Roosevelt St\, Scottsdale\, AZ\, 85257\, United States
CATEGORIES:Karaoke,KJ Zondo
ATTACH;FMTTYPE=image/jpeg:https://www.maddhatterpro.com/wp-content/uploads/2026/02/PubRock-Scottsdale.jpg
END:VEVENT
BEGIN:VEVENT
DTSTART;TZID=UTC:20261027T210000
DTEND;TZID=UTC:20261027T210000
DTSTAMP:20260423T173406
CREATED:20250703T231700Z
LAST-MODIFIED:20260206T143948Z
UID:10019959-1793134800-1793134800@www.maddhatterpro.com
SUMMARY:Pub Rock Live Karaoke
DESCRIPTION:Karaoke in South Scottsdale’s prime spot! The amazing KJ Zondo in the house\, 9pm to 1am. Come keep me busy and I will stay till you’re done! \n8005 E Roosevelt St\, Scottsdale\, AZ 85257 \n+14809454985
URL:https://www.maddhatterpro.com/event/pub-rock-live-karaoke/2026-10-27/
LOCATION:Pub Rock Live\, 8005 E Roosevelt St\, Scottsdale\, AZ\, 85257\, United States
CATEGORIES:Karaoke,KJ Zondo
ATTACH;FMTTYPE=image/jpeg:https://www.maddhatterpro.com/wp-content/uploads/2026/02/PubRock-Scottsdale.jpg
END:VEVENT
BEGIN:VEVENT
DTSTART;TZID=UTC:20261103T210000
DTEND;TZID=UTC:20261103T210000
DTSTAMP:20260423T173406
CREATED:20250703T231700Z
LAST-MODIFIED:20260206T143948Z
UID:10019960-1793739600-1793739600@www.maddhatterpro.com
SUMMARY:Pub Rock Live Karaoke
DESCRIPTION:Karaoke in South Scottsdale’s prime spot! The amazing KJ Zondo in the house\, 9pm to 1am. Come keep me busy and I will stay till you’re done! \n8005 E Roosevelt St\, Scottsdale\, AZ 85257 \n+14809454985
URL:https://www.maddhatterpro.com/event/pub-rock-live-karaoke/2026-11-03/
LOCATION:Pub Rock Live\, 8005 E Roosevelt St\, Scottsdale\, AZ\, 85257\, United States
CATEGORIES:Karaoke,KJ Zondo
ATTACH;FMTTYPE=image/jpeg:https://www.maddhatterpro.com/wp-content/uploads/2026/02/PubRock-Scottsdale.jpg
END:VEVENT
BEGIN:VEVENT
DTSTART;TZID=UTC:20261110T210000
DTEND;TZID=UTC:20261110T210000
DTSTAMP:20260423T173406
CREATED:20250703T231700Z
LAST-MODIFIED:20260206T143948Z
UID:10019961-1794344400-1794344400@www.maddhatterpro.com
SUMMARY:Pub Rock Live Karaoke
DESCRIPTION:Karaoke in South Scottsdale’s prime spot! The amazing KJ Zondo in the house\, 9pm to 1am. Come keep me busy and I will stay till you’re done! \n8005 E Roosevelt St\, Scottsdale\, AZ 85257 \n+14809454985
URL:https://www.maddhatterpro.com/event/pub-rock-live-karaoke/2026-11-10/
LOCATION:Pub Rock Live\, 8005 E Roosevelt St\, Scottsdale\, AZ\, 85257\, United States
CATEGORIES:Karaoke,KJ Zondo
ATTACH;FMTTYPE=image/jpeg:https://www.maddhatterpro.com/wp-content/uploads/2026/02/PubRock-Scottsdale.jpg
END:VEVENT
BEGIN:VEVENT
DTSTART;TZID=UTC:20261117T210000
DTEND;TZID=UTC:20261117T210000
DTSTAMP:20260423T173406
CREATED:20250703T231700Z
LAST-MODIFIED:20260206T143948Z
UID:10019962-1794949200-1794949200@www.maddhatterpro.com
SUMMARY:Pub Rock Live Karaoke
DESCRIPTION:Karaoke in South Scottsdale’s prime spot! The amazing KJ Zondo in the house\, 9pm to 1am. Come keep me busy and I will stay till you’re done! \n8005 E Roosevelt St\, Scottsdale\, AZ 85257 \n+14809454985
URL:https://www.maddhatterpro.com/event/pub-rock-live-karaoke/2026-11-17/
LOCATION:Pub Rock Live\, 8005 E Roosevelt St\, Scottsdale\, AZ\, 85257\, United States
CATEGORIES:Karaoke,KJ Zondo
ATTACH;FMTTYPE=image/jpeg:https://www.maddhatterpro.com/wp-content/uploads/2026/02/PubRock-Scottsdale.jpg
END:VEVENT
BEGIN:VEVENT
DTSTART;TZID=UTC:20261124T210000
DTEND;TZID=UTC:20261124T210000
DTSTAMP:20260423T173406
CREATED:20250703T231700Z
LAST-MODIFIED:20260206T143948Z
UID:10019963-1795554000-1795554000@www.maddhatterpro.com
SUMMARY:Pub Rock Live Karaoke
DESCRIPTION:Karaoke in South Scottsdale’s prime spot! The amazing KJ Zondo in the house\, 9pm to 1am. Come keep me busy and I will stay till you’re done! \n8005 E Roosevelt St\, Scottsdale\, AZ 85257 \n+14809454985
URL:https://www.maddhatterpro.com/event/pub-rock-live-karaoke/2026-11-24/
LOCATION:Pub Rock Live\, 8005 E Roosevelt St\, Scottsdale\, AZ\, 85257\, United States
CATEGORIES:Karaoke,KJ Zondo
ATTACH;FMTTYPE=image/jpeg:https://www.maddhatterpro.com/wp-content/uploads/2026/02/PubRock-Scottsdale.jpg
END:VEVENT
BEGIN:VEVENT
DTSTART;TZID=UTC:20261201T210000
DTEND;TZID=UTC:20261201T210000
DTSTAMP:20260423T173406
CREATED:20250703T231700Z
LAST-MODIFIED:20260206T143948Z
UID:10019964-1796158800-1796158800@www.maddhatterpro.com
SUMMARY:Pub Rock Live Karaoke
DESCRIPTION:Karaoke in South Scottsdale’s prime spot! The amazing KJ Zondo in the house\, 9pm to 1am. Come keep me busy and I will stay till you’re done! \n8005 E Roosevelt St\, Scottsdale\, AZ 85257 \n+14809454985
URL:https://www.maddhatterpro.com/event/pub-rock-live-karaoke/2026-12-01/
LOCATION:Pub Rock Live\, 8005 E Roosevelt St\, Scottsdale\, AZ\, 85257\, United States
CATEGORIES:Karaoke,KJ Zondo
ATTACH;FMTTYPE=image/jpeg:https://www.maddhatterpro.com/wp-content/uploads/2026/02/PubRock-Scottsdale.jpg
END:VEVENT
BEGIN:VEVENT
DTSTART;TZID=UTC:20261208T210000
DTEND;TZID=UTC:20261208T210000
DTSTAMP:20260423T173406
CREATED:20250703T231700Z
LAST-MODIFIED:20260206T143948Z
UID:10019965-1796763600-1796763600@www.maddhatterpro.com
SUMMARY:Pub Rock Live Karaoke
DESCRIPTION:Karaoke in South Scottsdale’s prime spot! The amazing KJ Zondo in the house\, 9pm to 1am. Come keep me busy and I will stay till you’re done! \n8005 E Roosevelt St\, Scottsdale\, AZ 85257 \n+14809454985
URL:https://www.maddhatterpro.com/event/pub-rock-live-karaoke/2026-12-08/
LOCATION:Pub Rock Live\, 8005 E Roosevelt St\, Scottsdale\, AZ\, 85257\, United States
CATEGORIES:Karaoke,KJ Zondo
ATTACH;FMTTYPE=image/jpeg:https://www.maddhatterpro.com/wp-content/uploads/2026/02/PubRock-Scottsdale.jpg
END:VEVENT
BEGIN:VEVENT
DTSTART;TZID=UTC:20261215T210000
DTEND;TZID=UTC:20261215T210000
DTSTAMP:20260423T173406
CREATED:20250703T231700Z
LAST-MODIFIED:20260206T143948Z
UID:10019966-1797368400-1797368400@www.maddhatterpro.com
SUMMARY:Pub Rock Live Karaoke
DESCRIPTION:Karaoke in South Scottsdale’s prime spot! The amazing KJ Zondo in the house\, 9pm to 1am. Come keep me busy and I will stay till you’re done! \n8005 E Roosevelt St\, Scottsdale\, AZ 85257 \n+14809454985
URL:https://www.maddhatterpro.com/event/pub-rock-live-karaoke/2026-12-15/
LOCATION:Pub Rock Live\, 8005 E Roosevelt St\, Scottsdale\, AZ\, 85257\, United States
CATEGORIES:Karaoke,KJ Zondo
ATTACH;FMTTYPE=image/jpeg:https://www.maddhatterpro.com/wp-content/uploads/2026/02/PubRock-Scottsdale.jpg
END:VEVENT
BEGIN:VEVENT
DTSTART;TZID=UTC:20261222T210000
DTEND;TZID=UTC:20261222T210000
DTSTAMP:20260423T173406
CREATED:20250703T231700Z
LAST-MODIFIED:20260206T143948Z
UID:10019967-1797973200-1797973200@www.maddhatterpro.com
SUMMARY:Pub Rock Live Karaoke
DESCRIPTION:Karaoke in South Scottsdale’s prime spot! The amazing KJ Zondo in the house\, 9pm to 1am. Come keep me busy and I will stay till you’re done! \n8005 E Roosevelt St\, Scottsdale\, AZ 85257 \n+14809454985
URL:https://www.maddhatterpro.com/event/pub-rock-live-karaoke/2026-12-22/
LOCATION:Pub Rock Live\, 8005 E Roosevelt St\, Scottsdale\, AZ\, 85257\, United States
CATEGORIES:Karaoke,KJ Zondo
ATTACH;FMTTYPE=image/jpeg:https://www.maddhatterpro.com/wp-content/uploads/2026/02/PubRock-Scottsdale.jpg
END:VEVENT
BEGIN:VEVENT
DTSTART;TZID=UTC:20261229T210000
DTEND;TZID=UTC:20261229T210000
DTSTAMP:20260423T173406
CREATED:20250703T231700Z
LAST-MODIFIED:20260206T143948Z
UID:10019968-1798578000-1798578000@www.maddhatterpro.com
SUMMARY:Pub Rock Live Karaoke
DESCRIPTION:Karaoke in South Scottsdale’s prime spot! The amazing KJ Zondo in the house\, 9pm to 1am. Come keep me busy and I will stay till you’re done! \n8005 E Roosevelt St\, Scottsdale\, AZ 85257 \n+14809454985
URL:https://www.maddhatterpro.com/event/pub-rock-live-karaoke/2026-12-29/
LOCATION:Pub Rock Live\, 8005 E Roosevelt St\, Scottsdale\, AZ\, 85257\, United States
CATEGORIES:Karaoke,KJ Zondo
ATTACH;FMTTYPE=image/jpeg:https://www.maddhatterpro.com/wp-content/uploads/2026/02/PubRock-Scottsdale.jpg
END:VEVENT
BEGIN:VEVENT
DTSTART;TZID=UTC:20270105T210000
DTEND;TZID=UTC:20270105T210000
DTSTAMP:20260423T173406
CREATED:20250703T231700Z
LAST-MODIFIED:20260206T143948Z
UID:10019969-1799182800-1799182800@www.maddhatterpro.com
SUMMARY:Pub Rock Live Karaoke
DESCRIPTION:Karaoke in South Scottsdale’s prime spot! The amazing KJ Zondo in the house\, 9pm to 1am. Come keep me busy and I will stay till you’re done! \n8005 E Roosevelt St\, Scottsdale\, AZ 85257 \n+14809454985
URL:https://www.maddhatterpro.com/event/pub-rock-live-karaoke/2027-01-05/
LOCATION:Pub Rock Live\, 8005 E Roosevelt St\, Scottsdale\, AZ\, 85257\, United States
CATEGORIES:Karaoke,KJ Zondo
ATTACH;FMTTYPE=image/jpeg:https://www.maddhatterpro.com/wp-content/uploads/2026/02/PubRock-Scottsdale.jpg
END:VEVENT
BEGIN:VEVENT
DTSTART;TZID=UTC:20270112T210000
DTEND;TZID=UTC:20270112T210000
DTSTAMP:20260423T173406
CREATED:20250703T231700Z
LAST-MODIFIED:20260206T143948Z
UID:10019970-1799787600-1799787600@www.maddhatterpro.com
SUMMARY:Pub Rock Live Karaoke
DESCRIPTION:Karaoke in South Scottsdale’s prime spot! The amazing KJ Zondo in the house\, 9pm to 1am. Come keep me busy and I will stay till you’re done! \n8005 E Roosevelt St\, Scottsdale\, AZ 85257 \n+14809454985
URL:https://www.maddhatterpro.com/event/pub-rock-live-karaoke/2027-01-12/
LOCATION:Pub Rock Live\, 8005 E Roosevelt St\, Scottsdale\, AZ\, 85257\, United States
CATEGORIES:Karaoke,KJ Zondo
ATTACH;FMTTYPE=image/jpeg:https://www.maddhatterpro.com/wp-content/uploads/2026/02/PubRock-Scottsdale.jpg
END:VEVENT
BEGIN:VEVENT
DTSTART;TZID=UTC:20270119T210000
DTEND;TZID=UTC:20270119T210000
DTSTAMP:20260423T173406
CREATED:20250703T231700Z
LAST-MODIFIED:20260206T143948Z
UID:10019971-1800392400-1800392400@www.maddhatterpro.com
SUMMARY:Pub Rock Live Karaoke
DESCRIPTION:Karaoke in South Scottsdale’s prime spot! The amazing KJ Zondo in the house\, 9pm to 1am. Come keep me busy and I will stay till you’re done! \n8005 E Roosevelt St\, Scottsdale\, AZ 85257 \n+14809454985
URL:https://www.maddhatterpro.com/event/pub-rock-live-karaoke/2027-01-19/
LOCATION:Pub Rock Live\, 8005 E Roosevelt St\, Scottsdale\, AZ\, 85257\, United States
CATEGORIES:Karaoke,KJ Zondo
ATTACH;FMTTYPE=image/jpeg:https://www.maddhatterpro.com/wp-content/uploads/2026/02/PubRock-Scottsdale.jpg
END:VEVENT
BEGIN:VEVENT
DTSTART;TZID=UTC:20270126T210000
DTEND;TZID=UTC:20270126T210000
DTSTAMP:20260423T173406
CREATED:20250703T231700Z
LAST-MODIFIED:20260206T143948Z
UID:10019972-1800997200-1800997200@www.maddhatterpro.com
SUMMARY:Pub Rock Live Karaoke
DESCRIPTION:Karaoke in South Scottsdale’s prime spot! The amazing KJ Zondo in the house\, 9pm to 1am. Come keep me busy and I will stay till you’re done! \n8005 E Roosevelt St\, Scottsdale\, AZ 85257 \n+14809454985
URL:https://www.maddhatterpro.com/event/pub-rock-live-karaoke/2027-01-26/
LOCATION:Pub Rock Live\, 8005 E Roosevelt St\, Scottsdale\, AZ\, 85257\, United States
CATEGORIES:Karaoke,KJ Zondo
ATTACH;FMTTYPE=image/jpeg:https://www.maddhatterpro.com/wp-content/uploads/2026/02/PubRock-Scottsdale.jpg
END:VEVENT
BEGIN:VEVENT
DTSTART;TZID=UTC:20270202T210000
DTEND;TZID=UTC:20270202T210000
DTSTAMP:20260423T173406
CREATED:20250703T231700Z
LAST-MODIFIED:20260206T143948Z
UID:10019973-1801602000-1801602000@www.maddhatterpro.com
SUMMARY:Pub Rock Live Karaoke
DESCRIPTION:Karaoke in South Scottsdale’s prime spot! The amazing KJ Zondo in the house\, 9pm to 1am. Come keep me busy and I will stay till you’re done! \n8005 E Roosevelt St\, Scottsdale\, AZ 85257 \n+14809454985
URL:https://www.maddhatterpro.com/event/pub-rock-live-karaoke/2027-02-02/
LOCATION:Pub Rock Live\, 8005 E Roosevelt St\, Scottsdale\, AZ\, 85257\, United States
CATEGORIES:Karaoke,KJ Zondo
ATTACH;FMTTYPE=image/jpeg:https://www.maddhatterpro.com/wp-content/uploads/2026/02/PubRock-Scottsdale.jpg
END:VEVENT
BEGIN:VEVENT
DTSTART;TZID=UTC:20270209T210000
DTEND;TZID=UTC:20270209T210000
DTSTAMP:20260423T173406
CREATED:20250703T231700Z
LAST-MODIFIED:20260206T143948Z
UID:10019974-1802206800-1802206800@www.maddhatterpro.com
SUMMARY:Pub Rock Live Karaoke
DESCRIPTION:Karaoke in South Scottsdale’s prime spot! The amazing KJ Zondo in the house\, 9pm to 1am. Come keep me busy and I will stay till you’re done! \n8005 E Roosevelt St\, Scottsdale\, AZ 85257 \n+14809454985
URL:https://www.maddhatterpro.com/event/pub-rock-live-karaoke/2027-02-09/
LOCATION:Pub Rock Live\, 8005 E Roosevelt St\, Scottsdale\, AZ\, 85257\, United States
CATEGORIES:Karaoke,KJ Zondo
ATTACH;FMTTYPE=image/jpeg:https://www.maddhatterpro.com/wp-content/uploads/2026/02/PubRock-Scottsdale.jpg
END:VEVENT
END:VCALENDAR