BEGIN:VCALENDAR
VERSION:2.0
PRODID:-//MaddHatterPro.com - ECPv6.15.20//NONSGML v1.0//EN
CALSCALE:GREGORIAN
METHOD:PUBLISH
X-WR-CALNAME:MaddHatterPro.com
X-ORIGINAL-URL:https://www.maddhatterpro.com
X-WR-CALDESC:Events for MaddHatterPro.com
REFRESH-INTERVAL;VALUE=DURATION:PT1H
X-Robots-Tag:noindex
X-PUBLISHED-TTL:PT1H
BEGIN:VTIMEZONE
TZID:UTC
BEGIN:STANDARD
TZOFFSETFROM:+0000
TZOFFSETTO:+0000
TZNAME:UTC
DTSTART:20290101T000000
END:STANDARD
END:VTIMEZONE
BEGIN:VEVENT
DTSTART;TZID=UTC:20300619T200000
DTEND;TZID=UTC:20300619T233000
DTSTAMP:20260424T224619
CREATED:20260206T145935Z
LAST-MODIFIED:20260206T145935Z
UID:10025857-1908129600-1908142200@www.maddhatterpro.com
SUMMARY:The V Spot
DESCRIPTION:Downtown Glendale’s newest night life! The V Spot joining MaddHatter Productions in karaoke! KJ Amygdala in the house making sure you have a blast. Come out to see us and sing the night away!
URL:https://www.maddhatterpro.com/event/the-v-spot/2030-06-19/
LOCATION:The V Spot\, 5601 W Glendale Ave\, Glendale\, AZ\, 85301\, United States
ATTACH;FMTTYPE=image/jpeg:https://www.maddhatterpro.com/wp-content/uploads/2026/02/The-V-Spot-Glendale.jpg
END:VEVENT
BEGIN:VEVENT
DTSTART;TZID=UTC:20300626T200000
DTEND;TZID=UTC:20300626T233000
DTSTAMP:20260424T224619
CREATED:20260206T145935Z
LAST-MODIFIED:20260206T145935Z
UID:10025858-1908734400-1908747000@www.maddhatterpro.com
SUMMARY:The V Spot
DESCRIPTION:Downtown Glendale’s newest night life! The V Spot joining MaddHatter Productions in karaoke! KJ Amygdala in the house making sure you have a blast. Come out to see us and sing the night away!
URL:https://www.maddhatterpro.com/event/the-v-spot/2030-06-26/
LOCATION:The V Spot\, 5601 W Glendale Ave\, Glendale\, AZ\, 85301\, United States
ATTACH;FMTTYPE=image/jpeg:https://www.maddhatterpro.com/wp-content/uploads/2026/02/The-V-Spot-Glendale.jpg
END:VEVENT
BEGIN:VEVENT
DTSTART;TZID=UTC:20300703T200000
DTEND;TZID=UTC:20300703T233000
DTSTAMP:20260424T224619
CREATED:20260206T145935Z
LAST-MODIFIED:20260206T145935Z
UID:10025859-1909339200-1909351800@www.maddhatterpro.com
SUMMARY:The V Spot
DESCRIPTION:Downtown Glendale’s newest night life! The V Spot joining MaddHatter Productions in karaoke! KJ Amygdala in the house making sure you have a blast. Come out to see us and sing the night away!
URL:https://www.maddhatterpro.com/event/the-v-spot/2030-07-03/
LOCATION:The V Spot\, 5601 W Glendale Ave\, Glendale\, AZ\, 85301\, United States
ATTACH;FMTTYPE=image/jpeg:https://www.maddhatterpro.com/wp-content/uploads/2026/02/The-V-Spot-Glendale.jpg
END:VEVENT
BEGIN:VEVENT
DTSTART;TZID=UTC:20300710T200000
DTEND;TZID=UTC:20300710T233000
DTSTAMP:20260424T224619
CREATED:20260206T145935Z
LAST-MODIFIED:20260206T145935Z
UID:10025860-1909944000-1909956600@www.maddhatterpro.com
SUMMARY:The V Spot
DESCRIPTION:Downtown Glendale’s newest night life! The V Spot joining MaddHatter Productions in karaoke! KJ Amygdala in the house making sure you have a blast. Come out to see us and sing the night away!
URL:https://www.maddhatterpro.com/event/the-v-spot/2030-07-10/
LOCATION:The V Spot\, 5601 W Glendale Ave\, Glendale\, AZ\, 85301\, United States
ATTACH;FMTTYPE=image/jpeg:https://www.maddhatterpro.com/wp-content/uploads/2026/02/The-V-Spot-Glendale.jpg
END:VEVENT
BEGIN:VEVENT
DTSTART;TZID=UTC:20300717T200000
DTEND;TZID=UTC:20300717T233000
DTSTAMP:20260424T224619
CREATED:20260206T145935Z
LAST-MODIFIED:20260206T145935Z
UID:10025861-1910548800-1910561400@www.maddhatterpro.com
SUMMARY:The V Spot
DESCRIPTION:Downtown Glendale’s newest night life! The V Spot joining MaddHatter Productions in karaoke! KJ Amygdala in the house making sure you have a blast. Come out to see us and sing the night away!
URL:https://www.maddhatterpro.com/event/the-v-spot/2030-07-17/
LOCATION:The V Spot\, 5601 W Glendale Ave\, Glendale\, AZ\, 85301\, United States
ATTACH;FMTTYPE=image/jpeg:https://www.maddhatterpro.com/wp-content/uploads/2026/02/The-V-Spot-Glendale.jpg
END:VEVENT
BEGIN:VEVENT
DTSTART;TZID=UTC:20300724T200000
DTEND;TZID=UTC:20300724T233000
DTSTAMP:20260424T224619
CREATED:20260206T145935Z
LAST-MODIFIED:20260206T145935Z
UID:10025862-1911153600-1911166200@www.maddhatterpro.com
SUMMARY:The V Spot
DESCRIPTION:Downtown Glendale’s newest night life! The V Spot joining MaddHatter Productions in karaoke! KJ Amygdala in the house making sure you have a blast. Come out to see us and sing the night away!
URL:https://www.maddhatterpro.com/event/the-v-spot/2030-07-24/
LOCATION:The V Spot\, 5601 W Glendale Ave\, Glendale\, AZ\, 85301\, United States
ATTACH;FMTTYPE=image/jpeg:https://www.maddhatterpro.com/wp-content/uploads/2026/02/The-V-Spot-Glendale.jpg
END:VEVENT
BEGIN:VEVENT
DTSTART;TZID=UTC:20300731T200000
DTEND;TZID=UTC:20300731T233000
DTSTAMP:20260424T224619
CREATED:20260206T145935Z
LAST-MODIFIED:20260206T145935Z
UID:10025863-1911758400-1911771000@www.maddhatterpro.com
SUMMARY:The V Spot
DESCRIPTION:Downtown Glendale’s newest night life! The V Spot joining MaddHatter Productions in karaoke! KJ Amygdala in the house making sure you have a blast. Come out to see us and sing the night away!
URL:https://www.maddhatterpro.com/event/the-v-spot/2030-07-31/
LOCATION:The V Spot\, 5601 W Glendale Ave\, Glendale\, AZ\, 85301\, United States
ATTACH;FMTTYPE=image/jpeg:https://www.maddhatterpro.com/wp-content/uploads/2026/02/The-V-Spot-Glendale.jpg
END:VEVENT
BEGIN:VEVENT
DTSTART;TZID=UTC:20300807T200000
DTEND;TZID=UTC:20300807T233000
DTSTAMP:20260424T224619
CREATED:20260206T145935Z
LAST-MODIFIED:20260206T145935Z
UID:10025864-1912363200-1912375800@www.maddhatterpro.com
SUMMARY:The V Spot
DESCRIPTION:Downtown Glendale’s newest night life! The V Spot joining MaddHatter Productions in karaoke! KJ Amygdala in the house making sure you have a blast. Come out to see us and sing the night away!
URL:https://www.maddhatterpro.com/event/the-v-spot/2030-08-07/
LOCATION:The V Spot\, 5601 W Glendale Ave\, Glendale\, AZ\, 85301\, United States
ATTACH;FMTTYPE=image/jpeg:https://www.maddhatterpro.com/wp-content/uploads/2026/02/The-V-Spot-Glendale.jpg
END:VEVENT
BEGIN:VEVENT
DTSTART;TZID=UTC:20300814T200000
DTEND;TZID=UTC:20300814T233000
DTSTAMP:20260424T224619
CREATED:20260206T145935Z
LAST-MODIFIED:20260206T145935Z
UID:10025865-1912968000-1912980600@www.maddhatterpro.com
SUMMARY:The V Spot
DESCRIPTION:Downtown Glendale’s newest night life! The V Spot joining MaddHatter Productions in karaoke! KJ Amygdala in the house making sure you have a blast. Come out to see us and sing the night away!
URL:https://www.maddhatterpro.com/event/the-v-spot/2030-08-14/
LOCATION:The V Spot\, 5601 W Glendale Ave\, Glendale\, AZ\, 85301\, United States
ATTACH;FMTTYPE=image/jpeg:https://www.maddhatterpro.com/wp-content/uploads/2026/02/The-V-Spot-Glendale.jpg
END:VEVENT
BEGIN:VEVENT
DTSTART;TZID=UTC:20300821T200000
DTEND;TZID=UTC:20300821T233000
DTSTAMP:20260424T224619
CREATED:20260206T145935Z
LAST-MODIFIED:20260206T145935Z
UID:10025866-1913572800-1913585400@www.maddhatterpro.com
SUMMARY:The V Spot
DESCRIPTION:Downtown Glendale’s newest night life! The V Spot joining MaddHatter Productions in karaoke! KJ Amygdala in the house making sure you have a blast. Come out to see us and sing the night away!
URL:https://www.maddhatterpro.com/event/the-v-spot/2030-08-21/
LOCATION:The V Spot\, 5601 W Glendale Ave\, Glendale\, AZ\, 85301\, United States
ATTACH;FMTTYPE=image/jpeg:https://www.maddhatterpro.com/wp-content/uploads/2026/02/The-V-Spot-Glendale.jpg
END:VEVENT
BEGIN:VEVENT
DTSTART;TZID=UTC:20300828T200000
DTEND;TZID=UTC:20300828T233000
DTSTAMP:20260424T224619
CREATED:20260206T145935Z
LAST-MODIFIED:20260206T145935Z
UID:10025867-1914177600-1914190200@www.maddhatterpro.com
SUMMARY:The V Spot
DESCRIPTION:Downtown Glendale’s newest night life! The V Spot joining MaddHatter Productions in karaoke! KJ Amygdala in the house making sure you have a blast. Come out to see us and sing the night away!
URL:https://www.maddhatterpro.com/event/the-v-spot/2030-08-28/
LOCATION:The V Spot\, 5601 W Glendale Ave\, Glendale\, AZ\, 85301\, United States
ATTACH;FMTTYPE=image/jpeg:https://www.maddhatterpro.com/wp-content/uploads/2026/02/The-V-Spot-Glendale.jpg
END:VEVENT
BEGIN:VEVENT
DTSTART;TZID=UTC:20300904T200000
DTEND;TZID=UTC:20300904T233000
DTSTAMP:20260424T224619
CREATED:20260206T145935Z
LAST-MODIFIED:20260206T145935Z
UID:10025868-1914782400-1914795000@www.maddhatterpro.com
SUMMARY:The V Spot
DESCRIPTION:Downtown Glendale’s newest night life! The V Spot joining MaddHatter Productions in karaoke! KJ Amygdala in the house making sure you have a blast. Come out to see us and sing the night away!
URL:https://www.maddhatterpro.com/event/the-v-spot/2030-09-04/
LOCATION:The V Spot\, 5601 W Glendale Ave\, Glendale\, AZ\, 85301\, United States
ATTACH;FMTTYPE=image/jpeg:https://www.maddhatterpro.com/wp-content/uploads/2026/02/The-V-Spot-Glendale.jpg
END:VEVENT
BEGIN:VEVENT
DTSTART;TZID=UTC:20300911T200000
DTEND;TZID=UTC:20300911T233000
DTSTAMP:20260424T224619
CREATED:20260206T145935Z
LAST-MODIFIED:20260206T145935Z
UID:10025869-1915387200-1915399800@www.maddhatterpro.com
SUMMARY:The V Spot
DESCRIPTION:Downtown Glendale’s newest night life! The V Spot joining MaddHatter Productions in karaoke! KJ Amygdala in the house making sure you have a blast. Come out to see us and sing the night away!
URL:https://www.maddhatterpro.com/event/the-v-spot/2030-09-11/
LOCATION:The V Spot\, 5601 W Glendale Ave\, Glendale\, AZ\, 85301\, United States
ATTACH;FMTTYPE=image/jpeg:https://www.maddhatterpro.com/wp-content/uploads/2026/02/The-V-Spot-Glendale.jpg
END:VEVENT
BEGIN:VEVENT
DTSTART;TZID=UTC:20300918T200000
DTEND;TZID=UTC:20300918T233000
DTSTAMP:20260424T224619
CREATED:20260206T145935Z
LAST-MODIFIED:20260206T145935Z
UID:10025870-1915992000-1916004600@www.maddhatterpro.com
SUMMARY:The V Spot
DESCRIPTION:Downtown Glendale’s newest night life! The V Spot joining MaddHatter Productions in karaoke! KJ Amygdala in the house making sure you have a blast. Come out to see us and sing the night away!
URL:https://www.maddhatterpro.com/event/the-v-spot/2030-09-18/
LOCATION:The V Spot\, 5601 W Glendale Ave\, Glendale\, AZ\, 85301\, United States
ATTACH;FMTTYPE=image/jpeg:https://www.maddhatterpro.com/wp-content/uploads/2026/02/The-V-Spot-Glendale.jpg
END:VEVENT
BEGIN:VEVENT
DTSTART;TZID=UTC:20300925T200000
DTEND;TZID=UTC:20300925T233000
DTSTAMP:20260424T224619
CREATED:20260206T145935Z
LAST-MODIFIED:20260206T145935Z
UID:10025871-1916596800-1916609400@www.maddhatterpro.com
SUMMARY:The V Spot
DESCRIPTION:Downtown Glendale’s newest night life! The V Spot joining MaddHatter Productions in karaoke! KJ Amygdala in the house making sure you have a blast. Come out to see us and sing the night away!
URL:https://www.maddhatterpro.com/event/the-v-spot/2030-09-25/
LOCATION:The V Spot\, 5601 W Glendale Ave\, Glendale\, AZ\, 85301\, United States
ATTACH;FMTTYPE=image/jpeg:https://www.maddhatterpro.com/wp-content/uploads/2026/02/The-V-Spot-Glendale.jpg
END:VEVENT
BEGIN:VEVENT
DTSTART;TZID=UTC:20301002T200000
DTEND;TZID=UTC:20301002T233000
DTSTAMP:20260424T224619
CREATED:20260206T145935Z
LAST-MODIFIED:20260206T145935Z
UID:10025872-1917201600-1917214200@www.maddhatterpro.com
SUMMARY:The V Spot
DESCRIPTION:Downtown Glendale’s newest night life! The V Spot joining MaddHatter Productions in karaoke! KJ Amygdala in the house making sure you have a blast. Come out to see us and sing the night away!
URL:https://www.maddhatterpro.com/event/the-v-spot/2030-10-02/
LOCATION:The V Spot\, 5601 W Glendale Ave\, Glendale\, AZ\, 85301\, United States
ATTACH;FMTTYPE=image/jpeg:https://www.maddhatterpro.com/wp-content/uploads/2026/02/The-V-Spot-Glendale.jpg
END:VEVENT
BEGIN:VEVENT
DTSTART;TZID=UTC:20301009T200000
DTEND;TZID=UTC:20301009T233000
DTSTAMP:20260424T224619
CREATED:20260206T145935Z
LAST-MODIFIED:20260206T145935Z
UID:10025873-1917806400-1917819000@www.maddhatterpro.com
SUMMARY:The V Spot
DESCRIPTION:Downtown Glendale’s newest night life! The V Spot joining MaddHatter Productions in karaoke! KJ Amygdala in the house making sure you have a blast. Come out to see us and sing the night away!
URL:https://www.maddhatterpro.com/event/the-v-spot/2030-10-09/
LOCATION:The V Spot\, 5601 W Glendale Ave\, Glendale\, AZ\, 85301\, United States
ATTACH;FMTTYPE=image/jpeg:https://www.maddhatterpro.com/wp-content/uploads/2026/02/The-V-Spot-Glendale.jpg
END:VEVENT
BEGIN:VEVENT
DTSTART;TZID=UTC:20301016T200000
DTEND;TZID=UTC:20301016T233000
DTSTAMP:20260424T224619
CREATED:20260206T145935Z
LAST-MODIFIED:20260206T145935Z
UID:10025874-1918411200-1918423800@www.maddhatterpro.com
SUMMARY:The V Spot
DESCRIPTION:Downtown Glendale’s newest night life! The V Spot joining MaddHatter Productions in karaoke! KJ Amygdala in the house making sure you have a blast. Come out to see us and sing the night away!
URL:https://www.maddhatterpro.com/event/the-v-spot/2030-10-16/
LOCATION:The V Spot\, 5601 W Glendale Ave\, Glendale\, AZ\, 85301\, United States
ATTACH;FMTTYPE=image/jpeg:https://www.maddhatterpro.com/wp-content/uploads/2026/02/The-V-Spot-Glendale.jpg
END:VEVENT
BEGIN:VEVENT
DTSTART;TZID=UTC:20301023T200000
DTEND;TZID=UTC:20301023T233000
DTSTAMP:20260424T224619
CREATED:20260206T145935Z
LAST-MODIFIED:20260206T145935Z
UID:10025875-1919016000-1919028600@www.maddhatterpro.com
SUMMARY:The V Spot
DESCRIPTION:Downtown Glendale’s newest night life! The V Spot joining MaddHatter Productions in karaoke! KJ Amygdala in the house making sure you have a blast. Come out to see us and sing the night away!
URL:https://www.maddhatterpro.com/event/the-v-spot/2030-10-23/
LOCATION:The V Spot\, 5601 W Glendale Ave\, Glendale\, AZ\, 85301\, United States
ATTACH;FMTTYPE=image/jpeg:https://www.maddhatterpro.com/wp-content/uploads/2026/02/The-V-Spot-Glendale.jpg
END:VEVENT
BEGIN:VEVENT
DTSTART;TZID=UTC:20301030T200000
DTEND;TZID=UTC:20301030T233000
DTSTAMP:20260424T224619
CREATED:20260206T145935Z
LAST-MODIFIED:20260206T145935Z
UID:10025876-1919620800-1919633400@www.maddhatterpro.com
SUMMARY:The V Spot
DESCRIPTION:Downtown Glendale’s newest night life! The V Spot joining MaddHatter Productions in karaoke! KJ Amygdala in the house making sure you have a blast. Come out to see us and sing the night away!
URL:https://www.maddhatterpro.com/event/the-v-spot/2030-10-30/
LOCATION:The V Spot\, 5601 W Glendale Ave\, Glendale\, AZ\, 85301\, United States
ATTACH;FMTTYPE=image/jpeg:https://www.maddhatterpro.com/wp-content/uploads/2026/02/The-V-Spot-Glendale.jpg
END:VEVENT
BEGIN:VEVENT
DTSTART;TZID=UTC:20301106T200000
DTEND;TZID=UTC:20301106T233000
DTSTAMP:20260424T224619
CREATED:20260206T145935Z
LAST-MODIFIED:20260206T145935Z
UID:10025877-1920225600-1920238200@www.maddhatterpro.com
SUMMARY:The V Spot
DESCRIPTION:Downtown Glendale’s newest night life! The V Spot joining MaddHatter Productions in karaoke! KJ Amygdala in the house making sure you have a blast. Come out to see us and sing the night away!
URL:https://www.maddhatterpro.com/event/the-v-spot/2030-11-06/
LOCATION:The V Spot\, 5601 W Glendale Ave\, Glendale\, AZ\, 85301\, United States
ATTACH;FMTTYPE=image/jpeg:https://www.maddhatterpro.com/wp-content/uploads/2026/02/The-V-Spot-Glendale.jpg
END:VEVENT
BEGIN:VEVENT
DTSTART;TZID=UTC:20301113T200000
DTEND;TZID=UTC:20301113T233000
DTSTAMP:20260424T224619
CREATED:20260206T145935Z
LAST-MODIFIED:20260206T145935Z
UID:10025878-1920830400-1920843000@www.maddhatterpro.com
SUMMARY:The V Spot
DESCRIPTION:Downtown Glendale’s newest night life! The V Spot joining MaddHatter Productions in karaoke! KJ Amygdala in the house making sure you have a blast. Come out to see us and sing the night away!
URL:https://www.maddhatterpro.com/event/the-v-spot/2030-11-13/
LOCATION:The V Spot\, 5601 W Glendale Ave\, Glendale\, AZ\, 85301\, United States
ATTACH;FMTTYPE=image/jpeg:https://www.maddhatterpro.com/wp-content/uploads/2026/02/The-V-Spot-Glendale.jpg
END:VEVENT
BEGIN:VEVENT
DTSTART;TZID=UTC:20301120T200000
DTEND;TZID=UTC:20301120T233000
DTSTAMP:20260424T224619
CREATED:20260206T145935Z
LAST-MODIFIED:20260206T145935Z
UID:10025879-1921435200-1921447800@www.maddhatterpro.com
SUMMARY:The V Spot
DESCRIPTION:Downtown Glendale’s newest night life! The V Spot joining MaddHatter Productions in karaoke! KJ Amygdala in the house making sure you have a blast. Come out to see us and sing the night away!
URL:https://www.maddhatterpro.com/event/the-v-spot/2030-11-20/
LOCATION:The V Spot\, 5601 W Glendale Ave\, Glendale\, AZ\, 85301\, United States
ATTACH;FMTTYPE=image/jpeg:https://www.maddhatterpro.com/wp-content/uploads/2026/02/The-V-Spot-Glendale.jpg
END:VEVENT
BEGIN:VEVENT
DTSTART;TZID=UTC:20301127T200000
DTEND;TZID=UTC:20301127T233000
DTSTAMP:20260424T224619
CREATED:20260206T145935Z
LAST-MODIFIED:20260206T145935Z
UID:10025880-1922040000-1922052600@www.maddhatterpro.com
SUMMARY:The V Spot
DESCRIPTION:Downtown Glendale’s newest night life! The V Spot joining MaddHatter Productions in karaoke! KJ Amygdala in the house making sure you have a blast. Come out to see us and sing the night away!
URL:https://www.maddhatterpro.com/event/the-v-spot/2030-11-27/
LOCATION:The V Spot\, 5601 W Glendale Ave\, Glendale\, AZ\, 85301\, United States
ATTACH;FMTTYPE=image/jpeg:https://www.maddhatterpro.com/wp-content/uploads/2026/02/The-V-Spot-Glendale.jpg
END:VEVENT
BEGIN:VEVENT
DTSTART;TZID=UTC:20301204T200000
DTEND;TZID=UTC:20301204T233000
DTSTAMP:20260424T224619
CREATED:20260206T145935Z
LAST-MODIFIED:20260206T145935Z
UID:10025881-1922644800-1922657400@www.maddhatterpro.com
SUMMARY:The V Spot
DESCRIPTION:Downtown Glendale’s newest night life! The V Spot joining MaddHatter Productions in karaoke! KJ Amygdala in the house making sure you have a blast. Come out to see us and sing the night away!
URL:https://www.maddhatterpro.com/event/the-v-spot/2030-12-04/
LOCATION:The V Spot\, 5601 W Glendale Ave\, Glendale\, AZ\, 85301\, United States
ATTACH;FMTTYPE=image/jpeg:https://www.maddhatterpro.com/wp-content/uploads/2026/02/The-V-Spot-Glendale.jpg
END:VEVENT
BEGIN:VEVENT
DTSTART;TZID=UTC:20301211T200000
DTEND;TZID=UTC:20301211T233000
DTSTAMP:20260424T224619
CREATED:20260206T145935Z
LAST-MODIFIED:20260206T145935Z
UID:10025882-1923249600-1923262200@www.maddhatterpro.com
SUMMARY:The V Spot
DESCRIPTION:Downtown Glendale’s newest night life! The V Spot joining MaddHatter Productions in karaoke! KJ Amygdala in the house making sure you have a blast. Come out to see us and sing the night away!
URL:https://www.maddhatterpro.com/event/the-v-spot/2030-12-11/
LOCATION:The V Spot\, 5601 W Glendale Ave\, Glendale\, AZ\, 85301\, United States
ATTACH;FMTTYPE=image/jpeg:https://www.maddhatterpro.com/wp-content/uploads/2026/02/The-V-Spot-Glendale.jpg
END:VEVENT
BEGIN:VEVENT
DTSTART;TZID=UTC:20301218T200000
DTEND;TZID=UTC:20301218T233000
DTSTAMP:20260424T224619
CREATED:20260206T145935Z
LAST-MODIFIED:20260206T145935Z
UID:10025883-1923854400-1923867000@www.maddhatterpro.com
SUMMARY:The V Spot
DESCRIPTION:Downtown Glendale’s newest night life! The V Spot joining MaddHatter Productions in karaoke! KJ Amygdala in the house making sure you have a blast. Come out to see us and sing the night away!
URL:https://www.maddhatterpro.com/event/the-v-spot/2030-12-18/
LOCATION:The V Spot\, 5601 W Glendale Ave\, Glendale\, AZ\, 85301\, United States
ATTACH;FMTTYPE=image/jpeg:https://www.maddhatterpro.com/wp-content/uploads/2026/02/The-V-Spot-Glendale.jpg
END:VEVENT
BEGIN:VEVENT
DTSTART;TZID=UTC:20301225T200000
DTEND;TZID=UTC:20301225T233000
DTSTAMP:20260424T224619
CREATED:20260206T145935Z
LAST-MODIFIED:20260206T145935Z
UID:10025884-1924459200-1924471800@www.maddhatterpro.com
SUMMARY:The V Spot
DESCRIPTION:Downtown Glendale’s newest night life! The V Spot joining MaddHatter Productions in karaoke! KJ Amygdala in the house making sure you have a blast. Come out to see us and sing the night away!
URL:https://www.maddhatterpro.com/event/the-v-spot/2030-12-25/
LOCATION:The V Spot\, 5601 W Glendale Ave\, Glendale\, AZ\, 85301\, United States
ATTACH;FMTTYPE=image/jpeg:https://www.maddhatterpro.com/wp-content/uploads/2026/02/The-V-Spot-Glendale.jpg
END:VEVENT
BEGIN:VEVENT
DTSTART;TZID=UTC:20310101T200000
DTEND;TZID=UTC:20310101T233000
DTSTAMP:20260424T224619
CREATED:20260206T145935Z
LAST-MODIFIED:20260206T145935Z
UID:10025885-1925064000-1925076600@www.maddhatterpro.com
SUMMARY:The V Spot
DESCRIPTION:Downtown Glendale’s newest night life! The V Spot joining MaddHatter Productions in karaoke! KJ Amygdala in the house making sure you have a blast. Come out to see us and sing the night away!
URL:https://www.maddhatterpro.com/event/the-v-spot/2031-01-01/
LOCATION:The V Spot\, 5601 W Glendale Ave\, Glendale\, AZ\, 85301\, United States
ATTACH;FMTTYPE=image/jpeg:https://www.maddhatterpro.com/wp-content/uploads/2026/02/The-V-Spot-Glendale.jpg
END:VEVENT
BEGIN:VEVENT
DTSTART;TZID=UTC:20310108T200000
DTEND;TZID=UTC:20310108T233000
DTSTAMP:20260424T224619
CREATED:20260206T145935Z
LAST-MODIFIED:20260206T145935Z
UID:10025886-1925668800-1925681400@www.maddhatterpro.com
SUMMARY:The V Spot
DESCRIPTION:Downtown Glendale’s newest night life! The V Spot joining MaddHatter Productions in karaoke! KJ Amygdala in the house making sure you have a blast. Come out to see us and sing the night away!
URL:https://www.maddhatterpro.com/event/the-v-spot/2031-01-08/
LOCATION:The V Spot\, 5601 W Glendale Ave\, Glendale\, AZ\, 85301\, United States
ATTACH;FMTTYPE=image/jpeg:https://www.maddhatterpro.com/wp-content/uploads/2026/02/The-V-Spot-Glendale.jpg
END:VEVENT
END:VCALENDAR