BEGIN:VCALENDAR
VERSION:2.0
PRODID:-//MaddHatterPro.com - ECPv6.15.20//NONSGML v1.0//EN
CALSCALE:GREGORIAN
METHOD:PUBLISH
X-WR-CALNAME:MaddHatterPro.com
X-ORIGINAL-URL:https://www.maddhatterpro.com
X-WR-CALDESC:Events for MaddHatterPro.com
REFRESH-INTERVAL;VALUE=DURATION:PT1H
X-Robots-Tag:noindex
X-PUBLISHED-TTL:PT1H
BEGIN:VTIMEZONE
TZID:UTC
BEGIN:STANDARD
TZOFFSETFROM:+0000
TZOFFSETTO:+0000
TZNAME:UTC
DTSTART:20290101T000000
END:STANDARD
END:VTIMEZONE
BEGIN:VEVENT
DTSTART;TZID=UTC:20300618T200000
DTEND;TZID=UTC:20300618T200000
DTSTAMP:20260424T200159
CREATED:20250703T234609Z
LAST-MODIFIED:20260206T143724Z
UID:10021194-1908043200-1908043200@www.maddhatterpro.com
SUMMARY:Spokes on Southern Karaoke
DESCRIPTION:Great food\, great community oriented staff\, and stars like you make this  show a blast for the lovely KJ Wilde! Come sing the evening away 8pm-midnight. \n1470 E Southern Ave\, Tempe\, AZ 85282 \n+14803079920
URL:https://www.maddhatterpro.com/event/spokes-on-southern-karaoke/2030-06-18/
LOCATION:Spokes on Southern\, 1470 E Southern Ave\, Tempe\, AZ\, 85282\, United States
CATEGORIES:Karaoke,KJ Wilde
ATTACH;FMTTYPE=image/jpeg:https://www.maddhatterpro.com/wp-content/uploads/2026/02/spokes-tempe.jpg
END:VEVENT
BEGIN:VEVENT
DTSTART;TZID=UTC:20300625T200000
DTEND;TZID=UTC:20300625T200000
DTSTAMP:20260424T200159
CREATED:20250703T234609Z
LAST-MODIFIED:20260206T143724Z
UID:10021195-1908648000-1908648000@www.maddhatterpro.com
SUMMARY:Spokes on Southern Karaoke
DESCRIPTION:Great food\, great community oriented staff\, and stars like you make this  show a blast for the lovely KJ Wilde! Come sing the evening away 8pm-midnight. \n1470 E Southern Ave\, Tempe\, AZ 85282 \n+14803079920
URL:https://www.maddhatterpro.com/event/spokes-on-southern-karaoke/2030-06-25/
LOCATION:Spokes on Southern\, 1470 E Southern Ave\, Tempe\, AZ\, 85282\, United States
CATEGORIES:Karaoke,KJ Wilde
ATTACH;FMTTYPE=image/jpeg:https://www.maddhatterpro.com/wp-content/uploads/2026/02/spokes-tempe.jpg
END:VEVENT
BEGIN:VEVENT
DTSTART;TZID=UTC:20300702T200000
DTEND;TZID=UTC:20300702T200000
DTSTAMP:20260424T200159
CREATED:20250703T234609Z
LAST-MODIFIED:20260206T143724Z
UID:10021196-1909252800-1909252800@www.maddhatterpro.com
SUMMARY:Spokes on Southern Karaoke
DESCRIPTION:Great food\, great community oriented staff\, and stars like you make this  show a blast for the lovely KJ Wilde! Come sing the evening away 8pm-midnight. \n1470 E Southern Ave\, Tempe\, AZ 85282 \n+14803079920
URL:https://www.maddhatterpro.com/event/spokes-on-southern-karaoke/2030-07-02/
LOCATION:Spokes on Southern\, 1470 E Southern Ave\, Tempe\, AZ\, 85282\, United States
CATEGORIES:Karaoke,KJ Wilde
ATTACH;FMTTYPE=image/jpeg:https://www.maddhatterpro.com/wp-content/uploads/2026/02/spokes-tempe.jpg
END:VEVENT
BEGIN:VEVENT
DTSTART;TZID=UTC:20300709T200000
DTEND;TZID=UTC:20300709T200000
DTSTAMP:20260424T200159
CREATED:20250703T234609Z
LAST-MODIFIED:20260206T143724Z
UID:10024607-1909857600-1909857600@www.maddhatterpro.com
SUMMARY:Spokes on Southern Karaoke
DESCRIPTION:Great food\, great community oriented staff\, and stars like you make this  show a blast for the lovely KJ Wilde! Come sing the evening away 8pm-midnight. \n1470 E Southern Ave\, Tempe\, AZ 85282 \n+14803079920
URL:https://www.maddhatterpro.com/event/spokes-on-southern-karaoke/2030-07-09/
LOCATION:Spokes on Southern\, 1470 E Southern Ave\, Tempe\, AZ\, 85282\, United States
CATEGORIES:Karaoke,KJ Wilde
ATTACH;FMTTYPE=image/jpeg:https://www.maddhatterpro.com/wp-content/uploads/2026/02/spokes-tempe.jpg
END:VEVENT
BEGIN:VEVENT
DTSTART;TZID=UTC:20300716T200000
DTEND;TZID=UTC:20300716T200000
DTSTAMP:20260424T200159
CREATED:20250703T234609Z
LAST-MODIFIED:20260206T143724Z
UID:10024608-1910462400-1910462400@www.maddhatterpro.com
SUMMARY:Spokes on Southern Karaoke
DESCRIPTION:Great food\, great community oriented staff\, and stars like you make this  show a blast for the lovely KJ Wilde! Come sing the evening away 8pm-midnight. \n1470 E Southern Ave\, Tempe\, AZ 85282 \n+14803079920
URL:https://www.maddhatterpro.com/event/spokes-on-southern-karaoke/2030-07-16/
LOCATION:Spokes on Southern\, 1470 E Southern Ave\, Tempe\, AZ\, 85282\, United States
CATEGORIES:Karaoke,KJ Wilde
ATTACH;FMTTYPE=image/jpeg:https://www.maddhatterpro.com/wp-content/uploads/2026/02/spokes-tempe.jpg
END:VEVENT
BEGIN:VEVENT
DTSTART;TZID=UTC:20300723T200000
DTEND;TZID=UTC:20300723T200000
DTSTAMP:20260424T200159
CREATED:20250703T234609Z
LAST-MODIFIED:20260206T143724Z
UID:10024609-1911067200-1911067200@www.maddhatterpro.com
SUMMARY:Spokes on Southern Karaoke
DESCRIPTION:Great food\, great community oriented staff\, and stars like you make this  show a blast for the lovely KJ Wilde! Come sing the evening away 8pm-midnight. \n1470 E Southern Ave\, Tempe\, AZ 85282 \n+14803079920
URL:https://www.maddhatterpro.com/event/spokes-on-southern-karaoke/2030-07-23/
LOCATION:Spokes on Southern\, 1470 E Southern Ave\, Tempe\, AZ\, 85282\, United States
CATEGORIES:Karaoke,KJ Wilde
ATTACH;FMTTYPE=image/jpeg:https://www.maddhatterpro.com/wp-content/uploads/2026/02/spokes-tempe.jpg
END:VEVENT
BEGIN:VEVENT
DTSTART;TZID=UTC:20300730T200000
DTEND;TZID=UTC:20300730T200000
DTSTAMP:20260424T200159
CREATED:20250703T234609Z
LAST-MODIFIED:20260206T143724Z
UID:10024610-1911672000-1911672000@www.maddhatterpro.com
SUMMARY:Spokes on Southern Karaoke
DESCRIPTION:Great food\, great community oriented staff\, and stars like you make this  show a blast for the lovely KJ Wilde! Come sing the evening away 8pm-midnight. \n1470 E Southern Ave\, Tempe\, AZ 85282 \n+14803079920
URL:https://www.maddhatterpro.com/event/spokes-on-southern-karaoke/2030-07-30/
LOCATION:Spokes on Southern\, 1470 E Southern Ave\, Tempe\, AZ\, 85282\, United States
CATEGORIES:Karaoke,KJ Wilde
ATTACH;FMTTYPE=image/jpeg:https://www.maddhatterpro.com/wp-content/uploads/2026/02/spokes-tempe.jpg
END:VEVENT
BEGIN:VEVENT
DTSTART;TZID=UTC:20300806T200000
DTEND;TZID=UTC:20300806T200000
DTSTAMP:20260424T200159
CREATED:20250703T234609Z
LAST-MODIFIED:20260206T143724Z
UID:10024611-1912276800-1912276800@www.maddhatterpro.com
SUMMARY:Spokes on Southern Karaoke
DESCRIPTION:Great food\, great community oriented staff\, and stars like you make this  show a blast for the lovely KJ Wilde! Come sing the evening away 8pm-midnight. \n1470 E Southern Ave\, Tempe\, AZ 85282 \n+14803079920
URL:https://www.maddhatterpro.com/event/spokes-on-southern-karaoke/2030-08-06/
LOCATION:Spokes on Southern\, 1470 E Southern Ave\, Tempe\, AZ\, 85282\, United States
CATEGORIES:Karaoke,KJ Wilde
ATTACH;FMTTYPE=image/jpeg:https://www.maddhatterpro.com/wp-content/uploads/2026/02/spokes-tempe.jpg
END:VEVENT
BEGIN:VEVENT
DTSTART;TZID=UTC:20300813T200000
DTEND;TZID=UTC:20300813T200000
DTSTAMP:20260424T200159
CREATED:20250703T234609Z
LAST-MODIFIED:20260206T143724Z
UID:10024612-1912881600-1912881600@www.maddhatterpro.com
SUMMARY:Spokes on Southern Karaoke
DESCRIPTION:Great food\, great community oriented staff\, and stars like you make this  show a blast for the lovely KJ Wilde! Come sing the evening away 8pm-midnight. \n1470 E Southern Ave\, Tempe\, AZ 85282 \n+14803079920
URL:https://www.maddhatterpro.com/event/spokes-on-southern-karaoke/2030-08-13/
LOCATION:Spokes on Southern\, 1470 E Southern Ave\, Tempe\, AZ\, 85282\, United States
CATEGORIES:Karaoke,KJ Wilde
ATTACH;FMTTYPE=image/jpeg:https://www.maddhatterpro.com/wp-content/uploads/2026/02/spokes-tempe.jpg
END:VEVENT
BEGIN:VEVENT
DTSTART;TZID=UTC:20300820T200000
DTEND;TZID=UTC:20300820T200000
DTSTAMP:20260424T200159
CREATED:20250703T234609Z
LAST-MODIFIED:20260206T143724Z
UID:10024613-1913486400-1913486400@www.maddhatterpro.com
SUMMARY:Spokes on Southern Karaoke
DESCRIPTION:Great food\, great community oriented staff\, and stars like you make this  show a blast for the lovely KJ Wilde! Come sing the evening away 8pm-midnight. \n1470 E Southern Ave\, Tempe\, AZ 85282 \n+14803079920
URL:https://www.maddhatterpro.com/event/spokes-on-southern-karaoke/2030-08-20/
LOCATION:Spokes on Southern\, 1470 E Southern Ave\, Tempe\, AZ\, 85282\, United States
CATEGORIES:Karaoke,KJ Wilde
ATTACH;FMTTYPE=image/jpeg:https://www.maddhatterpro.com/wp-content/uploads/2026/02/spokes-tempe.jpg
END:VEVENT
BEGIN:VEVENT
DTSTART;TZID=UTC:20300827T200000
DTEND;TZID=UTC:20300827T200000
DTSTAMP:20260424T200159
CREATED:20250703T234609Z
LAST-MODIFIED:20260206T143724Z
UID:10024614-1914091200-1914091200@www.maddhatterpro.com
SUMMARY:Spokes on Southern Karaoke
DESCRIPTION:Great food\, great community oriented staff\, and stars like you make this  show a blast for the lovely KJ Wilde! Come sing the evening away 8pm-midnight. \n1470 E Southern Ave\, Tempe\, AZ 85282 \n+14803079920
URL:https://www.maddhatterpro.com/event/spokes-on-southern-karaoke/2030-08-27/
LOCATION:Spokes on Southern\, 1470 E Southern Ave\, Tempe\, AZ\, 85282\, United States
CATEGORIES:Karaoke,KJ Wilde
ATTACH;FMTTYPE=image/jpeg:https://www.maddhatterpro.com/wp-content/uploads/2026/02/spokes-tempe.jpg
END:VEVENT
BEGIN:VEVENT
DTSTART;TZID=UTC:20300903T200000
DTEND;TZID=UTC:20300903T200000
DTSTAMP:20260424T200159
CREATED:20250703T234609Z
LAST-MODIFIED:20260206T143724Z
UID:10024615-1914696000-1914696000@www.maddhatterpro.com
SUMMARY:Spokes on Southern Karaoke
DESCRIPTION:Great food\, great community oriented staff\, and stars like you make this  show a blast for the lovely KJ Wilde! Come sing the evening away 8pm-midnight. \n1470 E Southern Ave\, Tempe\, AZ 85282 \n+14803079920
URL:https://www.maddhatterpro.com/event/spokes-on-southern-karaoke/2030-09-03/
LOCATION:Spokes on Southern\, 1470 E Southern Ave\, Tempe\, AZ\, 85282\, United States
CATEGORIES:Karaoke,KJ Wilde
ATTACH;FMTTYPE=image/jpeg:https://www.maddhatterpro.com/wp-content/uploads/2026/02/spokes-tempe.jpg
END:VEVENT
BEGIN:VEVENT
DTSTART;TZID=UTC:20300910T200000
DTEND;TZID=UTC:20300910T200000
DTSTAMP:20260424T200159
CREATED:20250703T234609Z
LAST-MODIFIED:20260206T143724Z
UID:10024616-1915300800-1915300800@www.maddhatterpro.com
SUMMARY:Spokes on Southern Karaoke
DESCRIPTION:Great food\, great community oriented staff\, and stars like you make this  show a blast for the lovely KJ Wilde! Come sing the evening away 8pm-midnight. \n1470 E Southern Ave\, Tempe\, AZ 85282 \n+14803079920
URL:https://www.maddhatterpro.com/event/spokes-on-southern-karaoke/2030-09-10/
LOCATION:Spokes on Southern\, 1470 E Southern Ave\, Tempe\, AZ\, 85282\, United States
CATEGORIES:Karaoke,KJ Wilde
ATTACH;FMTTYPE=image/jpeg:https://www.maddhatterpro.com/wp-content/uploads/2026/02/spokes-tempe.jpg
END:VEVENT
BEGIN:VEVENT
DTSTART;TZID=UTC:20300917T200000
DTEND;TZID=UTC:20300917T200000
DTSTAMP:20260424T200159
CREATED:20250703T234609Z
LAST-MODIFIED:20260206T143724Z
UID:10024617-1915905600-1915905600@www.maddhatterpro.com
SUMMARY:Spokes on Southern Karaoke
DESCRIPTION:Great food\, great community oriented staff\, and stars like you make this  show a blast for the lovely KJ Wilde! Come sing the evening away 8pm-midnight. \n1470 E Southern Ave\, Tempe\, AZ 85282 \n+14803079920
URL:https://www.maddhatterpro.com/event/spokes-on-southern-karaoke/2030-09-17/
LOCATION:Spokes on Southern\, 1470 E Southern Ave\, Tempe\, AZ\, 85282\, United States
CATEGORIES:Karaoke,KJ Wilde
ATTACH;FMTTYPE=image/jpeg:https://www.maddhatterpro.com/wp-content/uploads/2026/02/spokes-tempe.jpg
END:VEVENT
BEGIN:VEVENT
DTSTART;TZID=UTC:20300924T200000
DTEND;TZID=UTC:20300924T200000
DTSTAMP:20260424T200159
CREATED:20250703T234609Z
LAST-MODIFIED:20260206T143724Z
UID:10024618-1916510400-1916510400@www.maddhatterpro.com
SUMMARY:Spokes on Southern Karaoke
DESCRIPTION:Great food\, great community oriented staff\, and stars like you make this  show a blast for the lovely KJ Wilde! Come sing the evening away 8pm-midnight. \n1470 E Southern Ave\, Tempe\, AZ 85282 \n+14803079920
URL:https://www.maddhatterpro.com/event/spokes-on-southern-karaoke/2030-09-24/
LOCATION:Spokes on Southern\, 1470 E Southern Ave\, Tempe\, AZ\, 85282\, United States
CATEGORIES:Karaoke,KJ Wilde
ATTACH;FMTTYPE=image/jpeg:https://www.maddhatterpro.com/wp-content/uploads/2026/02/spokes-tempe.jpg
END:VEVENT
BEGIN:VEVENT
DTSTART;TZID=UTC:20301001T200000
DTEND;TZID=UTC:20301001T200000
DTSTAMP:20260424T200159
CREATED:20250703T234609Z
LAST-MODIFIED:20260206T143724Z
UID:10024619-1917115200-1917115200@www.maddhatterpro.com
SUMMARY:Spokes on Southern Karaoke
DESCRIPTION:Great food\, great community oriented staff\, and stars like you make this  show a blast for the lovely KJ Wilde! Come sing the evening away 8pm-midnight. \n1470 E Southern Ave\, Tempe\, AZ 85282 \n+14803079920
URL:https://www.maddhatterpro.com/event/spokes-on-southern-karaoke/2030-10-01/
LOCATION:Spokes on Southern\, 1470 E Southern Ave\, Tempe\, AZ\, 85282\, United States
CATEGORIES:Karaoke,KJ Wilde
ATTACH;FMTTYPE=image/jpeg:https://www.maddhatterpro.com/wp-content/uploads/2026/02/spokes-tempe.jpg
END:VEVENT
BEGIN:VEVENT
DTSTART;TZID=UTC:20301008T200000
DTEND;TZID=UTC:20301008T200000
DTSTAMP:20260424T200159
CREATED:20250703T234609Z
LAST-MODIFIED:20260206T143724Z
UID:10024620-1917720000-1917720000@www.maddhatterpro.com
SUMMARY:Spokes on Southern Karaoke
DESCRIPTION:Great food\, great community oriented staff\, and stars like you make this  show a blast for the lovely KJ Wilde! Come sing the evening away 8pm-midnight. \n1470 E Southern Ave\, Tempe\, AZ 85282 \n+14803079920
URL:https://www.maddhatterpro.com/event/spokes-on-southern-karaoke/2030-10-08/
LOCATION:Spokes on Southern\, 1470 E Southern Ave\, Tempe\, AZ\, 85282\, United States
CATEGORIES:Karaoke,KJ Wilde
ATTACH;FMTTYPE=image/jpeg:https://www.maddhatterpro.com/wp-content/uploads/2026/02/spokes-tempe.jpg
END:VEVENT
BEGIN:VEVENT
DTSTART;TZID=UTC:20301015T200000
DTEND;TZID=UTC:20301015T200000
DTSTAMP:20260424T200159
CREATED:20250703T234609Z
LAST-MODIFIED:20260206T143724Z
UID:10024621-1918324800-1918324800@www.maddhatterpro.com
SUMMARY:Spokes on Southern Karaoke
DESCRIPTION:Great food\, great community oriented staff\, and stars like you make this  show a blast for the lovely KJ Wilde! Come sing the evening away 8pm-midnight. \n1470 E Southern Ave\, Tempe\, AZ 85282 \n+14803079920
URL:https://www.maddhatterpro.com/event/spokes-on-southern-karaoke/2030-10-15/
LOCATION:Spokes on Southern\, 1470 E Southern Ave\, Tempe\, AZ\, 85282\, United States
CATEGORIES:Karaoke,KJ Wilde
ATTACH;FMTTYPE=image/jpeg:https://www.maddhatterpro.com/wp-content/uploads/2026/02/spokes-tempe.jpg
END:VEVENT
BEGIN:VEVENT
DTSTART;TZID=UTC:20301022T200000
DTEND;TZID=UTC:20301022T200000
DTSTAMP:20260424T200159
CREATED:20250703T234609Z
LAST-MODIFIED:20260206T143724Z
UID:10024622-1918929600-1918929600@www.maddhatterpro.com
SUMMARY:Spokes on Southern Karaoke
DESCRIPTION:Great food\, great community oriented staff\, and stars like you make this  show a blast for the lovely KJ Wilde! Come sing the evening away 8pm-midnight. \n1470 E Southern Ave\, Tempe\, AZ 85282 \n+14803079920
URL:https://www.maddhatterpro.com/event/spokes-on-southern-karaoke/2030-10-22/
LOCATION:Spokes on Southern\, 1470 E Southern Ave\, Tempe\, AZ\, 85282\, United States
CATEGORIES:Karaoke,KJ Wilde
ATTACH;FMTTYPE=image/jpeg:https://www.maddhatterpro.com/wp-content/uploads/2026/02/spokes-tempe.jpg
END:VEVENT
BEGIN:VEVENT
DTSTART;TZID=UTC:20301029T200000
DTEND;TZID=UTC:20301029T200000
DTSTAMP:20260424T200159
CREATED:20250703T234609Z
LAST-MODIFIED:20260206T143724Z
UID:10024623-1919534400-1919534400@www.maddhatterpro.com
SUMMARY:Spokes on Southern Karaoke
DESCRIPTION:Great food\, great community oriented staff\, and stars like you make this  show a blast for the lovely KJ Wilde! Come sing the evening away 8pm-midnight. \n1470 E Southern Ave\, Tempe\, AZ 85282 \n+14803079920
URL:https://www.maddhatterpro.com/event/spokes-on-southern-karaoke/2030-10-29/
LOCATION:Spokes on Southern\, 1470 E Southern Ave\, Tempe\, AZ\, 85282\, United States
CATEGORIES:Karaoke,KJ Wilde
ATTACH;FMTTYPE=image/jpeg:https://www.maddhatterpro.com/wp-content/uploads/2026/02/spokes-tempe.jpg
END:VEVENT
BEGIN:VEVENT
DTSTART;TZID=UTC:20301105T200000
DTEND;TZID=UTC:20301105T200000
DTSTAMP:20260424T200159
CREATED:20250703T234609Z
LAST-MODIFIED:20260206T143724Z
UID:10024624-1920139200-1920139200@www.maddhatterpro.com
SUMMARY:Spokes on Southern Karaoke
DESCRIPTION:Great food\, great community oriented staff\, and stars like you make this  show a blast for the lovely KJ Wilde! Come sing the evening away 8pm-midnight. \n1470 E Southern Ave\, Tempe\, AZ 85282 \n+14803079920
URL:https://www.maddhatterpro.com/event/spokes-on-southern-karaoke/2030-11-05/
LOCATION:Spokes on Southern\, 1470 E Southern Ave\, Tempe\, AZ\, 85282\, United States
CATEGORIES:Karaoke,KJ Wilde
ATTACH;FMTTYPE=image/jpeg:https://www.maddhatterpro.com/wp-content/uploads/2026/02/spokes-tempe.jpg
END:VEVENT
BEGIN:VEVENT
DTSTART;TZID=UTC:20301112T200000
DTEND;TZID=UTC:20301112T200000
DTSTAMP:20260424T200159
CREATED:20250703T234609Z
LAST-MODIFIED:20260206T143724Z
UID:10024625-1920744000-1920744000@www.maddhatterpro.com
SUMMARY:Spokes on Southern Karaoke
DESCRIPTION:Great food\, great community oriented staff\, and stars like you make this  show a blast for the lovely KJ Wilde! Come sing the evening away 8pm-midnight. \n1470 E Southern Ave\, Tempe\, AZ 85282 \n+14803079920
URL:https://www.maddhatterpro.com/event/spokes-on-southern-karaoke/2030-11-12/
LOCATION:Spokes on Southern\, 1470 E Southern Ave\, Tempe\, AZ\, 85282\, United States
CATEGORIES:Karaoke,KJ Wilde
ATTACH;FMTTYPE=image/jpeg:https://www.maddhatterpro.com/wp-content/uploads/2026/02/spokes-tempe.jpg
END:VEVENT
BEGIN:VEVENT
DTSTART;TZID=UTC:20301119T200000
DTEND;TZID=UTC:20301119T200000
DTSTAMP:20260424T200159
CREATED:20250703T234609Z
LAST-MODIFIED:20260206T143724Z
UID:10024626-1921348800-1921348800@www.maddhatterpro.com
SUMMARY:Spokes on Southern Karaoke
DESCRIPTION:Great food\, great community oriented staff\, and stars like you make this  show a blast for the lovely KJ Wilde! Come sing the evening away 8pm-midnight. \n1470 E Southern Ave\, Tempe\, AZ 85282 \n+14803079920
URL:https://www.maddhatterpro.com/event/spokes-on-southern-karaoke/2030-11-19/
LOCATION:Spokes on Southern\, 1470 E Southern Ave\, Tempe\, AZ\, 85282\, United States
CATEGORIES:Karaoke,KJ Wilde
ATTACH;FMTTYPE=image/jpeg:https://www.maddhatterpro.com/wp-content/uploads/2026/02/spokes-tempe.jpg
END:VEVENT
BEGIN:VEVENT
DTSTART;TZID=UTC:20301126T200000
DTEND;TZID=UTC:20301126T200000
DTSTAMP:20260424T200159
CREATED:20250703T234609Z
LAST-MODIFIED:20260206T143724Z
UID:10024627-1921953600-1921953600@www.maddhatterpro.com
SUMMARY:Spokes on Southern Karaoke
DESCRIPTION:Great food\, great community oriented staff\, and stars like you make this  show a blast for the lovely KJ Wilde! Come sing the evening away 8pm-midnight. \n1470 E Southern Ave\, Tempe\, AZ 85282 \n+14803079920
URL:https://www.maddhatterpro.com/event/spokes-on-southern-karaoke/2030-11-26/
LOCATION:Spokes on Southern\, 1470 E Southern Ave\, Tempe\, AZ\, 85282\, United States
CATEGORIES:Karaoke,KJ Wilde
ATTACH;FMTTYPE=image/jpeg:https://www.maddhatterpro.com/wp-content/uploads/2026/02/spokes-tempe.jpg
END:VEVENT
BEGIN:VEVENT
DTSTART;TZID=UTC:20301203T200000
DTEND;TZID=UTC:20301203T200000
DTSTAMP:20260424T200159
CREATED:20250703T234609Z
LAST-MODIFIED:20260206T143724Z
UID:10024628-1922558400-1922558400@www.maddhatterpro.com
SUMMARY:Spokes on Southern Karaoke
DESCRIPTION:Great food\, great community oriented staff\, and stars like you make this  show a blast for the lovely KJ Wilde! Come sing the evening away 8pm-midnight. \n1470 E Southern Ave\, Tempe\, AZ 85282 \n+14803079920
URL:https://www.maddhatterpro.com/event/spokes-on-southern-karaoke/2030-12-03/
LOCATION:Spokes on Southern\, 1470 E Southern Ave\, Tempe\, AZ\, 85282\, United States
CATEGORIES:Karaoke,KJ Wilde
ATTACH;FMTTYPE=image/jpeg:https://www.maddhatterpro.com/wp-content/uploads/2026/02/spokes-tempe.jpg
END:VEVENT
BEGIN:VEVENT
DTSTART;TZID=UTC:20301210T200000
DTEND;TZID=UTC:20301210T200000
DTSTAMP:20260424T200159
CREATED:20250703T234609Z
LAST-MODIFIED:20260206T143724Z
UID:10024629-1923163200-1923163200@www.maddhatterpro.com
SUMMARY:Spokes on Southern Karaoke
DESCRIPTION:Great food\, great community oriented staff\, and stars like you make this  show a blast for the lovely KJ Wilde! Come sing the evening away 8pm-midnight. \n1470 E Southern Ave\, Tempe\, AZ 85282 \n+14803079920
URL:https://www.maddhatterpro.com/event/spokes-on-southern-karaoke/2030-12-10/
LOCATION:Spokes on Southern\, 1470 E Southern Ave\, Tempe\, AZ\, 85282\, United States
CATEGORIES:Karaoke,KJ Wilde
ATTACH;FMTTYPE=image/jpeg:https://www.maddhatterpro.com/wp-content/uploads/2026/02/spokes-tempe.jpg
END:VEVENT
BEGIN:VEVENT
DTSTART;TZID=UTC:20301217T200000
DTEND;TZID=UTC:20301217T200000
DTSTAMP:20260424T200159
CREATED:20250703T234609Z
LAST-MODIFIED:20260206T143724Z
UID:10024630-1923768000-1923768000@www.maddhatterpro.com
SUMMARY:Spokes on Southern Karaoke
DESCRIPTION:Great food\, great community oriented staff\, and stars like you make this  show a blast for the lovely KJ Wilde! Come sing the evening away 8pm-midnight. \n1470 E Southern Ave\, Tempe\, AZ 85282 \n+14803079920
URL:https://www.maddhatterpro.com/event/spokes-on-southern-karaoke/2030-12-17/
LOCATION:Spokes on Southern\, 1470 E Southern Ave\, Tempe\, AZ\, 85282\, United States
CATEGORIES:Karaoke,KJ Wilde
ATTACH;FMTTYPE=image/jpeg:https://www.maddhatterpro.com/wp-content/uploads/2026/02/spokes-tempe.jpg
END:VEVENT
BEGIN:VEVENT
DTSTART;TZID=UTC:20301224T200000
DTEND;TZID=UTC:20301224T200000
DTSTAMP:20260424T200159
CREATED:20250703T234609Z
LAST-MODIFIED:20260206T143724Z
UID:10024631-1924372800-1924372800@www.maddhatterpro.com
SUMMARY:Spokes on Southern Karaoke
DESCRIPTION:Great food\, great community oriented staff\, and stars like you make this  show a blast for the lovely KJ Wilde! Come sing the evening away 8pm-midnight. \n1470 E Southern Ave\, Tempe\, AZ 85282 \n+14803079920
URL:https://www.maddhatterpro.com/event/spokes-on-southern-karaoke/2030-12-24/
LOCATION:Spokes on Southern\, 1470 E Southern Ave\, Tempe\, AZ\, 85282\, United States
CATEGORIES:Karaoke,KJ Wilde
ATTACH;FMTTYPE=image/jpeg:https://www.maddhatterpro.com/wp-content/uploads/2026/02/spokes-tempe.jpg
END:VEVENT
BEGIN:VEVENT
DTSTART;TZID=UTC:20301231T200000
DTEND;TZID=UTC:20301231T200000
DTSTAMP:20260424T200159
CREATED:20250703T234609Z
LAST-MODIFIED:20260206T143724Z
UID:10024632-1924977600-1924977600@www.maddhatterpro.com
SUMMARY:Spokes on Southern Karaoke
DESCRIPTION:Great food\, great community oriented staff\, and stars like you make this  show a blast for the lovely KJ Wilde! Come sing the evening away 8pm-midnight. \n1470 E Southern Ave\, Tempe\, AZ 85282 \n+14803079920
URL:https://www.maddhatterpro.com/event/spokes-on-southern-karaoke/2030-12-31/
LOCATION:Spokes on Southern\, 1470 E Southern Ave\, Tempe\, AZ\, 85282\, United States
CATEGORIES:Karaoke,KJ Wilde
ATTACH;FMTTYPE=image/jpeg:https://www.maddhatterpro.com/wp-content/uploads/2026/02/spokes-tempe.jpg
END:VEVENT
BEGIN:VEVENT
DTSTART;TZID=UTC:20310107T200000
DTEND;TZID=UTC:20310107T200000
DTSTAMP:20260424T200159
CREATED:20250703T234609Z
LAST-MODIFIED:20260206T143724Z
UID:10024633-1925582400-1925582400@www.maddhatterpro.com
SUMMARY:Spokes on Southern Karaoke
DESCRIPTION:Great food\, great community oriented staff\, and stars like you make this  show a blast for the lovely KJ Wilde! Come sing the evening away 8pm-midnight. \n1470 E Southern Ave\, Tempe\, AZ 85282 \n+14803079920
URL:https://www.maddhatterpro.com/event/spokes-on-southern-karaoke/2031-01-07/
LOCATION:Spokes on Southern\, 1470 E Southern Ave\, Tempe\, AZ\, 85282\, United States
CATEGORIES:Karaoke,KJ Wilde
ATTACH;FMTTYPE=image/jpeg:https://www.maddhatterpro.com/wp-content/uploads/2026/02/spokes-tempe.jpg
END:VEVENT
END:VCALENDAR