BEGIN:VCALENDAR
VERSION:2.0
PRODID:-//MaddHatterPro.com - ECPv6.15.20//NONSGML v1.0//EN
CALSCALE:GREGORIAN
METHOD:PUBLISH
X-ORIGINAL-URL:https://www.maddhatterpro.com
X-WR-CALDESC:Events for MaddHatterPro.com
REFRESH-INTERVAL;VALUE=DURATION:PT1H
X-Robots-Tag:noindex
X-PUBLISHED-TTL:PT1H
BEGIN:VTIMEZONE
TZID:UTC
BEGIN:STANDARD
TZOFFSETFROM:+0000
TZOFFSETTO:+0000
TZNAME:UTC
DTSTART:20290101T000000
END:STANDARD
END:VTIMEZONE
BEGIN:VEVENT
DTSTART;TZID=UTC:20300103T183000
DTEND;TZID=UTC:20300103T183000
DTSTAMP:20260424T152725
CREATED:20250704T002812Z
LAST-MODIFIED:20260206T144210Z
UID:10023001-1893695400-1893695400@www.maddhatterpro.com
SUMMARY:Pho Cao Karaoke
DESCRIPTION:Homey atmosphere\, and the perfect Thursday evening dinner. Come out and see what Pho Cao has to offer with great Vietnamese cuisine. KJ Skribbz in the house\, 6:30pm-10:30pm yet another early show! \n7436 E McDowell Rd\, Scottsdale\, AZ 85257 \n+16234282173
URL:https://www.maddhatterpro.com/event/pho-cao-karaoke/2030-01-03/
LOCATION:Pho Cao\, 7436 E McDowell Rd\, Scottsdale\, AZ\, 85257\, United States
CATEGORIES:Karaoke,KJ Skribbz
ATTACH;FMTTYPE=image/jpeg:https://www.maddhatterpro.com/wp-content/uploads/2026/02/Pho-Scottsdale.jpg
END:VEVENT
BEGIN:VEVENT
DTSTART;TZID=UTC:20300110T183000
DTEND;TZID=UTC:20300110T183000
DTSTAMP:20260424T152725
CREATED:20250704T002812Z
LAST-MODIFIED:20260206T144210Z
UID:10023002-1894300200-1894300200@www.maddhatterpro.com
SUMMARY:Pho Cao Karaoke
DESCRIPTION:Homey atmosphere\, and the perfect Thursday evening dinner. Come out and see what Pho Cao has to offer with great Vietnamese cuisine. KJ Skribbz in the house\, 6:30pm-10:30pm yet another early show! \n7436 E McDowell Rd\, Scottsdale\, AZ 85257 \n+16234282173
URL:https://www.maddhatterpro.com/event/pho-cao-karaoke/2030-01-10/
LOCATION:Pho Cao\, 7436 E McDowell Rd\, Scottsdale\, AZ\, 85257\, United States
CATEGORIES:Karaoke,KJ Skribbz
ATTACH;FMTTYPE=image/jpeg:https://www.maddhatterpro.com/wp-content/uploads/2026/02/Pho-Scottsdale.jpg
END:VEVENT
BEGIN:VEVENT
DTSTART;TZID=UTC:20300117T183000
DTEND;TZID=UTC:20300117T183000
DTSTAMP:20260424T152725
CREATED:20250704T002812Z
LAST-MODIFIED:20260206T144210Z
UID:10023003-1894905000-1894905000@www.maddhatterpro.com
SUMMARY:Pho Cao Karaoke
DESCRIPTION:Homey atmosphere\, and the perfect Thursday evening dinner. Come out and see what Pho Cao has to offer with great Vietnamese cuisine. KJ Skribbz in the house\, 6:30pm-10:30pm yet another early show! \n7436 E McDowell Rd\, Scottsdale\, AZ 85257 \n+16234282173
URL:https://www.maddhatterpro.com/event/pho-cao-karaoke/2030-01-17/
LOCATION:Pho Cao\, 7436 E McDowell Rd\, Scottsdale\, AZ\, 85257\, United States
CATEGORIES:Karaoke,KJ Skribbz
ATTACH;FMTTYPE=image/jpeg:https://www.maddhatterpro.com/wp-content/uploads/2026/02/Pho-Scottsdale.jpg
END:VEVENT
BEGIN:VEVENT
DTSTART;TZID=UTC:20300124T183000
DTEND;TZID=UTC:20300124T183000
DTSTAMP:20260424T152725
CREATED:20250704T002812Z
LAST-MODIFIED:20260206T144210Z
UID:10023004-1895509800-1895509800@www.maddhatterpro.com
SUMMARY:Pho Cao Karaoke
DESCRIPTION:Homey atmosphere\, and the perfect Thursday evening dinner. Come out and see what Pho Cao has to offer with great Vietnamese cuisine. KJ Skribbz in the house\, 6:30pm-10:30pm yet another early show! \n7436 E McDowell Rd\, Scottsdale\, AZ 85257 \n+16234282173
URL:https://www.maddhatterpro.com/event/pho-cao-karaoke/2030-01-24/
LOCATION:Pho Cao\, 7436 E McDowell Rd\, Scottsdale\, AZ\, 85257\, United States
CATEGORIES:Karaoke,KJ Skribbz
ATTACH;FMTTYPE=image/jpeg:https://www.maddhatterpro.com/wp-content/uploads/2026/02/Pho-Scottsdale.jpg
END:VEVENT
BEGIN:VEVENT
DTSTART;TZID=UTC:20300131T183000
DTEND;TZID=UTC:20300131T183000
DTSTAMP:20260424T152725
CREATED:20250704T002812Z
LAST-MODIFIED:20260206T144210Z
UID:10023005-1896114600-1896114600@www.maddhatterpro.com
SUMMARY:Pho Cao Karaoke
DESCRIPTION:Homey atmosphere\, and the perfect Thursday evening dinner. Come out and see what Pho Cao has to offer with great Vietnamese cuisine. KJ Skribbz in the house\, 6:30pm-10:30pm yet another early show! \n7436 E McDowell Rd\, Scottsdale\, AZ 85257 \n+16234282173
URL:https://www.maddhatterpro.com/event/pho-cao-karaoke/2030-01-31/
LOCATION:Pho Cao\, 7436 E McDowell Rd\, Scottsdale\, AZ\, 85257\, United States
CATEGORIES:Karaoke,KJ Skribbz
ATTACH;FMTTYPE=image/jpeg:https://www.maddhatterpro.com/wp-content/uploads/2026/02/Pho-Scottsdale.jpg
END:VEVENT
BEGIN:VEVENT
DTSTART;TZID=UTC:20300207T183000
DTEND;TZID=UTC:20300207T183000
DTSTAMP:20260424T152725
CREATED:20250704T002812Z
LAST-MODIFIED:20260206T144210Z
UID:10023006-1896719400-1896719400@www.maddhatterpro.com
SUMMARY:Pho Cao Karaoke
DESCRIPTION:Homey atmosphere\, and the perfect Thursday evening dinner. Come out and see what Pho Cao has to offer with great Vietnamese cuisine. KJ Skribbz in the house\, 6:30pm-10:30pm yet another early show! \n7436 E McDowell Rd\, Scottsdale\, AZ 85257 \n+16234282173
URL:https://www.maddhatterpro.com/event/pho-cao-karaoke/2030-02-07/
LOCATION:Pho Cao\, 7436 E McDowell Rd\, Scottsdale\, AZ\, 85257\, United States
CATEGORIES:Karaoke,KJ Skribbz
ATTACH;FMTTYPE=image/jpeg:https://www.maddhatterpro.com/wp-content/uploads/2026/02/Pho-Scottsdale.jpg
END:VEVENT
BEGIN:VEVENT
DTSTART;TZID=UTC:20300214T183000
DTEND;TZID=UTC:20300214T183000
DTSTAMP:20260424T152725
CREATED:20250704T002812Z
LAST-MODIFIED:20260206T144210Z
UID:10023007-1897324200-1897324200@www.maddhatterpro.com
SUMMARY:Pho Cao Karaoke
DESCRIPTION:Homey atmosphere\, and the perfect Thursday evening dinner. Come out and see what Pho Cao has to offer with great Vietnamese cuisine. KJ Skribbz in the house\, 6:30pm-10:30pm yet another early show! \n7436 E McDowell Rd\, Scottsdale\, AZ 85257 \n+16234282173
URL:https://www.maddhatterpro.com/event/pho-cao-karaoke/2030-02-14/
LOCATION:Pho Cao\, 7436 E McDowell Rd\, Scottsdale\, AZ\, 85257\, United States
CATEGORIES:Karaoke,KJ Skribbz
ATTACH;FMTTYPE=image/jpeg:https://www.maddhatterpro.com/wp-content/uploads/2026/02/Pho-Scottsdale.jpg
END:VEVENT
BEGIN:VEVENT
DTSTART;TZID=UTC:20300221T183000
DTEND;TZID=UTC:20300221T183000
DTSTAMP:20260424T152725
CREATED:20250704T002812Z
LAST-MODIFIED:20260206T144210Z
UID:10023008-1897929000-1897929000@www.maddhatterpro.com
SUMMARY:Pho Cao Karaoke
DESCRIPTION:Homey atmosphere\, and the perfect Thursday evening dinner. Come out and see what Pho Cao has to offer with great Vietnamese cuisine. KJ Skribbz in the house\, 6:30pm-10:30pm yet another early show! \n7436 E McDowell Rd\, Scottsdale\, AZ 85257 \n+16234282173
URL:https://www.maddhatterpro.com/event/pho-cao-karaoke/2030-02-21/
LOCATION:Pho Cao\, 7436 E McDowell Rd\, Scottsdale\, AZ\, 85257\, United States
CATEGORIES:Karaoke,KJ Skribbz
ATTACH;FMTTYPE=image/jpeg:https://www.maddhatterpro.com/wp-content/uploads/2026/02/Pho-Scottsdale.jpg
END:VEVENT
BEGIN:VEVENT
DTSTART;TZID=UTC:20300228T183000
DTEND;TZID=UTC:20300228T183000
DTSTAMP:20260424T152725
CREATED:20250704T002812Z
LAST-MODIFIED:20260206T144210Z
UID:10023009-1898533800-1898533800@www.maddhatterpro.com
SUMMARY:Pho Cao Karaoke
DESCRIPTION:Homey atmosphere\, and the perfect Thursday evening dinner. Come out and see what Pho Cao has to offer with great Vietnamese cuisine. KJ Skribbz in the house\, 6:30pm-10:30pm yet another early show! \n7436 E McDowell Rd\, Scottsdale\, AZ 85257 \n+16234282173
URL:https://www.maddhatterpro.com/event/pho-cao-karaoke/2030-02-28/
LOCATION:Pho Cao\, 7436 E McDowell Rd\, Scottsdale\, AZ\, 85257\, United States
CATEGORIES:Karaoke,KJ Skribbz
ATTACH;FMTTYPE=image/jpeg:https://www.maddhatterpro.com/wp-content/uploads/2026/02/Pho-Scottsdale.jpg
END:VEVENT
BEGIN:VEVENT
DTSTART;TZID=UTC:20300307T183000
DTEND;TZID=UTC:20300307T183000
DTSTAMP:20260424T152725
CREATED:20250704T002812Z
LAST-MODIFIED:20260206T144210Z
UID:10023010-1899138600-1899138600@www.maddhatterpro.com
SUMMARY:Pho Cao Karaoke
DESCRIPTION:Homey atmosphere\, and the perfect Thursday evening dinner. Come out and see what Pho Cao has to offer with great Vietnamese cuisine. KJ Skribbz in the house\, 6:30pm-10:30pm yet another early show! \n7436 E McDowell Rd\, Scottsdale\, AZ 85257 \n+16234282173
URL:https://www.maddhatterpro.com/event/pho-cao-karaoke/2030-03-07/
LOCATION:Pho Cao\, 7436 E McDowell Rd\, Scottsdale\, AZ\, 85257\, United States
CATEGORIES:Karaoke,KJ Skribbz
ATTACH;FMTTYPE=image/jpeg:https://www.maddhatterpro.com/wp-content/uploads/2026/02/Pho-Scottsdale.jpg
END:VEVENT
BEGIN:VEVENT
DTSTART;TZID=UTC:20300314T183000
DTEND;TZID=UTC:20300314T183000
DTSTAMP:20260424T152725
CREATED:20250704T002812Z
LAST-MODIFIED:20260206T144210Z
UID:10023011-1899743400-1899743400@www.maddhatterpro.com
SUMMARY:Pho Cao Karaoke
DESCRIPTION:Homey atmosphere\, and the perfect Thursday evening dinner. Come out and see what Pho Cao has to offer with great Vietnamese cuisine. KJ Skribbz in the house\, 6:30pm-10:30pm yet another early show! \n7436 E McDowell Rd\, Scottsdale\, AZ 85257 \n+16234282173
URL:https://www.maddhatterpro.com/event/pho-cao-karaoke/2030-03-14/
LOCATION:Pho Cao\, 7436 E McDowell Rd\, Scottsdale\, AZ\, 85257\, United States
CATEGORIES:Karaoke,KJ Skribbz
ATTACH;FMTTYPE=image/jpeg:https://www.maddhatterpro.com/wp-content/uploads/2026/02/Pho-Scottsdale.jpg
END:VEVENT
BEGIN:VEVENT
DTSTART;TZID=UTC:20300321T183000
DTEND;TZID=UTC:20300321T183000
DTSTAMP:20260424T152725
CREATED:20250704T002812Z
LAST-MODIFIED:20260206T144210Z
UID:10023012-1900348200-1900348200@www.maddhatterpro.com
SUMMARY:Pho Cao Karaoke
DESCRIPTION:Homey atmosphere\, and the perfect Thursday evening dinner. Come out and see what Pho Cao has to offer with great Vietnamese cuisine. KJ Skribbz in the house\, 6:30pm-10:30pm yet another early show! \n7436 E McDowell Rd\, Scottsdale\, AZ 85257 \n+16234282173
URL:https://www.maddhatterpro.com/event/pho-cao-karaoke/2030-03-21/
LOCATION:Pho Cao\, 7436 E McDowell Rd\, Scottsdale\, AZ\, 85257\, United States
CATEGORIES:Karaoke,KJ Skribbz
ATTACH;FMTTYPE=image/jpeg:https://www.maddhatterpro.com/wp-content/uploads/2026/02/Pho-Scottsdale.jpg
END:VEVENT
BEGIN:VEVENT
DTSTART;TZID=UTC:20300328T183000
DTEND;TZID=UTC:20300328T183000
DTSTAMP:20260424T152725
CREATED:20250704T002812Z
LAST-MODIFIED:20260206T144210Z
UID:10023013-1900953000-1900953000@www.maddhatterpro.com
SUMMARY:Pho Cao Karaoke
DESCRIPTION:Homey atmosphere\, and the perfect Thursday evening dinner. Come out and see what Pho Cao has to offer with great Vietnamese cuisine. KJ Skribbz in the house\, 6:30pm-10:30pm yet another early show! \n7436 E McDowell Rd\, Scottsdale\, AZ 85257 \n+16234282173
URL:https://www.maddhatterpro.com/event/pho-cao-karaoke/2030-03-28/
LOCATION:Pho Cao\, 7436 E McDowell Rd\, Scottsdale\, AZ\, 85257\, United States
CATEGORIES:Karaoke,KJ Skribbz
ATTACH;FMTTYPE=image/jpeg:https://www.maddhatterpro.com/wp-content/uploads/2026/02/Pho-Scottsdale.jpg
END:VEVENT
BEGIN:VEVENT
DTSTART;TZID=UTC:20300404T183000
DTEND;TZID=UTC:20300404T183000
DTSTAMP:20260424T152725
CREATED:20250704T002812Z
LAST-MODIFIED:20260206T144210Z
UID:10023014-1901557800-1901557800@www.maddhatterpro.com
SUMMARY:Pho Cao Karaoke
DESCRIPTION:Homey atmosphere\, and the perfect Thursday evening dinner. Come out and see what Pho Cao has to offer with great Vietnamese cuisine. KJ Skribbz in the house\, 6:30pm-10:30pm yet another early show! \n7436 E McDowell Rd\, Scottsdale\, AZ 85257 \n+16234282173
URL:https://www.maddhatterpro.com/event/pho-cao-karaoke/2030-04-04/
LOCATION:Pho Cao\, 7436 E McDowell Rd\, Scottsdale\, AZ\, 85257\, United States
CATEGORIES:Karaoke,KJ Skribbz
ATTACH;FMTTYPE=image/jpeg:https://www.maddhatterpro.com/wp-content/uploads/2026/02/Pho-Scottsdale.jpg
END:VEVENT
BEGIN:VEVENT
DTSTART;TZID=UTC:20300411T183000
DTEND;TZID=UTC:20300411T183000
DTSTAMP:20260424T152725
CREATED:20250704T002812Z
LAST-MODIFIED:20260206T144210Z
UID:10023015-1902162600-1902162600@www.maddhatterpro.com
SUMMARY:Pho Cao Karaoke
DESCRIPTION:Homey atmosphere\, and the perfect Thursday evening dinner. Come out and see what Pho Cao has to offer with great Vietnamese cuisine. KJ Skribbz in the house\, 6:30pm-10:30pm yet another early show! \n7436 E McDowell Rd\, Scottsdale\, AZ 85257 \n+16234282173
URL:https://www.maddhatterpro.com/event/pho-cao-karaoke/2030-04-11/
LOCATION:Pho Cao\, 7436 E McDowell Rd\, Scottsdale\, AZ\, 85257\, United States
CATEGORIES:Karaoke,KJ Skribbz
ATTACH;FMTTYPE=image/jpeg:https://www.maddhatterpro.com/wp-content/uploads/2026/02/Pho-Scottsdale.jpg
END:VEVENT
BEGIN:VEVENT
DTSTART;TZID=UTC:20300418T183000
DTEND;TZID=UTC:20300418T183000
DTSTAMP:20260424T152725
CREATED:20250704T002812Z
LAST-MODIFIED:20260206T144210Z
UID:10023016-1902767400-1902767400@www.maddhatterpro.com
SUMMARY:Pho Cao Karaoke
DESCRIPTION:Homey atmosphere\, and the perfect Thursday evening dinner. Come out and see what Pho Cao has to offer with great Vietnamese cuisine. KJ Skribbz in the house\, 6:30pm-10:30pm yet another early show! \n7436 E McDowell Rd\, Scottsdale\, AZ 85257 \n+16234282173
URL:https://www.maddhatterpro.com/event/pho-cao-karaoke/2030-04-18/
LOCATION:Pho Cao\, 7436 E McDowell Rd\, Scottsdale\, AZ\, 85257\, United States
CATEGORIES:Karaoke,KJ Skribbz
ATTACH;FMTTYPE=image/jpeg:https://www.maddhatterpro.com/wp-content/uploads/2026/02/Pho-Scottsdale.jpg
END:VEVENT
BEGIN:VEVENT
DTSTART;TZID=UTC:20300425T183000
DTEND;TZID=UTC:20300425T183000
DTSTAMP:20260424T152725
CREATED:20250704T002812Z
LAST-MODIFIED:20260206T144210Z
UID:10023017-1903372200-1903372200@www.maddhatterpro.com
SUMMARY:Pho Cao Karaoke
DESCRIPTION:Homey atmosphere\, and the perfect Thursday evening dinner. Come out and see what Pho Cao has to offer with great Vietnamese cuisine. KJ Skribbz in the house\, 6:30pm-10:30pm yet another early show! \n7436 E McDowell Rd\, Scottsdale\, AZ 85257 \n+16234282173
URL:https://www.maddhatterpro.com/event/pho-cao-karaoke/2030-04-25/
LOCATION:Pho Cao\, 7436 E McDowell Rd\, Scottsdale\, AZ\, 85257\, United States
CATEGORIES:Karaoke,KJ Skribbz
ATTACH;FMTTYPE=image/jpeg:https://www.maddhatterpro.com/wp-content/uploads/2026/02/Pho-Scottsdale.jpg
END:VEVENT
BEGIN:VEVENT
DTSTART;TZID=UTC:20300502T183000
DTEND;TZID=UTC:20300502T183000
DTSTAMP:20260424T152725
CREATED:20250704T002812Z
LAST-MODIFIED:20260206T144210Z
UID:10023018-1903977000-1903977000@www.maddhatterpro.com
SUMMARY:Pho Cao Karaoke
DESCRIPTION:Homey atmosphere\, and the perfect Thursday evening dinner. Come out and see what Pho Cao has to offer with great Vietnamese cuisine. KJ Skribbz in the house\, 6:30pm-10:30pm yet another early show! \n7436 E McDowell Rd\, Scottsdale\, AZ 85257 \n+16234282173
URL:https://www.maddhatterpro.com/event/pho-cao-karaoke/2030-05-02/
LOCATION:Pho Cao\, 7436 E McDowell Rd\, Scottsdale\, AZ\, 85257\, United States
CATEGORIES:Karaoke,KJ Skribbz
ATTACH;FMTTYPE=image/jpeg:https://www.maddhatterpro.com/wp-content/uploads/2026/02/Pho-Scottsdale.jpg
END:VEVENT
BEGIN:VEVENT
DTSTART;TZID=UTC:20300509T183000
DTEND;TZID=UTC:20300509T183000
DTSTAMP:20260424T152725
CREATED:20250704T002812Z
LAST-MODIFIED:20260206T144210Z
UID:10023019-1904581800-1904581800@www.maddhatterpro.com
SUMMARY:Pho Cao Karaoke
DESCRIPTION:Homey atmosphere\, and the perfect Thursday evening dinner. Come out and see what Pho Cao has to offer with great Vietnamese cuisine. KJ Skribbz in the house\, 6:30pm-10:30pm yet another early show! \n7436 E McDowell Rd\, Scottsdale\, AZ 85257 \n+16234282173
URL:https://www.maddhatterpro.com/event/pho-cao-karaoke/2030-05-09/
LOCATION:Pho Cao\, 7436 E McDowell Rd\, Scottsdale\, AZ\, 85257\, United States
CATEGORIES:Karaoke,KJ Skribbz
ATTACH;FMTTYPE=image/jpeg:https://www.maddhatterpro.com/wp-content/uploads/2026/02/Pho-Scottsdale.jpg
END:VEVENT
BEGIN:VEVENT
DTSTART;TZID=UTC:20300516T183000
DTEND;TZID=UTC:20300516T183000
DTSTAMP:20260424T152725
CREATED:20250704T002812Z
LAST-MODIFIED:20260206T144210Z
UID:10023020-1905186600-1905186600@www.maddhatterpro.com
SUMMARY:Pho Cao Karaoke
DESCRIPTION:Homey atmosphere\, and the perfect Thursday evening dinner. Come out and see what Pho Cao has to offer with great Vietnamese cuisine. KJ Skribbz in the house\, 6:30pm-10:30pm yet another early show! \n7436 E McDowell Rd\, Scottsdale\, AZ 85257 \n+16234282173
URL:https://www.maddhatterpro.com/event/pho-cao-karaoke/2030-05-16/
LOCATION:Pho Cao\, 7436 E McDowell Rd\, Scottsdale\, AZ\, 85257\, United States
CATEGORIES:Karaoke,KJ Skribbz
ATTACH;FMTTYPE=image/jpeg:https://www.maddhatterpro.com/wp-content/uploads/2026/02/Pho-Scottsdale.jpg
END:VEVENT
BEGIN:VEVENT
DTSTART;TZID=UTC:20300523T183000
DTEND;TZID=UTC:20300523T183000
DTSTAMP:20260424T152725
CREATED:20250704T002812Z
LAST-MODIFIED:20260206T144210Z
UID:10023021-1905791400-1905791400@www.maddhatterpro.com
SUMMARY:Pho Cao Karaoke
DESCRIPTION:Homey atmosphere\, and the perfect Thursday evening dinner. Come out and see what Pho Cao has to offer with great Vietnamese cuisine. KJ Skribbz in the house\, 6:30pm-10:30pm yet another early show! \n7436 E McDowell Rd\, Scottsdale\, AZ 85257 \n+16234282173
URL:https://www.maddhatterpro.com/event/pho-cao-karaoke/2030-05-23/
LOCATION:Pho Cao\, 7436 E McDowell Rd\, Scottsdale\, AZ\, 85257\, United States
CATEGORIES:Karaoke,KJ Skribbz
ATTACH;FMTTYPE=image/jpeg:https://www.maddhatterpro.com/wp-content/uploads/2026/02/Pho-Scottsdale.jpg
END:VEVENT
BEGIN:VEVENT
DTSTART;TZID=UTC:20300530T183000
DTEND;TZID=UTC:20300530T183000
DTSTAMP:20260424T152725
CREATED:20250704T002812Z
LAST-MODIFIED:20260206T144210Z
UID:10023022-1906396200-1906396200@www.maddhatterpro.com
SUMMARY:Pho Cao Karaoke
DESCRIPTION:Homey atmosphere\, and the perfect Thursday evening dinner. Come out and see what Pho Cao has to offer with great Vietnamese cuisine. KJ Skribbz in the house\, 6:30pm-10:30pm yet another early show! \n7436 E McDowell Rd\, Scottsdale\, AZ 85257 \n+16234282173
URL:https://www.maddhatterpro.com/event/pho-cao-karaoke/2030-05-30/
LOCATION:Pho Cao\, 7436 E McDowell Rd\, Scottsdale\, AZ\, 85257\, United States
CATEGORIES:Karaoke,KJ Skribbz
ATTACH;FMTTYPE=image/jpeg:https://www.maddhatterpro.com/wp-content/uploads/2026/02/Pho-Scottsdale.jpg
END:VEVENT
BEGIN:VEVENT
DTSTART;TZID=UTC:20300606T183000
DTEND;TZID=UTC:20300606T183000
DTSTAMP:20260424T152725
CREATED:20250704T002812Z
LAST-MODIFIED:20260206T144210Z
UID:10023023-1907001000-1907001000@www.maddhatterpro.com
SUMMARY:Pho Cao Karaoke
DESCRIPTION:Homey atmosphere\, and the perfect Thursday evening dinner. Come out and see what Pho Cao has to offer with great Vietnamese cuisine. KJ Skribbz in the house\, 6:30pm-10:30pm yet another early show! \n7436 E McDowell Rd\, Scottsdale\, AZ 85257 \n+16234282173
URL:https://www.maddhatterpro.com/event/pho-cao-karaoke/2030-06-06/
LOCATION:Pho Cao\, 7436 E McDowell Rd\, Scottsdale\, AZ\, 85257\, United States
CATEGORIES:Karaoke,KJ Skribbz
ATTACH;FMTTYPE=image/jpeg:https://www.maddhatterpro.com/wp-content/uploads/2026/02/Pho-Scottsdale.jpg
END:VEVENT
BEGIN:VEVENT
DTSTART;TZID=UTC:20300613T183000
DTEND;TZID=UTC:20300613T183000
DTSTAMP:20260424T152725
CREATED:20250704T002812Z
LAST-MODIFIED:20260206T144210Z
UID:10023024-1907605800-1907605800@www.maddhatterpro.com
SUMMARY:Pho Cao Karaoke
DESCRIPTION:Homey atmosphere\, and the perfect Thursday evening dinner. Come out and see what Pho Cao has to offer with great Vietnamese cuisine. KJ Skribbz in the house\, 6:30pm-10:30pm yet another early show! \n7436 E McDowell Rd\, Scottsdale\, AZ 85257 \n+16234282173
URL:https://www.maddhatterpro.com/event/pho-cao-karaoke/2030-06-13/
LOCATION:Pho Cao\, 7436 E McDowell Rd\, Scottsdale\, AZ\, 85257\, United States
CATEGORIES:Karaoke,KJ Skribbz
ATTACH;FMTTYPE=image/jpeg:https://www.maddhatterpro.com/wp-content/uploads/2026/02/Pho-Scottsdale.jpg
END:VEVENT
BEGIN:VEVENT
DTSTART;TZID=UTC:20300620T183000
DTEND;TZID=UTC:20300620T183000
DTSTAMP:20260424T152725
CREATED:20250704T002812Z
LAST-MODIFIED:20260206T144210Z
UID:10023025-1908210600-1908210600@www.maddhatterpro.com
SUMMARY:Pho Cao Karaoke
DESCRIPTION:Homey atmosphere\, and the perfect Thursday evening dinner. Come out and see what Pho Cao has to offer with great Vietnamese cuisine. KJ Skribbz in the house\, 6:30pm-10:30pm yet another early show! \n7436 E McDowell Rd\, Scottsdale\, AZ 85257 \n+16234282173
URL:https://www.maddhatterpro.com/event/pho-cao-karaoke/2030-06-20/
LOCATION:Pho Cao\, 7436 E McDowell Rd\, Scottsdale\, AZ\, 85257\, United States
CATEGORIES:Karaoke,KJ Skribbz
ATTACH;FMTTYPE=image/jpeg:https://www.maddhatterpro.com/wp-content/uploads/2026/02/Pho-Scottsdale.jpg
END:VEVENT
BEGIN:VEVENT
DTSTART;TZID=UTC:20300627T183000
DTEND;TZID=UTC:20300627T183000
DTSTAMP:20260424T152725
CREATED:20250704T002812Z
LAST-MODIFIED:20260206T144210Z
UID:10023026-1908815400-1908815400@www.maddhatterpro.com
SUMMARY:Pho Cao Karaoke
DESCRIPTION:Homey atmosphere\, and the perfect Thursday evening dinner. Come out and see what Pho Cao has to offer with great Vietnamese cuisine. KJ Skribbz in the house\, 6:30pm-10:30pm yet another early show! \n7436 E McDowell Rd\, Scottsdale\, AZ 85257 \n+16234282173
URL:https://www.maddhatterpro.com/event/pho-cao-karaoke/2030-06-27/
LOCATION:Pho Cao\, 7436 E McDowell Rd\, Scottsdale\, AZ\, 85257\, United States
CATEGORIES:Karaoke,KJ Skribbz
ATTACH;FMTTYPE=image/jpeg:https://www.maddhatterpro.com/wp-content/uploads/2026/02/Pho-Scottsdale.jpg
END:VEVENT
BEGIN:VEVENT
DTSTART;TZID=UTC:20300704T183000
DTEND;TZID=UTC:20300704T183000
DTSTAMP:20260424T152725
CREATED:20250704T002812Z
LAST-MODIFIED:20260206T144210Z
UID:10023027-1909420200-1909420200@www.maddhatterpro.com
SUMMARY:Pho Cao Karaoke
DESCRIPTION:Homey atmosphere\, and the perfect Thursday evening dinner. Come out and see what Pho Cao has to offer with great Vietnamese cuisine. KJ Skribbz in the house\, 6:30pm-10:30pm yet another early show! \n7436 E McDowell Rd\, Scottsdale\, AZ 85257 \n+16234282173
URL:https://www.maddhatterpro.com/event/pho-cao-karaoke/2030-07-04/
LOCATION:Pho Cao\, 7436 E McDowell Rd\, Scottsdale\, AZ\, 85257\, United States
CATEGORIES:Karaoke,KJ Skribbz
ATTACH;FMTTYPE=image/jpeg:https://www.maddhatterpro.com/wp-content/uploads/2026/02/Pho-Scottsdale.jpg
END:VEVENT
BEGIN:VEVENT
DTSTART;TZID=UTC:20300711T183000
DTEND;TZID=UTC:20300711T183000
DTSTAMP:20260424T152725
CREATED:20250704T002812Z
LAST-MODIFIED:20260206T144210Z
UID:10024762-1910025000-1910025000@www.maddhatterpro.com
SUMMARY:Pho Cao Karaoke
DESCRIPTION:Homey atmosphere\, and the perfect Thursday evening dinner. Come out and see what Pho Cao has to offer with great Vietnamese cuisine. KJ Skribbz in the house\, 6:30pm-10:30pm yet another early show! \n7436 E McDowell Rd\, Scottsdale\, AZ 85257 \n+16234282173
URL:https://www.maddhatterpro.com/event/pho-cao-karaoke/2030-07-11/
LOCATION:Pho Cao\, 7436 E McDowell Rd\, Scottsdale\, AZ\, 85257\, United States
CATEGORIES:Karaoke,KJ Skribbz
ATTACH;FMTTYPE=image/jpeg:https://www.maddhatterpro.com/wp-content/uploads/2026/02/Pho-Scottsdale.jpg
END:VEVENT
BEGIN:VEVENT
DTSTART;TZID=UTC:20300718T183000
DTEND;TZID=UTC:20300718T183000
DTSTAMP:20260424T152725
CREATED:20250704T002812Z
LAST-MODIFIED:20260206T144210Z
UID:10024763-1910629800-1910629800@www.maddhatterpro.com
SUMMARY:Pho Cao Karaoke
DESCRIPTION:Homey atmosphere\, and the perfect Thursday evening dinner. Come out and see what Pho Cao has to offer with great Vietnamese cuisine. KJ Skribbz in the house\, 6:30pm-10:30pm yet another early show! \n7436 E McDowell Rd\, Scottsdale\, AZ 85257 \n+16234282173
URL:https://www.maddhatterpro.com/event/pho-cao-karaoke/2030-07-18/
LOCATION:Pho Cao\, 7436 E McDowell Rd\, Scottsdale\, AZ\, 85257\, United States
CATEGORIES:Karaoke,KJ Skribbz
ATTACH;FMTTYPE=image/jpeg:https://www.maddhatterpro.com/wp-content/uploads/2026/02/Pho-Scottsdale.jpg
END:VEVENT
BEGIN:VEVENT
DTSTART;TZID=UTC:20300725T183000
DTEND;TZID=UTC:20300725T183000
DTSTAMP:20260424T152725
CREATED:20250704T002812Z
LAST-MODIFIED:20260206T144210Z
UID:10024764-1911234600-1911234600@www.maddhatterpro.com
SUMMARY:Pho Cao Karaoke
DESCRIPTION:Homey atmosphere\, and the perfect Thursday evening dinner. Come out and see what Pho Cao has to offer with great Vietnamese cuisine. KJ Skribbz in the house\, 6:30pm-10:30pm yet another early show! \n7436 E McDowell Rd\, Scottsdale\, AZ 85257 \n+16234282173
URL:https://www.maddhatterpro.com/event/pho-cao-karaoke/2030-07-25/
LOCATION:Pho Cao\, 7436 E McDowell Rd\, Scottsdale\, AZ\, 85257\, United States
CATEGORIES:Karaoke,KJ Skribbz
ATTACH;FMTTYPE=image/jpeg:https://www.maddhatterpro.com/wp-content/uploads/2026/02/Pho-Scottsdale.jpg
END:VEVENT
END:VCALENDAR