BEGIN:VCALENDAR
VERSION:2.0
PRODID:-//MaddHatterPro.com - ECPv6.15.20//NONSGML v1.0//EN
CALSCALE:GREGORIAN
METHOD:PUBLISH
X-ORIGINAL-URL:https://www.maddhatterpro.com
X-WR-CALDESC:Events for MaddHatterPro.com
REFRESH-INTERVAL;VALUE=DURATION:PT1H
X-Robots-Tag:noindex
X-PUBLISHED-TTL:PT1H
BEGIN:VTIMEZONE
TZID:UTC
BEGIN:STANDARD
TZOFFSETFROM:+0000
TZOFFSETTO:+0000
TZNAME:UTC
DTSTART:20280101T000000
END:STANDARD
END:VTIMEZONE
BEGIN:VEVENT
DTSTART;TZID=UTC:20290716T173000
DTEND;TZID=UTC:20290716T190000
DTSTAMP:20260424T153500
CREATED:20260206T145607Z
LAST-MODIFIED:20260206T145607Z
UID:10025546-1878917400-1878922800@www.maddhatterpro.com
SUMMARY:Headliners Sports Bar Trivia
DESCRIPTION:Arizona’s toughest comes to Ahwatukee! DJ Wonder in the house serving up those questions to make you think\, while Headliners serves up the wings! Starting at 5pm\, come out to play FAMILY FRIENDLY.
URL:https://www.maddhatterpro.com/event/headliners-sports-bar-trivia/2029-07-16/
LOCATION:Headliners\, 4142 E Chandler Blvd\, Phoenix\, AZ\, 85048\, United States
ATTACH;FMTTYPE=image/jpeg:https://www.maddhatterpro.com/wp-content/uploads/2026/02/Headliners-Ahwatukee.jpg
END:VEVENT
BEGIN:VEVENT
DTSTART;TZID=UTC:20290723T173000
DTEND;TZID=UTC:20290723T190000
DTSTAMP:20260424T153500
CREATED:20260206T145607Z
LAST-MODIFIED:20260206T145607Z
UID:10025547-1879522200-1879527600@www.maddhatterpro.com
SUMMARY:Headliners Sports Bar Trivia
DESCRIPTION:Arizona’s toughest comes to Ahwatukee! DJ Wonder in the house serving up those questions to make you think\, while Headliners serves up the wings! Starting at 5pm\, come out to play FAMILY FRIENDLY.
URL:https://www.maddhatterpro.com/event/headliners-sports-bar-trivia/2029-07-23/
LOCATION:Headliners\, 4142 E Chandler Blvd\, Phoenix\, AZ\, 85048\, United States
ATTACH;FMTTYPE=image/jpeg:https://www.maddhatterpro.com/wp-content/uploads/2026/02/Headliners-Ahwatukee.jpg
END:VEVENT
BEGIN:VEVENT
DTSTART;TZID=UTC:20290730T173000
DTEND;TZID=UTC:20290730T190000
DTSTAMP:20260424T153500
CREATED:20260206T145607Z
LAST-MODIFIED:20260206T145607Z
UID:10025548-1880127000-1880132400@www.maddhatterpro.com
SUMMARY:Headliners Sports Bar Trivia
DESCRIPTION:Arizona’s toughest comes to Ahwatukee! DJ Wonder in the house serving up those questions to make you think\, while Headliners serves up the wings! Starting at 5pm\, come out to play FAMILY FRIENDLY.
URL:https://www.maddhatterpro.com/event/headliners-sports-bar-trivia/2029-07-30/
LOCATION:Headliners\, 4142 E Chandler Blvd\, Phoenix\, AZ\, 85048\, United States
ATTACH;FMTTYPE=image/jpeg:https://www.maddhatterpro.com/wp-content/uploads/2026/02/Headliners-Ahwatukee.jpg
END:VEVENT
BEGIN:VEVENT
DTSTART;TZID=UTC:20290806T173000
DTEND;TZID=UTC:20290806T190000
DTSTAMP:20260424T153500
CREATED:20260206T145607Z
LAST-MODIFIED:20260206T145607Z
UID:10025549-1880731800-1880737200@www.maddhatterpro.com
SUMMARY:Headliners Sports Bar Trivia
DESCRIPTION:Arizona’s toughest comes to Ahwatukee! DJ Wonder in the house serving up those questions to make you think\, while Headliners serves up the wings! Starting at 5pm\, come out to play FAMILY FRIENDLY.
URL:https://www.maddhatterpro.com/event/headliners-sports-bar-trivia/2029-08-06/
LOCATION:Headliners\, 4142 E Chandler Blvd\, Phoenix\, AZ\, 85048\, United States
ATTACH;FMTTYPE=image/jpeg:https://www.maddhatterpro.com/wp-content/uploads/2026/02/Headliners-Ahwatukee.jpg
END:VEVENT
BEGIN:VEVENT
DTSTART;TZID=UTC:20290813T173000
DTEND;TZID=UTC:20290813T190000
DTSTAMP:20260424T153500
CREATED:20260206T145607Z
LAST-MODIFIED:20260206T145607Z
UID:10025550-1881336600-1881342000@www.maddhatterpro.com
SUMMARY:Headliners Sports Bar Trivia
DESCRIPTION:Arizona’s toughest comes to Ahwatukee! DJ Wonder in the house serving up those questions to make you think\, while Headliners serves up the wings! Starting at 5pm\, come out to play FAMILY FRIENDLY.
URL:https://www.maddhatterpro.com/event/headliners-sports-bar-trivia/2029-08-13/
LOCATION:Headliners\, 4142 E Chandler Blvd\, Phoenix\, AZ\, 85048\, United States
ATTACH;FMTTYPE=image/jpeg:https://www.maddhatterpro.com/wp-content/uploads/2026/02/Headliners-Ahwatukee.jpg
END:VEVENT
BEGIN:VEVENT
DTSTART;TZID=UTC:20290820T173000
DTEND;TZID=UTC:20290820T190000
DTSTAMP:20260424T153500
CREATED:20260206T145607Z
LAST-MODIFIED:20260206T145607Z
UID:10025551-1881941400-1881946800@www.maddhatterpro.com
SUMMARY:Headliners Sports Bar Trivia
DESCRIPTION:Arizona’s toughest comes to Ahwatukee! DJ Wonder in the house serving up those questions to make you think\, while Headliners serves up the wings! Starting at 5pm\, come out to play FAMILY FRIENDLY.
URL:https://www.maddhatterpro.com/event/headliners-sports-bar-trivia/2029-08-20/
LOCATION:Headliners\, 4142 E Chandler Blvd\, Phoenix\, AZ\, 85048\, United States
ATTACH;FMTTYPE=image/jpeg:https://www.maddhatterpro.com/wp-content/uploads/2026/02/Headliners-Ahwatukee.jpg
END:VEVENT
BEGIN:VEVENT
DTSTART;TZID=UTC:20290827T173000
DTEND;TZID=UTC:20290827T190000
DTSTAMP:20260424T153500
CREATED:20260206T145607Z
LAST-MODIFIED:20260206T145607Z
UID:10025552-1882546200-1882551600@www.maddhatterpro.com
SUMMARY:Headliners Sports Bar Trivia
DESCRIPTION:Arizona’s toughest comes to Ahwatukee! DJ Wonder in the house serving up those questions to make you think\, while Headliners serves up the wings! Starting at 5pm\, come out to play FAMILY FRIENDLY.
URL:https://www.maddhatterpro.com/event/headliners-sports-bar-trivia/2029-08-27/
LOCATION:Headliners\, 4142 E Chandler Blvd\, Phoenix\, AZ\, 85048\, United States
ATTACH;FMTTYPE=image/jpeg:https://www.maddhatterpro.com/wp-content/uploads/2026/02/Headliners-Ahwatukee.jpg
END:VEVENT
BEGIN:VEVENT
DTSTART;TZID=UTC:20290903T173000
DTEND;TZID=UTC:20290903T190000
DTSTAMP:20260424T153500
CREATED:20260206T145607Z
LAST-MODIFIED:20260206T145607Z
UID:10025553-1883151000-1883156400@www.maddhatterpro.com
SUMMARY:Headliners Sports Bar Trivia
DESCRIPTION:Arizona’s toughest comes to Ahwatukee! DJ Wonder in the house serving up those questions to make you think\, while Headliners serves up the wings! Starting at 5pm\, come out to play FAMILY FRIENDLY.
URL:https://www.maddhatterpro.com/event/headliners-sports-bar-trivia/2029-09-03/
LOCATION:Headliners\, 4142 E Chandler Blvd\, Phoenix\, AZ\, 85048\, United States
ATTACH;FMTTYPE=image/jpeg:https://www.maddhatterpro.com/wp-content/uploads/2026/02/Headliners-Ahwatukee.jpg
END:VEVENT
BEGIN:VEVENT
DTSTART;TZID=UTC:20290910T173000
DTEND;TZID=UTC:20290910T190000
DTSTAMP:20260424T153500
CREATED:20260206T145607Z
LAST-MODIFIED:20260206T145607Z
UID:10025554-1883755800-1883761200@www.maddhatterpro.com
SUMMARY:Headliners Sports Bar Trivia
DESCRIPTION:Arizona’s toughest comes to Ahwatukee! DJ Wonder in the house serving up those questions to make you think\, while Headliners serves up the wings! Starting at 5pm\, come out to play FAMILY FRIENDLY.
URL:https://www.maddhatterpro.com/event/headliners-sports-bar-trivia/2029-09-10/
LOCATION:Headliners\, 4142 E Chandler Blvd\, Phoenix\, AZ\, 85048\, United States
ATTACH;FMTTYPE=image/jpeg:https://www.maddhatterpro.com/wp-content/uploads/2026/02/Headliners-Ahwatukee.jpg
END:VEVENT
BEGIN:VEVENT
DTSTART;TZID=UTC:20290917T173000
DTEND;TZID=UTC:20290917T190000
DTSTAMP:20260424T153500
CREATED:20260206T145607Z
LAST-MODIFIED:20260206T145607Z
UID:10025555-1884360600-1884366000@www.maddhatterpro.com
SUMMARY:Headliners Sports Bar Trivia
DESCRIPTION:Arizona’s toughest comes to Ahwatukee! DJ Wonder in the house serving up those questions to make you think\, while Headliners serves up the wings! Starting at 5pm\, come out to play FAMILY FRIENDLY.
URL:https://www.maddhatterpro.com/event/headliners-sports-bar-trivia/2029-09-17/
LOCATION:Headliners\, 4142 E Chandler Blvd\, Phoenix\, AZ\, 85048\, United States
ATTACH;FMTTYPE=image/jpeg:https://www.maddhatterpro.com/wp-content/uploads/2026/02/Headliners-Ahwatukee.jpg
END:VEVENT
BEGIN:VEVENT
DTSTART;TZID=UTC:20290924T173000
DTEND;TZID=UTC:20290924T190000
DTSTAMP:20260424T153500
CREATED:20260206T145607Z
LAST-MODIFIED:20260206T145607Z
UID:10025556-1884965400-1884970800@www.maddhatterpro.com
SUMMARY:Headliners Sports Bar Trivia
DESCRIPTION:Arizona’s toughest comes to Ahwatukee! DJ Wonder in the house serving up those questions to make you think\, while Headliners serves up the wings! Starting at 5pm\, come out to play FAMILY FRIENDLY.
URL:https://www.maddhatterpro.com/event/headliners-sports-bar-trivia/2029-09-24/
LOCATION:Headliners\, 4142 E Chandler Blvd\, Phoenix\, AZ\, 85048\, United States
ATTACH;FMTTYPE=image/jpeg:https://www.maddhatterpro.com/wp-content/uploads/2026/02/Headliners-Ahwatukee.jpg
END:VEVENT
BEGIN:VEVENT
DTSTART;TZID=UTC:20291001T173000
DTEND;TZID=UTC:20291001T190000
DTSTAMP:20260424T153500
CREATED:20260206T145607Z
LAST-MODIFIED:20260206T145607Z
UID:10025557-1885570200-1885575600@www.maddhatterpro.com
SUMMARY:Headliners Sports Bar Trivia
DESCRIPTION:Arizona’s toughest comes to Ahwatukee! DJ Wonder in the house serving up those questions to make you think\, while Headliners serves up the wings! Starting at 5pm\, come out to play FAMILY FRIENDLY.
URL:https://www.maddhatterpro.com/event/headliners-sports-bar-trivia/2029-10-01/
LOCATION:Headliners\, 4142 E Chandler Blvd\, Phoenix\, AZ\, 85048\, United States
ATTACH;FMTTYPE=image/jpeg:https://www.maddhatterpro.com/wp-content/uploads/2026/02/Headliners-Ahwatukee.jpg
END:VEVENT
BEGIN:VEVENT
DTSTART;TZID=UTC:20291008T173000
DTEND;TZID=UTC:20291008T190000
DTSTAMP:20260424T153500
CREATED:20260206T145607Z
LAST-MODIFIED:20260206T145607Z
UID:10025558-1886175000-1886180400@www.maddhatterpro.com
SUMMARY:Headliners Sports Bar Trivia
DESCRIPTION:Arizona’s toughest comes to Ahwatukee! DJ Wonder in the house serving up those questions to make you think\, while Headliners serves up the wings! Starting at 5pm\, come out to play FAMILY FRIENDLY.
URL:https://www.maddhatterpro.com/event/headliners-sports-bar-trivia/2029-10-08/
LOCATION:Headliners\, 4142 E Chandler Blvd\, Phoenix\, AZ\, 85048\, United States
ATTACH;FMTTYPE=image/jpeg:https://www.maddhatterpro.com/wp-content/uploads/2026/02/Headliners-Ahwatukee.jpg
END:VEVENT
BEGIN:VEVENT
DTSTART;TZID=UTC:20291015T173000
DTEND;TZID=UTC:20291015T190000
DTSTAMP:20260424T153500
CREATED:20260206T145607Z
LAST-MODIFIED:20260206T145607Z
UID:10025559-1886779800-1886785200@www.maddhatterpro.com
SUMMARY:Headliners Sports Bar Trivia
DESCRIPTION:Arizona’s toughest comes to Ahwatukee! DJ Wonder in the house serving up those questions to make you think\, while Headliners serves up the wings! Starting at 5pm\, come out to play FAMILY FRIENDLY.
URL:https://www.maddhatterpro.com/event/headliners-sports-bar-trivia/2029-10-15/
LOCATION:Headliners\, 4142 E Chandler Blvd\, Phoenix\, AZ\, 85048\, United States
ATTACH;FMTTYPE=image/jpeg:https://www.maddhatterpro.com/wp-content/uploads/2026/02/Headliners-Ahwatukee.jpg
END:VEVENT
BEGIN:VEVENT
DTSTART;TZID=UTC:20291022T173000
DTEND;TZID=UTC:20291022T190000
DTSTAMP:20260424T153500
CREATED:20260206T145607Z
LAST-MODIFIED:20260206T145607Z
UID:10025560-1887384600-1887390000@www.maddhatterpro.com
SUMMARY:Headliners Sports Bar Trivia
DESCRIPTION:Arizona’s toughest comes to Ahwatukee! DJ Wonder in the house serving up those questions to make you think\, while Headliners serves up the wings! Starting at 5pm\, come out to play FAMILY FRIENDLY.
URL:https://www.maddhatterpro.com/event/headliners-sports-bar-trivia/2029-10-22/
LOCATION:Headliners\, 4142 E Chandler Blvd\, Phoenix\, AZ\, 85048\, United States
ATTACH;FMTTYPE=image/jpeg:https://www.maddhatterpro.com/wp-content/uploads/2026/02/Headliners-Ahwatukee.jpg
END:VEVENT
BEGIN:VEVENT
DTSTART;TZID=UTC:20291029T173000
DTEND;TZID=UTC:20291029T190000
DTSTAMP:20260424T153500
CREATED:20260206T145607Z
LAST-MODIFIED:20260206T145607Z
UID:10025561-1887989400-1887994800@www.maddhatterpro.com
SUMMARY:Headliners Sports Bar Trivia
DESCRIPTION:Arizona’s toughest comes to Ahwatukee! DJ Wonder in the house serving up those questions to make you think\, while Headliners serves up the wings! Starting at 5pm\, come out to play FAMILY FRIENDLY.
URL:https://www.maddhatterpro.com/event/headliners-sports-bar-trivia/2029-10-29/
LOCATION:Headliners\, 4142 E Chandler Blvd\, Phoenix\, AZ\, 85048\, United States
ATTACH;FMTTYPE=image/jpeg:https://www.maddhatterpro.com/wp-content/uploads/2026/02/Headliners-Ahwatukee.jpg
END:VEVENT
BEGIN:VEVENT
DTSTART;TZID=UTC:20291105T173000
DTEND;TZID=UTC:20291105T190000
DTSTAMP:20260424T153500
CREATED:20260206T145607Z
LAST-MODIFIED:20260206T145607Z
UID:10025562-1888594200-1888599600@www.maddhatterpro.com
SUMMARY:Headliners Sports Bar Trivia
DESCRIPTION:Arizona’s toughest comes to Ahwatukee! DJ Wonder in the house serving up those questions to make you think\, while Headliners serves up the wings! Starting at 5pm\, come out to play FAMILY FRIENDLY.
URL:https://www.maddhatterpro.com/event/headliners-sports-bar-trivia/2029-11-05/
LOCATION:Headliners\, 4142 E Chandler Blvd\, Phoenix\, AZ\, 85048\, United States
ATTACH;FMTTYPE=image/jpeg:https://www.maddhatterpro.com/wp-content/uploads/2026/02/Headliners-Ahwatukee.jpg
END:VEVENT
BEGIN:VEVENT
DTSTART;TZID=UTC:20291112T173000
DTEND;TZID=UTC:20291112T190000
DTSTAMP:20260424T153500
CREATED:20260206T145607Z
LAST-MODIFIED:20260206T145607Z
UID:10025563-1889199000-1889204400@www.maddhatterpro.com
SUMMARY:Headliners Sports Bar Trivia
DESCRIPTION:Arizona’s toughest comes to Ahwatukee! DJ Wonder in the house serving up those questions to make you think\, while Headliners serves up the wings! Starting at 5pm\, come out to play FAMILY FRIENDLY.
URL:https://www.maddhatterpro.com/event/headliners-sports-bar-trivia/2029-11-12/
LOCATION:Headliners\, 4142 E Chandler Blvd\, Phoenix\, AZ\, 85048\, United States
ATTACH;FMTTYPE=image/jpeg:https://www.maddhatterpro.com/wp-content/uploads/2026/02/Headliners-Ahwatukee.jpg
END:VEVENT
BEGIN:VEVENT
DTSTART;TZID=UTC:20291119T173000
DTEND;TZID=UTC:20291119T190000
DTSTAMP:20260424T153500
CREATED:20260206T145607Z
LAST-MODIFIED:20260206T145607Z
UID:10025564-1889803800-1889809200@www.maddhatterpro.com
SUMMARY:Headliners Sports Bar Trivia
DESCRIPTION:Arizona’s toughest comes to Ahwatukee! DJ Wonder in the house serving up those questions to make you think\, while Headliners serves up the wings! Starting at 5pm\, come out to play FAMILY FRIENDLY.
URL:https://www.maddhatterpro.com/event/headliners-sports-bar-trivia/2029-11-19/
LOCATION:Headliners\, 4142 E Chandler Blvd\, Phoenix\, AZ\, 85048\, United States
ATTACH;FMTTYPE=image/jpeg:https://www.maddhatterpro.com/wp-content/uploads/2026/02/Headliners-Ahwatukee.jpg
END:VEVENT
BEGIN:VEVENT
DTSTART;TZID=UTC:20291126T173000
DTEND;TZID=UTC:20291126T190000
DTSTAMP:20260424T153500
CREATED:20260206T145607Z
LAST-MODIFIED:20260206T145607Z
UID:10025565-1890408600-1890414000@www.maddhatterpro.com
SUMMARY:Headliners Sports Bar Trivia
DESCRIPTION:Arizona’s toughest comes to Ahwatukee! DJ Wonder in the house serving up those questions to make you think\, while Headliners serves up the wings! Starting at 5pm\, come out to play FAMILY FRIENDLY.
URL:https://www.maddhatterpro.com/event/headliners-sports-bar-trivia/2029-11-26/
LOCATION:Headliners\, 4142 E Chandler Blvd\, Phoenix\, AZ\, 85048\, United States
ATTACH;FMTTYPE=image/jpeg:https://www.maddhatterpro.com/wp-content/uploads/2026/02/Headliners-Ahwatukee.jpg
END:VEVENT
BEGIN:VEVENT
DTSTART;TZID=UTC:20291203T173000
DTEND;TZID=UTC:20291203T190000
DTSTAMP:20260424T153500
CREATED:20260206T145607Z
LAST-MODIFIED:20260206T145607Z
UID:10025566-1891013400-1891018800@www.maddhatterpro.com
SUMMARY:Headliners Sports Bar Trivia
DESCRIPTION:Arizona’s toughest comes to Ahwatukee! DJ Wonder in the house serving up those questions to make you think\, while Headliners serves up the wings! Starting at 5pm\, come out to play FAMILY FRIENDLY.
URL:https://www.maddhatterpro.com/event/headliners-sports-bar-trivia/2029-12-03/
LOCATION:Headliners\, 4142 E Chandler Blvd\, Phoenix\, AZ\, 85048\, United States
ATTACH;FMTTYPE=image/jpeg:https://www.maddhatterpro.com/wp-content/uploads/2026/02/Headliners-Ahwatukee.jpg
END:VEVENT
BEGIN:VEVENT
DTSTART;TZID=UTC:20291210T173000
DTEND;TZID=UTC:20291210T190000
DTSTAMP:20260424T153500
CREATED:20260206T145607Z
LAST-MODIFIED:20260206T145607Z
UID:10025567-1891618200-1891623600@www.maddhatterpro.com
SUMMARY:Headliners Sports Bar Trivia
DESCRIPTION:Arizona’s toughest comes to Ahwatukee! DJ Wonder in the house serving up those questions to make you think\, while Headliners serves up the wings! Starting at 5pm\, come out to play FAMILY FRIENDLY.
URL:https://www.maddhatterpro.com/event/headliners-sports-bar-trivia/2029-12-10/
LOCATION:Headliners\, 4142 E Chandler Blvd\, Phoenix\, AZ\, 85048\, United States
ATTACH;FMTTYPE=image/jpeg:https://www.maddhatterpro.com/wp-content/uploads/2026/02/Headliners-Ahwatukee.jpg
END:VEVENT
BEGIN:VEVENT
DTSTART;TZID=UTC:20291217T173000
DTEND;TZID=UTC:20291217T190000
DTSTAMP:20260424T153500
CREATED:20260206T145607Z
LAST-MODIFIED:20260206T145607Z
UID:10025568-1892223000-1892228400@www.maddhatterpro.com
SUMMARY:Headliners Sports Bar Trivia
DESCRIPTION:Arizona’s toughest comes to Ahwatukee! DJ Wonder in the house serving up those questions to make you think\, while Headliners serves up the wings! Starting at 5pm\, come out to play FAMILY FRIENDLY.
URL:https://www.maddhatterpro.com/event/headliners-sports-bar-trivia/2029-12-17/
LOCATION:Headliners\, 4142 E Chandler Blvd\, Phoenix\, AZ\, 85048\, United States
ATTACH;FMTTYPE=image/jpeg:https://www.maddhatterpro.com/wp-content/uploads/2026/02/Headliners-Ahwatukee.jpg
END:VEVENT
BEGIN:VEVENT
DTSTART;TZID=UTC:20291224T173000
DTEND;TZID=UTC:20291224T190000
DTSTAMP:20260424T153500
CREATED:20260206T145607Z
LAST-MODIFIED:20260206T145607Z
UID:10025569-1892827800-1892833200@www.maddhatterpro.com
SUMMARY:Headliners Sports Bar Trivia
DESCRIPTION:Arizona’s toughest comes to Ahwatukee! DJ Wonder in the house serving up those questions to make you think\, while Headliners serves up the wings! Starting at 5pm\, come out to play FAMILY FRIENDLY.
URL:https://www.maddhatterpro.com/event/headliners-sports-bar-trivia/2029-12-24/
LOCATION:Headliners\, 4142 E Chandler Blvd\, Phoenix\, AZ\, 85048\, United States
ATTACH;FMTTYPE=image/jpeg:https://www.maddhatterpro.com/wp-content/uploads/2026/02/Headliners-Ahwatukee.jpg
END:VEVENT
BEGIN:VEVENT
DTSTART;TZID=UTC:20291231T173000
DTEND;TZID=UTC:20291231T190000
DTSTAMP:20260424T153500
CREATED:20260206T145607Z
LAST-MODIFIED:20260206T145607Z
UID:10025570-1893432600-1893438000@www.maddhatterpro.com
SUMMARY:Headliners Sports Bar Trivia
DESCRIPTION:Arizona’s toughest comes to Ahwatukee! DJ Wonder in the house serving up those questions to make you think\, while Headliners serves up the wings! Starting at 5pm\, come out to play FAMILY FRIENDLY.
URL:https://www.maddhatterpro.com/event/headliners-sports-bar-trivia/2029-12-31/
LOCATION:Headliners\, 4142 E Chandler Blvd\, Phoenix\, AZ\, 85048\, United States
ATTACH;FMTTYPE=image/jpeg:https://www.maddhatterpro.com/wp-content/uploads/2026/02/Headliners-Ahwatukee.jpg
END:VEVENT
BEGIN:VEVENT
DTSTART;TZID=UTC:20300107T173000
DTEND;TZID=UTC:20300107T190000
DTSTAMP:20260424T153500
CREATED:20260206T145607Z
LAST-MODIFIED:20260206T145607Z
UID:10025571-1894037400-1894042800@www.maddhatterpro.com
SUMMARY:Headliners Sports Bar Trivia
DESCRIPTION:Arizona’s toughest comes to Ahwatukee! DJ Wonder in the house serving up those questions to make you think\, while Headliners serves up the wings! Starting at 5pm\, come out to play FAMILY FRIENDLY.
URL:https://www.maddhatterpro.com/event/headliners-sports-bar-trivia/2030-01-07/
LOCATION:Headliners\, 4142 E Chandler Blvd\, Phoenix\, AZ\, 85048\, United States
ATTACH;FMTTYPE=image/jpeg:https://www.maddhatterpro.com/wp-content/uploads/2026/02/Headliners-Ahwatukee.jpg
END:VEVENT
BEGIN:VEVENT
DTSTART;TZID=UTC:20300114T173000
DTEND;TZID=UTC:20300114T190000
DTSTAMP:20260424T153500
CREATED:20260206T145607Z
LAST-MODIFIED:20260206T145607Z
UID:10025572-1894642200-1894647600@www.maddhatterpro.com
SUMMARY:Headliners Sports Bar Trivia
DESCRIPTION:Arizona’s toughest comes to Ahwatukee! DJ Wonder in the house serving up those questions to make you think\, while Headliners serves up the wings! Starting at 5pm\, come out to play FAMILY FRIENDLY.
URL:https://www.maddhatterpro.com/event/headliners-sports-bar-trivia/2030-01-14/
LOCATION:Headliners\, 4142 E Chandler Blvd\, Phoenix\, AZ\, 85048\, United States
ATTACH;FMTTYPE=image/jpeg:https://www.maddhatterpro.com/wp-content/uploads/2026/02/Headliners-Ahwatukee.jpg
END:VEVENT
BEGIN:VEVENT
DTSTART;TZID=UTC:20300121T173000
DTEND;TZID=UTC:20300121T190000
DTSTAMP:20260424T153500
CREATED:20260206T145607Z
LAST-MODIFIED:20260206T145607Z
UID:10025573-1895247000-1895252400@www.maddhatterpro.com
SUMMARY:Headliners Sports Bar Trivia
DESCRIPTION:Arizona’s toughest comes to Ahwatukee! DJ Wonder in the house serving up those questions to make you think\, while Headliners serves up the wings! Starting at 5pm\, come out to play FAMILY FRIENDLY.
URL:https://www.maddhatterpro.com/event/headliners-sports-bar-trivia/2030-01-21/
LOCATION:Headliners\, 4142 E Chandler Blvd\, Phoenix\, AZ\, 85048\, United States
ATTACH;FMTTYPE=image/jpeg:https://www.maddhatterpro.com/wp-content/uploads/2026/02/Headliners-Ahwatukee.jpg
END:VEVENT
BEGIN:VEVENT
DTSTART;TZID=UTC:20300128T173000
DTEND;TZID=UTC:20300128T190000
DTSTAMP:20260424T153500
CREATED:20260206T145607Z
LAST-MODIFIED:20260206T145607Z
UID:10025574-1895851800-1895857200@www.maddhatterpro.com
SUMMARY:Headliners Sports Bar Trivia
DESCRIPTION:Arizona’s toughest comes to Ahwatukee! DJ Wonder in the house serving up those questions to make you think\, while Headliners serves up the wings! Starting at 5pm\, come out to play FAMILY FRIENDLY.
URL:https://www.maddhatterpro.com/event/headliners-sports-bar-trivia/2030-01-28/
LOCATION:Headliners\, 4142 E Chandler Blvd\, Phoenix\, AZ\, 85048\, United States
ATTACH;FMTTYPE=image/jpeg:https://www.maddhatterpro.com/wp-content/uploads/2026/02/Headliners-Ahwatukee.jpg
END:VEVENT
BEGIN:VEVENT
DTSTART;TZID=UTC:20300204T173000
DTEND;TZID=UTC:20300204T190000
DTSTAMP:20260424T153500
CREATED:20260206T145607Z
LAST-MODIFIED:20260206T145607Z
UID:10025575-1896456600-1896462000@www.maddhatterpro.com
SUMMARY:Headliners Sports Bar Trivia
DESCRIPTION:Arizona’s toughest comes to Ahwatukee! DJ Wonder in the house serving up those questions to make you think\, while Headliners serves up the wings! Starting at 5pm\, come out to play FAMILY FRIENDLY.
URL:https://www.maddhatterpro.com/event/headliners-sports-bar-trivia/2030-02-04/
LOCATION:Headliners\, 4142 E Chandler Blvd\, Phoenix\, AZ\, 85048\, United States
ATTACH;FMTTYPE=image/jpeg:https://www.maddhatterpro.com/wp-content/uploads/2026/02/Headliners-Ahwatukee.jpg
END:VEVENT
END:VCALENDAR