BEGIN:VCALENDAR
VERSION:2.0
PRODID:-//MaddHatterPro.com - ECPv6.15.20//NONSGML v1.0//EN
CALSCALE:GREGORIAN
METHOD:PUBLISH
X-WR-CALNAME:MaddHatterPro.com
X-ORIGINAL-URL:https://www.maddhatterpro.com
X-WR-CALDESC:Events for MaddHatterPro.com
REFRESH-INTERVAL;VALUE=DURATION:PT1H
X-Robots-Tag:noindex
X-PUBLISHED-TTL:PT1H
BEGIN:VTIMEZONE
TZID:UTC
BEGIN:STANDARD
TZOFFSETFROM:+0000
TZOFFSETTO:+0000
TZNAME:UTC
DTSTART:20280101T000000
END:STANDARD
END:VTIMEZONE
BEGIN:VEVENT
DTSTART;TZID=UTC:20290715T210000
DTEND;TZID=UTC:20290715T210000
DTSTAMP:20260424T112421
CREATED:20250703T234035Z
LAST-MODIFIED:20260206T144755Z
UID:10020884-1878843600-1878843600@www.maddhatterpro.com
SUMMARY:Boycott Bar Karaoke
DESCRIPTION:The award winning Boycott bar\, and MaddHatter. The most incredible\, supportive crowds. This bar is a treat. Come out with KJ Zondo and not only see\, but FEEL the hype. Good vibes only! \n4301 N 7th Ave\, Phoenix\, AZ 85013 \n+16028256240
URL:https://www.maddhatterpro.com/event/boycott-bar-karaoke/2029-07-15/
LOCATION:Boycott Bar\, 4301 N 7th Ave\, Phoenix\, AZ\, 85013\, United States
CATEGORIES:Karaoke,KJ Zondo
ATTACH;FMTTYPE=image/jpeg:https://www.maddhatterpro.com/wp-content/uploads/2026/02/boycott-PHX.jpg
END:VEVENT
BEGIN:VEVENT
DTSTART;TZID=UTC:20290722T210000
DTEND;TZID=UTC:20290722T210000
DTSTAMP:20260424T112421
CREATED:20250703T234035Z
LAST-MODIFIED:20260206T144755Z
UID:10020885-1879448400-1879448400@www.maddhatterpro.com
SUMMARY:Boycott Bar Karaoke
DESCRIPTION:The award winning Boycott bar\, and MaddHatter. The most incredible\, supportive crowds. This bar is a treat. Come out with KJ Zondo and not only see\, but FEEL the hype. Good vibes only! \n4301 N 7th Ave\, Phoenix\, AZ 85013 \n+16028256240
URL:https://www.maddhatterpro.com/event/boycott-bar-karaoke/2029-07-22/
LOCATION:Boycott Bar\, 4301 N 7th Ave\, Phoenix\, AZ\, 85013\, United States
CATEGORIES:Karaoke,KJ Zondo
ATTACH;FMTTYPE=image/jpeg:https://www.maddhatterpro.com/wp-content/uploads/2026/02/boycott-PHX.jpg
END:VEVENT
BEGIN:VEVENT
DTSTART;TZID=UTC:20290729T210000
DTEND;TZID=UTC:20290729T210000
DTSTAMP:20260424T112421
CREATED:20250703T234035Z
LAST-MODIFIED:20260206T144755Z
UID:10020886-1880053200-1880053200@www.maddhatterpro.com
SUMMARY:Boycott Bar Karaoke
DESCRIPTION:The award winning Boycott bar\, and MaddHatter. The most incredible\, supportive crowds. This bar is a treat. Come out with KJ Zondo and not only see\, but FEEL the hype. Good vibes only! \n4301 N 7th Ave\, Phoenix\, AZ 85013 \n+16028256240
URL:https://www.maddhatterpro.com/event/boycott-bar-karaoke/2029-07-29/
LOCATION:Boycott Bar\, 4301 N 7th Ave\, Phoenix\, AZ\, 85013\, United States
CATEGORIES:Karaoke,KJ Zondo
ATTACH;FMTTYPE=image/jpeg:https://www.maddhatterpro.com/wp-content/uploads/2026/02/boycott-PHX.jpg
END:VEVENT
BEGIN:VEVENT
DTSTART;TZID=UTC:20290805T210000
DTEND;TZID=UTC:20290805T210000
DTSTAMP:20260424T112421
CREATED:20250703T234035Z
LAST-MODIFIED:20260206T144755Z
UID:10020887-1880658000-1880658000@www.maddhatterpro.com
SUMMARY:Boycott Bar Karaoke
DESCRIPTION:The award winning Boycott bar\, and MaddHatter. The most incredible\, supportive crowds. This bar is a treat. Come out with KJ Zondo and not only see\, but FEEL the hype. Good vibes only! \n4301 N 7th Ave\, Phoenix\, AZ 85013 \n+16028256240
URL:https://www.maddhatterpro.com/event/boycott-bar-karaoke/2029-08-05/
LOCATION:Boycott Bar\, 4301 N 7th Ave\, Phoenix\, AZ\, 85013\, United States
CATEGORIES:Karaoke,KJ Zondo
ATTACH;FMTTYPE=image/jpeg:https://www.maddhatterpro.com/wp-content/uploads/2026/02/boycott-PHX.jpg
END:VEVENT
BEGIN:VEVENT
DTSTART;TZID=UTC:20290812T210000
DTEND;TZID=UTC:20290812T210000
DTSTAMP:20260424T112421
CREATED:20250703T234035Z
LAST-MODIFIED:20260206T144755Z
UID:10020888-1881262800-1881262800@www.maddhatterpro.com
SUMMARY:Boycott Bar Karaoke
DESCRIPTION:The award winning Boycott bar\, and MaddHatter. The most incredible\, supportive crowds. This bar is a treat. Come out with KJ Zondo and not only see\, but FEEL the hype. Good vibes only! \n4301 N 7th Ave\, Phoenix\, AZ 85013 \n+16028256240
URL:https://www.maddhatterpro.com/event/boycott-bar-karaoke/2029-08-12/
LOCATION:Boycott Bar\, 4301 N 7th Ave\, Phoenix\, AZ\, 85013\, United States
CATEGORIES:Karaoke,KJ Zondo
ATTACH;FMTTYPE=image/jpeg:https://www.maddhatterpro.com/wp-content/uploads/2026/02/boycott-PHX.jpg
END:VEVENT
BEGIN:VEVENT
DTSTART;TZID=UTC:20290819T210000
DTEND;TZID=UTC:20290819T210000
DTSTAMP:20260424T112421
CREATED:20250703T234035Z
LAST-MODIFIED:20260206T144755Z
UID:10020889-1881867600-1881867600@www.maddhatterpro.com
SUMMARY:Boycott Bar Karaoke
DESCRIPTION:The award winning Boycott bar\, and MaddHatter. The most incredible\, supportive crowds. This bar is a treat. Come out with KJ Zondo and not only see\, but FEEL the hype. Good vibes only! \n4301 N 7th Ave\, Phoenix\, AZ 85013 \n+16028256240
URL:https://www.maddhatterpro.com/event/boycott-bar-karaoke/2029-08-19/
LOCATION:Boycott Bar\, 4301 N 7th Ave\, Phoenix\, AZ\, 85013\, United States
CATEGORIES:Karaoke,KJ Zondo
ATTACH;FMTTYPE=image/jpeg:https://www.maddhatterpro.com/wp-content/uploads/2026/02/boycott-PHX.jpg
END:VEVENT
BEGIN:VEVENT
DTSTART;TZID=UTC:20290826T210000
DTEND;TZID=UTC:20290826T210000
DTSTAMP:20260424T112421
CREATED:20250703T234035Z
LAST-MODIFIED:20260206T144755Z
UID:10020890-1882472400-1882472400@www.maddhatterpro.com
SUMMARY:Boycott Bar Karaoke
DESCRIPTION:The award winning Boycott bar\, and MaddHatter. The most incredible\, supportive crowds. This bar is a treat. Come out with KJ Zondo and not only see\, but FEEL the hype. Good vibes only! \n4301 N 7th Ave\, Phoenix\, AZ 85013 \n+16028256240
URL:https://www.maddhatterpro.com/event/boycott-bar-karaoke/2029-08-26/
LOCATION:Boycott Bar\, 4301 N 7th Ave\, Phoenix\, AZ\, 85013\, United States
CATEGORIES:Karaoke,KJ Zondo
ATTACH;FMTTYPE=image/jpeg:https://www.maddhatterpro.com/wp-content/uploads/2026/02/boycott-PHX.jpg
END:VEVENT
BEGIN:VEVENT
DTSTART;TZID=UTC:20290902T210000
DTEND;TZID=UTC:20290902T210000
DTSTAMP:20260424T112421
CREATED:20250703T234035Z
LAST-MODIFIED:20260206T144755Z
UID:10020891-1883077200-1883077200@www.maddhatterpro.com
SUMMARY:Boycott Bar Karaoke
DESCRIPTION:The award winning Boycott bar\, and MaddHatter. The most incredible\, supportive crowds. This bar is a treat. Come out with KJ Zondo and not only see\, but FEEL the hype. Good vibes only! \n4301 N 7th Ave\, Phoenix\, AZ 85013 \n+16028256240
URL:https://www.maddhatterpro.com/event/boycott-bar-karaoke/2029-09-02/
LOCATION:Boycott Bar\, 4301 N 7th Ave\, Phoenix\, AZ\, 85013\, United States
CATEGORIES:Karaoke,KJ Zondo
ATTACH;FMTTYPE=image/jpeg:https://www.maddhatterpro.com/wp-content/uploads/2026/02/boycott-PHX.jpg
END:VEVENT
BEGIN:VEVENT
DTSTART;TZID=UTC:20290909T210000
DTEND;TZID=UTC:20290909T210000
DTSTAMP:20260424T112421
CREATED:20250703T234035Z
LAST-MODIFIED:20260206T144755Z
UID:10020892-1883682000-1883682000@www.maddhatterpro.com
SUMMARY:Boycott Bar Karaoke
DESCRIPTION:The award winning Boycott bar\, and MaddHatter. The most incredible\, supportive crowds. This bar is a treat. Come out with KJ Zondo and not only see\, but FEEL the hype. Good vibes only! \n4301 N 7th Ave\, Phoenix\, AZ 85013 \n+16028256240
URL:https://www.maddhatterpro.com/event/boycott-bar-karaoke/2029-09-09/
LOCATION:Boycott Bar\, 4301 N 7th Ave\, Phoenix\, AZ\, 85013\, United States
CATEGORIES:Karaoke,KJ Zondo
ATTACH;FMTTYPE=image/jpeg:https://www.maddhatterpro.com/wp-content/uploads/2026/02/boycott-PHX.jpg
END:VEVENT
BEGIN:VEVENT
DTSTART;TZID=UTC:20290916T210000
DTEND;TZID=UTC:20290916T210000
DTSTAMP:20260424T112421
CREATED:20250703T234035Z
LAST-MODIFIED:20260206T144755Z
UID:10020893-1884286800-1884286800@www.maddhatterpro.com
SUMMARY:Boycott Bar Karaoke
DESCRIPTION:The award winning Boycott bar\, and MaddHatter. The most incredible\, supportive crowds. This bar is a treat. Come out with KJ Zondo and not only see\, but FEEL the hype. Good vibes only! \n4301 N 7th Ave\, Phoenix\, AZ 85013 \n+16028256240
URL:https://www.maddhatterpro.com/event/boycott-bar-karaoke/2029-09-16/
LOCATION:Boycott Bar\, 4301 N 7th Ave\, Phoenix\, AZ\, 85013\, United States
CATEGORIES:Karaoke,KJ Zondo
ATTACH;FMTTYPE=image/jpeg:https://www.maddhatterpro.com/wp-content/uploads/2026/02/boycott-PHX.jpg
END:VEVENT
BEGIN:VEVENT
DTSTART;TZID=UTC:20290923T210000
DTEND;TZID=UTC:20290923T210000
DTSTAMP:20260424T112421
CREATED:20250703T234035Z
LAST-MODIFIED:20260206T144755Z
UID:10020894-1884891600-1884891600@www.maddhatterpro.com
SUMMARY:Boycott Bar Karaoke
DESCRIPTION:The award winning Boycott bar\, and MaddHatter. The most incredible\, supportive crowds. This bar is a treat. Come out with KJ Zondo and not only see\, but FEEL the hype. Good vibes only! \n4301 N 7th Ave\, Phoenix\, AZ 85013 \n+16028256240
URL:https://www.maddhatterpro.com/event/boycott-bar-karaoke/2029-09-23/
LOCATION:Boycott Bar\, 4301 N 7th Ave\, Phoenix\, AZ\, 85013\, United States
CATEGORIES:Karaoke,KJ Zondo
ATTACH;FMTTYPE=image/jpeg:https://www.maddhatterpro.com/wp-content/uploads/2026/02/boycott-PHX.jpg
END:VEVENT
BEGIN:VEVENT
DTSTART;TZID=UTC:20290930T210000
DTEND;TZID=UTC:20290930T210000
DTSTAMP:20260424T112421
CREATED:20250703T234035Z
LAST-MODIFIED:20260206T144755Z
UID:10020895-1885496400-1885496400@www.maddhatterpro.com
SUMMARY:Boycott Bar Karaoke
DESCRIPTION:The award winning Boycott bar\, and MaddHatter. The most incredible\, supportive crowds. This bar is a treat. Come out with KJ Zondo and not only see\, but FEEL the hype. Good vibes only! \n4301 N 7th Ave\, Phoenix\, AZ 85013 \n+16028256240
URL:https://www.maddhatterpro.com/event/boycott-bar-karaoke/2029-09-30/
LOCATION:Boycott Bar\, 4301 N 7th Ave\, Phoenix\, AZ\, 85013\, United States
CATEGORIES:Karaoke,KJ Zondo
ATTACH;FMTTYPE=image/jpeg:https://www.maddhatterpro.com/wp-content/uploads/2026/02/boycott-PHX.jpg
END:VEVENT
BEGIN:VEVENT
DTSTART;TZID=UTC:20291007T210000
DTEND;TZID=UTC:20291007T210000
DTSTAMP:20260424T112421
CREATED:20250703T234035Z
LAST-MODIFIED:20260206T144755Z
UID:10020896-1886101200-1886101200@www.maddhatterpro.com
SUMMARY:Boycott Bar Karaoke
DESCRIPTION:The award winning Boycott bar\, and MaddHatter. The most incredible\, supportive crowds. This bar is a treat. Come out with KJ Zondo and not only see\, but FEEL the hype. Good vibes only! \n4301 N 7th Ave\, Phoenix\, AZ 85013 \n+16028256240
URL:https://www.maddhatterpro.com/event/boycott-bar-karaoke/2029-10-07/
LOCATION:Boycott Bar\, 4301 N 7th Ave\, Phoenix\, AZ\, 85013\, United States
CATEGORIES:Karaoke,KJ Zondo
ATTACH;FMTTYPE=image/jpeg:https://www.maddhatterpro.com/wp-content/uploads/2026/02/boycott-PHX.jpg
END:VEVENT
BEGIN:VEVENT
DTSTART;TZID=UTC:20291014T210000
DTEND;TZID=UTC:20291014T210000
DTSTAMP:20260424T112421
CREATED:20250703T234035Z
LAST-MODIFIED:20260206T144755Z
UID:10020897-1886706000-1886706000@www.maddhatterpro.com
SUMMARY:Boycott Bar Karaoke
DESCRIPTION:The award winning Boycott bar\, and MaddHatter. The most incredible\, supportive crowds. This bar is a treat. Come out with KJ Zondo and not only see\, but FEEL the hype. Good vibes only! \n4301 N 7th Ave\, Phoenix\, AZ 85013 \n+16028256240
URL:https://www.maddhatterpro.com/event/boycott-bar-karaoke/2029-10-14/
LOCATION:Boycott Bar\, 4301 N 7th Ave\, Phoenix\, AZ\, 85013\, United States
CATEGORIES:Karaoke,KJ Zondo
ATTACH;FMTTYPE=image/jpeg:https://www.maddhatterpro.com/wp-content/uploads/2026/02/boycott-PHX.jpg
END:VEVENT
BEGIN:VEVENT
DTSTART;TZID=UTC:20291021T210000
DTEND;TZID=UTC:20291021T210000
DTSTAMP:20260424T112421
CREATED:20250703T234035Z
LAST-MODIFIED:20260206T144755Z
UID:10020898-1887310800-1887310800@www.maddhatterpro.com
SUMMARY:Boycott Bar Karaoke
DESCRIPTION:The award winning Boycott bar\, and MaddHatter. The most incredible\, supportive crowds. This bar is a treat. Come out with KJ Zondo and not only see\, but FEEL the hype. Good vibes only! \n4301 N 7th Ave\, Phoenix\, AZ 85013 \n+16028256240
URL:https://www.maddhatterpro.com/event/boycott-bar-karaoke/2029-10-21/
LOCATION:Boycott Bar\, 4301 N 7th Ave\, Phoenix\, AZ\, 85013\, United States
CATEGORIES:Karaoke,KJ Zondo
ATTACH;FMTTYPE=image/jpeg:https://www.maddhatterpro.com/wp-content/uploads/2026/02/boycott-PHX.jpg
END:VEVENT
BEGIN:VEVENT
DTSTART;TZID=UTC:20291028T210000
DTEND;TZID=UTC:20291028T210000
DTSTAMP:20260424T112421
CREATED:20250703T234035Z
LAST-MODIFIED:20260206T144755Z
UID:10020899-1887915600-1887915600@www.maddhatterpro.com
SUMMARY:Boycott Bar Karaoke
DESCRIPTION:The award winning Boycott bar\, and MaddHatter. The most incredible\, supportive crowds. This bar is a treat. Come out with KJ Zondo and not only see\, but FEEL the hype. Good vibes only! \n4301 N 7th Ave\, Phoenix\, AZ 85013 \n+16028256240
URL:https://www.maddhatterpro.com/event/boycott-bar-karaoke/2029-10-28/
LOCATION:Boycott Bar\, 4301 N 7th Ave\, Phoenix\, AZ\, 85013\, United States
CATEGORIES:Karaoke,KJ Zondo
ATTACH;FMTTYPE=image/jpeg:https://www.maddhatterpro.com/wp-content/uploads/2026/02/boycott-PHX.jpg
END:VEVENT
BEGIN:VEVENT
DTSTART;TZID=UTC:20291104T210000
DTEND;TZID=UTC:20291104T210000
DTSTAMP:20260424T112421
CREATED:20250703T234035Z
LAST-MODIFIED:20260206T144755Z
UID:10020900-1888520400-1888520400@www.maddhatterpro.com
SUMMARY:Boycott Bar Karaoke
DESCRIPTION:The award winning Boycott bar\, and MaddHatter. The most incredible\, supportive crowds. This bar is a treat. Come out with KJ Zondo and not only see\, but FEEL the hype. Good vibes only! \n4301 N 7th Ave\, Phoenix\, AZ 85013 \n+16028256240
URL:https://www.maddhatterpro.com/event/boycott-bar-karaoke/2029-11-04/
LOCATION:Boycott Bar\, 4301 N 7th Ave\, Phoenix\, AZ\, 85013\, United States
CATEGORIES:Karaoke,KJ Zondo
ATTACH;FMTTYPE=image/jpeg:https://www.maddhatterpro.com/wp-content/uploads/2026/02/boycott-PHX.jpg
END:VEVENT
BEGIN:VEVENT
DTSTART;TZID=UTC:20291111T210000
DTEND;TZID=UTC:20291111T210000
DTSTAMP:20260424T112421
CREATED:20250703T234035Z
LAST-MODIFIED:20260206T144755Z
UID:10020901-1889125200-1889125200@www.maddhatterpro.com
SUMMARY:Boycott Bar Karaoke
DESCRIPTION:The award winning Boycott bar\, and MaddHatter. The most incredible\, supportive crowds. This bar is a treat. Come out with KJ Zondo and not only see\, but FEEL the hype. Good vibes only! \n4301 N 7th Ave\, Phoenix\, AZ 85013 \n+16028256240
URL:https://www.maddhatterpro.com/event/boycott-bar-karaoke/2029-11-11/
LOCATION:Boycott Bar\, 4301 N 7th Ave\, Phoenix\, AZ\, 85013\, United States
CATEGORIES:Karaoke,KJ Zondo
ATTACH;FMTTYPE=image/jpeg:https://www.maddhatterpro.com/wp-content/uploads/2026/02/boycott-PHX.jpg
END:VEVENT
BEGIN:VEVENT
DTSTART;TZID=UTC:20291118T210000
DTEND;TZID=UTC:20291118T210000
DTSTAMP:20260424T112421
CREATED:20250703T234035Z
LAST-MODIFIED:20260206T144755Z
UID:10020902-1889730000-1889730000@www.maddhatterpro.com
SUMMARY:Boycott Bar Karaoke
DESCRIPTION:The award winning Boycott bar\, and MaddHatter. The most incredible\, supportive crowds. This bar is a treat. Come out with KJ Zondo and not only see\, but FEEL the hype. Good vibes only! \n4301 N 7th Ave\, Phoenix\, AZ 85013 \n+16028256240
URL:https://www.maddhatterpro.com/event/boycott-bar-karaoke/2029-11-18/
LOCATION:Boycott Bar\, 4301 N 7th Ave\, Phoenix\, AZ\, 85013\, United States
CATEGORIES:Karaoke,KJ Zondo
ATTACH;FMTTYPE=image/jpeg:https://www.maddhatterpro.com/wp-content/uploads/2026/02/boycott-PHX.jpg
END:VEVENT
BEGIN:VEVENT
DTSTART;TZID=UTC:20291125T210000
DTEND;TZID=UTC:20291125T210000
DTSTAMP:20260424T112421
CREATED:20250703T234035Z
LAST-MODIFIED:20260206T144755Z
UID:10020903-1890334800-1890334800@www.maddhatterpro.com
SUMMARY:Boycott Bar Karaoke
DESCRIPTION:The award winning Boycott bar\, and MaddHatter. The most incredible\, supportive crowds. This bar is a treat. Come out with KJ Zondo and not only see\, but FEEL the hype. Good vibes only! \n4301 N 7th Ave\, Phoenix\, AZ 85013 \n+16028256240
URL:https://www.maddhatterpro.com/event/boycott-bar-karaoke/2029-11-25/
LOCATION:Boycott Bar\, 4301 N 7th Ave\, Phoenix\, AZ\, 85013\, United States
CATEGORIES:Karaoke,KJ Zondo
ATTACH;FMTTYPE=image/jpeg:https://www.maddhatterpro.com/wp-content/uploads/2026/02/boycott-PHX.jpg
END:VEVENT
BEGIN:VEVENT
DTSTART;TZID=UTC:20291202T210000
DTEND;TZID=UTC:20291202T210000
DTSTAMP:20260424T112421
CREATED:20250703T234035Z
LAST-MODIFIED:20260206T144755Z
UID:10020904-1890939600-1890939600@www.maddhatterpro.com
SUMMARY:Boycott Bar Karaoke
DESCRIPTION:The award winning Boycott bar\, and MaddHatter. The most incredible\, supportive crowds. This bar is a treat. Come out with KJ Zondo and not only see\, but FEEL the hype. Good vibes only! \n4301 N 7th Ave\, Phoenix\, AZ 85013 \n+16028256240
URL:https://www.maddhatterpro.com/event/boycott-bar-karaoke/2029-12-02/
LOCATION:Boycott Bar\, 4301 N 7th Ave\, Phoenix\, AZ\, 85013\, United States
CATEGORIES:Karaoke,KJ Zondo
ATTACH;FMTTYPE=image/jpeg:https://www.maddhatterpro.com/wp-content/uploads/2026/02/boycott-PHX.jpg
END:VEVENT
BEGIN:VEVENT
DTSTART;TZID=UTC:20291209T210000
DTEND;TZID=UTC:20291209T210000
DTSTAMP:20260424T112421
CREATED:20250703T234035Z
LAST-MODIFIED:20260206T144755Z
UID:10020905-1891544400-1891544400@www.maddhatterpro.com
SUMMARY:Boycott Bar Karaoke
DESCRIPTION:The award winning Boycott bar\, and MaddHatter. The most incredible\, supportive crowds. This bar is a treat. Come out with KJ Zondo and not only see\, but FEEL the hype. Good vibes only! \n4301 N 7th Ave\, Phoenix\, AZ 85013 \n+16028256240
URL:https://www.maddhatterpro.com/event/boycott-bar-karaoke/2029-12-09/
LOCATION:Boycott Bar\, 4301 N 7th Ave\, Phoenix\, AZ\, 85013\, United States
CATEGORIES:Karaoke,KJ Zondo
ATTACH;FMTTYPE=image/jpeg:https://www.maddhatterpro.com/wp-content/uploads/2026/02/boycott-PHX.jpg
END:VEVENT
BEGIN:VEVENT
DTSTART;TZID=UTC:20291216T210000
DTEND;TZID=UTC:20291216T210000
DTSTAMP:20260424T112421
CREATED:20250703T234035Z
LAST-MODIFIED:20260206T144755Z
UID:10020906-1892149200-1892149200@www.maddhatterpro.com
SUMMARY:Boycott Bar Karaoke
DESCRIPTION:The award winning Boycott bar\, and MaddHatter. The most incredible\, supportive crowds. This bar is a treat. Come out with KJ Zondo and not only see\, but FEEL the hype. Good vibes only! \n4301 N 7th Ave\, Phoenix\, AZ 85013 \n+16028256240
URL:https://www.maddhatterpro.com/event/boycott-bar-karaoke/2029-12-16/
LOCATION:Boycott Bar\, 4301 N 7th Ave\, Phoenix\, AZ\, 85013\, United States
CATEGORIES:Karaoke,KJ Zondo
ATTACH;FMTTYPE=image/jpeg:https://www.maddhatterpro.com/wp-content/uploads/2026/02/boycott-PHX.jpg
END:VEVENT
BEGIN:VEVENT
DTSTART;TZID=UTC:20291223T210000
DTEND;TZID=UTC:20291223T210000
DTSTAMP:20260424T112421
CREATED:20250703T234035Z
LAST-MODIFIED:20260206T144755Z
UID:10020907-1892754000-1892754000@www.maddhatterpro.com
SUMMARY:Boycott Bar Karaoke
DESCRIPTION:The award winning Boycott bar\, and MaddHatter. The most incredible\, supportive crowds. This bar is a treat. Come out with KJ Zondo and not only see\, but FEEL the hype. Good vibes only! \n4301 N 7th Ave\, Phoenix\, AZ 85013 \n+16028256240
URL:https://www.maddhatterpro.com/event/boycott-bar-karaoke/2029-12-23/
LOCATION:Boycott Bar\, 4301 N 7th Ave\, Phoenix\, AZ\, 85013\, United States
CATEGORIES:Karaoke,KJ Zondo
ATTACH;FMTTYPE=image/jpeg:https://www.maddhatterpro.com/wp-content/uploads/2026/02/boycott-PHX.jpg
END:VEVENT
BEGIN:VEVENT
DTSTART;TZID=UTC:20291230T210000
DTEND;TZID=UTC:20291230T210000
DTSTAMP:20260424T112421
CREATED:20250703T234035Z
LAST-MODIFIED:20260206T144755Z
UID:10020908-1893358800-1893358800@www.maddhatterpro.com
SUMMARY:Boycott Bar Karaoke
DESCRIPTION:The award winning Boycott bar\, and MaddHatter. The most incredible\, supportive crowds. This bar is a treat. Come out with KJ Zondo and not only see\, but FEEL the hype. Good vibes only! \n4301 N 7th Ave\, Phoenix\, AZ 85013 \n+16028256240
URL:https://www.maddhatterpro.com/event/boycott-bar-karaoke/2029-12-30/
LOCATION:Boycott Bar\, 4301 N 7th Ave\, Phoenix\, AZ\, 85013\, United States
CATEGORIES:Karaoke,KJ Zondo
ATTACH;FMTTYPE=image/jpeg:https://www.maddhatterpro.com/wp-content/uploads/2026/02/boycott-PHX.jpg
END:VEVENT
BEGIN:VEVENT
DTSTART;TZID=UTC:20300106T210000
DTEND;TZID=UTC:20300106T210000
DTSTAMP:20260424T112421
CREATED:20250703T234035Z
LAST-MODIFIED:20260206T144755Z
UID:10020909-1893963600-1893963600@www.maddhatterpro.com
SUMMARY:Boycott Bar Karaoke
DESCRIPTION:The award winning Boycott bar\, and MaddHatter. The most incredible\, supportive crowds. This bar is a treat. Come out with KJ Zondo and not only see\, but FEEL the hype. Good vibes only! \n4301 N 7th Ave\, Phoenix\, AZ 85013 \n+16028256240
URL:https://www.maddhatterpro.com/event/boycott-bar-karaoke/2030-01-06/
LOCATION:Boycott Bar\, 4301 N 7th Ave\, Phoenix\, AZ\, 85013\, United States
CATEGORIES:Karaoke,KJ Zondo
ATTACH;FMTTYPE=image/jpeg:https://www.maddhatterpro.com/wp-content/uploads/2026/02/boycott-PHX.jpg
END:VEVENT
BEGIN:VEVENT
DTSTART;TZID=UTC:20300113T210000
DTEND;TZID=UTC:20300113T210000
DTSTAMP:20260424T112421
CREATED:20250703T234035Z
LAST-MODIFIED:20260206T144755Z
UID:10020910-1894568400-1894568400@www.maddhatterpro.com
SUMMARY:Boycott Bar Karaoke
DESCRIPTION:The award winning Boycott bar\, and MaddHatter. The most incredible\, supportive crowds. This bar is a treat. Come out with KJ Zondo and not only see\, but FEEL the hype. Good vibes only! \n4301 N 7th Ave\, Phoenix\, AZ 85013 \n+16028256240
URL:https://www.maddhatterpro.com/event/boycott-bar-karaoke/2030-01-13/
LOCATION:Boycott Bar\, 4301 N 7th Ave\, Phoenix\, AZ\, 85013\, United States
CATEGORIES:Karaoke,KJ Zondo
ATTACH;FMTTYPE=image/jpeg:https://www.maddhatterpro.com/wp-content/uploads/2026/02/boycott-PHX.jpg
END:VEVENT
BEGIN:VEVENT
DTSTART;TZID=UTC:20300120T210000
DTEND;TZID=UTC:20300120T210000
DTSTAMP:20260424T112421
CREATED:20250703T234035Z
LAST-MODIFIED:20260206T144755Z
UID:10020911-1895173200-1895173200@www.maddhatterpro.com
SUMMARY:Boycott Bar Karaoke
DESCRIPTION:The award winning Boycott bar\, and MaddHatter. The most incredible\, supportive crowds. This bar is a treat. Come out with KJ Zondo and not only see\, but FEEL the hype. Good vibes only! \n4301 N 7th Ave\, Phoenix\, AZ 85013 \n+16028256240
URL:https://www.maddhatterpro.com/event/boycott-bar-karaoke/2030-01-20/
LOCATION:Boycott Bar\, 4301 N 7th Ave\, Phoenix\, AZ\, 85013\, United States
CATEGORIES:Karaoke,KJ Zondo
ATTACH;FMTTYPE=image/jpeg:https://www.maddhatterpro.com/wp-content/uploads/2026/02/boycott-PHX.jpg
END:VEVENT
BEGIN:VEVENT
DTSTART;TZID=UTC:20300127T210000
DTEND;TZID=UTC:20300127T210000
DTSTAMP:20260424T112421
CREATED:20250703T234035Z
LAST-MODIFIED:20260206T144755Z
UID:10020912-1895778000-1895778000@www.maddhatterpro.com
SUMMARY:Boycott Bar Karaoke
DESCRIPTION:The award winning Boycott bar\, and MaddHatter. The most incredible\, supportive crowds. This bar is a treat. Come out with KJ Zondo and not only see\, but FEEL the hype. Good vibes only! \n4301 N 7th Ave\, Phoenix\, AZ 85013 \n+16028256240
URL:https://www.maddhatterpro.com/event/boycott-bar-karaoke/2030-01-27/
LOCATION:Boycott Bar\, 4301 N 7th Ave\, Phoenix\, AZ\, 85013\, United States
CATEGORIES:Karaoke,KJ Zondo
ATTACH;FMTTYPE=image/jpeg:https://www.maddhatterpro.com/wp-content/uploads/2026/02/boycott-PHX.jpg
END:VEVENT
BEGIN:VEVENT
DTSTART;TZID=UTC:20300203T210000
DTEND;TZID=UTC:20300203T210000
DTSTAMP:20260424T112421
CREATED:20250703T234035Z
LAST-MODIFIED:20260206T144755Z
UID:10020913-1896382800-1896382800@www.maddhatterpro.com
SUMMARY:Boycott Bar Karaoke
DESCRIPTION:The award winning Boycott bar\, and MaddHatter. The most incredible\, supportive crowds. This bar is a treat. Come out with KJ Zondo and not only see\, but FEEL the hype. Good vibes only! \n4301 N 7th Ave\, Phoenix\, AZ 85013 \n+16028256240
URL:https://www.maddhatterpro.com/event/boycott-bar-karaoke/2030-02-03/
LOCATION:Boycott Bar\, 4301 N 7th Ave\, Phoenix\, AZ\, 85013\, United States
CATEGORIES:Karaoke,KJ Zondo
ATTACH;FMTTYPE=image/jpeg:https://www.maddhatterpro.com/wp-content/uploads/2026/02/boycott-PHX.jpg
END:VEVENT
END:VCALENDAR