BEGIN:VCALENDAR
VERSION:2.0
PRODID:-//MaddHatterPro.com - ECPv6.15.20//NONSGML v1.0//EN
CALSCALE:GREGORIAN
METHOD:PUBLISH
X-ORIGINAL-URL:https://www.maddhatterpro.com
X-WR-CALDESC:Events for MaddHatterPro.com
REFRESH-INTERVAL;VALUE=DURATION:PT1H
X-Robots-Tag:noindex
X-PUBLISHED-TTL:PT1H
BEGIN:VTIMEZONE
TZID:UTC
BEGIN:STANDARD
TZOFFSETFROM:+0000
TZOFFSETTO:+0000
TZNAME:UTC
DTSTART:20280101T000000
END:STANDARD
END:VTIMEZONE
BEGIN:VEVENT
DTSTART;TZID=UTC:20290421T210000
DTEND;TZID=UTC:20290421T210000
DTSTAMP:20260424T124451
CREATED:20250704T004113Z
LAST-MODIFIED:20260206T144717Z
UID:10023487-1871499600-1871499600@www.maddhatterpro.com
SUMMARY:Third Base Karaoke
DESCRIPTION:Super chill and ready to hear you sing! KJ Amygdala in the house slinging those tunes\, and your bar tenders\, slinging those drinks. Lets have a blast! \n4910 W Ray Rd #3\, Chandler\, AZ\, United States\, Arizona \n\n\n\n(480) 687-1556
URL:https://www.maddhatterpro.com/event/third-base-karaoke/2029-04-21/
LOCATION:Third Base\, 4910 W Ray Rd #3\, Chandler\, AZ\, 85226\, United States
CATEGORIES:Karaoke,KJ Amygdala
ATTACH;FMTTYPE=image/jpeg:https://www.maddhatterpro.com/wp-content/uploads/2026/02/Third-Base-Chandler.jpg
END:VEVENT
BEGIN:VEVENT
DTSTART;TZID=UTC:20290428T210000
DTEND;TZID=UTC:20290428T210000
DTSTAMP:20260424T124451
CREATED:20250704T004113Z
LAST-MODIFIED:20260206T144717Z
UID:10023488-1872104400-1872104400@www.maddhatterpro.com
SUMMARY:Third Base Karaoke
DESCRIPTION:Super chill and ready to hear you sing! KJ Amygdala in the house slinging those tunes\, and your bar tenders\, slinging those drinks. Lets have a blast! \n4910 W Ray Rd #3\, Chandler\, AZ\, United States\, Arizona \n\n\n\n(480) 687-1556
URL:https://www.maddhatterpro.com/event/third-base-karaoke/2029-04-28/
LOCATION:Third Base\, 4910 W Ray Rd #3\, Chandler\, AZ\, 85226\, United States
CATEGORIES:Karaoke,KJ Amygdala
ATTACH;FMTTYPE=image/jpeg:https://www.maddhatterpro.com/wp-content/uploads/2026/02/Third-Base-Chandler.jpg
END:VEVENT
BEGIN:VEVENT
DTSTART;TZID=UTC:20290505T210000
DTEND;TZID=UTC:20290505T210000
DTSTAMP:20260424T124451
CREATED:20250704T004113Z
LAST-MODIFIED:20260206T144717Z
UID:10023489-1872709200-1872709200@www.maddhatterpro.com
SUMMARY:Third Base Karaoke
DESCRIPTION:Super chill and ready to hear you sing! KJ Amygdala in the house slinging those tunes\, and your bar tenders\, slinging those drinks. Lets have a blast! \n4910 W Ray Rd #3\, Chandler\, AZ\, United States\, Arizona \n\n\n\n(480) 687-1556
URL:https://www.maddhatterpro.com/event/third-base-karaoke/2029-05-05/
LOCATION:Third Base\, 4910 W Ray Rd #3\, Chandler\, AZ\, 85226\, United States
CATEGORIES:Karaoke,KJ Amygdala
ATTACH;FMTTYPE=image/jpeg:https://www.maddhatterpro.com/wp-content/uploads/2026/02/Third-Base-Chandler.jpg
END:VEVENT
BEGIN:VEVENT
DTSTART;TZID=UTC:20290512T210000
DTEND;TZID=UTC:20290512T210000
DTSTAMP:20260424T124451
CREATED:20250704T004113Z
LAST-MODIFIED:20260206T144717Z
UID:10023490-1873314000-1873314000@www.maddhatterpro.com
SUMMARY:Third Base Karaoke
DESCRIPTION:Super chill and ready to hear you sing! KJ Amygdala in the house slinging those tunes\, and your bar tenders\, slinging those drinks. Lets have a blast! \n4910 W Ray Rd #3\, Chandler\, AZ\, United States\, Arizona \n\n\n\n(480) 687-1556
URL:https://www.maddhatterpro.com/event/third-base-karaoke/2029-05-12/
LOCATION:Third Base\, 4910 W Ray Rd #3\, Chandler\, AZ\, 85226\, United States
CATEGORIES:Karaoke,KJ Amygdala
ATTACH;FMTTYPE=image/jpeg:https://www.maddhatterpro.com/wp-content/uploads/2026/02/Third-Base-Chandler.jpg
END:VEVENT
BEGIN:VEVENT
DTSTART;TZID=UTC:20290519T210000
DTEND;TZID=UTC:20290519T210000
DTSTAMP:20260424T124451
CREATED:20250704T004113Z
LAST-MODIFIED:20260206T144717Z
UID:10023491-1873918800-1873918800@www.maddhatterpro.com
SUMMARY:Third Base Karaoke
DESCRIPTION:Super chill and ready to hear you sing! KJ Amygdala in the house slinging those tunes\, and your bar tenders\, slinging those drinks. Lets have a blast! \n4910 W Ray Rd #3\, Chandler\, AZ\, United States\, Arizona \n\n\n\n(480) 687-1556
URL:https://www.maddhatterpro.com/event/third-base-karaoke/2029-05-19/
LOCATION:Third Base\, 4910 W Ray Rd #3\, Chandler\, AZ\, 85226\, United States
CATEGORIES:Karaoke,KJ Amygdala
ATTACH;FMTTYPE=image/jpeg:https://www.maddhatterpro.com/wp-content/uploads/2026/02/Third-Base-Chandler.jpg
END:VEVENT
BEGIN:VEVENT
DTSTART;TZID=UTC:20290526T210000
DTEND;TZID=UTC:20290526T210000
DTSTAMP:20260424T124451
CREATED:20250704T004113Z
LAST-MODIFIED:20260206T144717Z
UID:10023492-1874523600-1874523600@www.maddhatterpro.com
SUMMARY:Third Base Karaoke
DESCRIPTION:Super chill and ready to hear you sing! KJ Amygdala in the house slinging those tunes\, and your bar tenders\, slinging those drinks. Lets have a blast! \n4910 W Ray Rd #3\, Chandler\, AZ\, United States\, Arizona \n\n\n\n(480) 687-1556
URL:https://www.maddhatterpro.com/event/third-base-karaoke/2029-05-26/
LOCATION:Third Base\, 4910 W Ray Rd #3\, Chandler\, AZ\, 85226\, United States
CATEGORIES:Karaoke,KJ Amygdala
ATTACH;FMTTYPE=image/jpeg:https://www.maddhatterpro.com/wp-content/uploads/2026/02/Third-Base-Chandler.jpg
END:VEVENT
BEGIN:VEVENT
DTSTART;TZID=UTC:20290602T210000
DTEND;TZID=UTC:20290602T210000
DTSTAMP:20260424T124451
CREATED:20250704T004113Z
LAST-MODIFIED:20260206T144717Z
UID:10023493-1875128400-1875128400@www.maddhatterpro.com
SUMMARY:Third Base Karaoke
DESCRIPTION:Super chill and ready to hear you sing! KJ Amygdala in the house slinging those tunes\, and your bar tenders\, slinging those drinks. Lets have a blast! \n4910 W Ray Rd #3\, Chandler\, AZ\, United States\, Arizona \n\n\n\n(480) 687-1556
URL:https://www.maddhatterpro.com/event/third-base-karaoke/2029-06-02/
LOCATION:Third Base\, 4910 W Ray Rd #3\, Chandler\, AZ\, 85226\, United States
CATEGORIES:Karaoke,KJ Amygdala
ATTACH;FMTTYPE=image/jpeg:https://www.maddhatterpro.com/wp-content/uploads/2026/02/Third-Base-Chandler.jpg
END:VEVENT
BEGIN:VEVENT
DTSTART;TZID=UTC:20290609T210000
DTEND;TZID=UTC:20290609T210000
DTSTAMP:20260424T124451
CREATED:20250704T004113Z
LAST-MODIFIED:20260206T144717Z
UID:10023494-1875733200-1875733200@www.maddhatterpro.com
SUMMARY:Third Base Karaoke
DESCRIPTION:Super chill and ready to hear you sing! KJ Amygdala in the house slinging those tunes\, and your bar tenders\, slinging those drinks. Lets have a blast! \n4910 W Ray Rd #3\, Chandler\, AZ\, United States\, Arizona \n\n\n\n(480) 687-1556
URL:https://www.maddhatterpro.com/event/third-base-karaoke/2029-06-09/
LOCATION:Third Base\, 4910 W Ray Rd #3\, Chandler\, AZ\, 85226\, United States
CATEGORIES:Karaoke,KJ Amygdala
ATTACH;FMTTYPE=image/jpeg:https://www.maddhatterpro.com/wp-content/uploads/2026/02/Third-Base-Chandler.jpg
END:VEVENT
BEGIN:VEVENT
DTSTART;TZID=UTC:20290616T210000
DTEND;TZID=UTC:20290616T210000
DTSTAMP:20260424T124451
CREATED:20250704T004113Z
LAST-MODIFIED:20260206T144717Z
UID:10023495-1876338000-1876338000@www.maddhatterpro.com
SUMMARY:Third Base Karaoke
DESCRIPTION:Super chill and ready to hear you sing! KJ Amygdala in the house slinging those tunes\, and your bar tenders\, slinging those drinks. Lets have a blast! \n4910 W Ray Rd #3\, Chandler\, AZ\, United States\, Arizona \n\n\n\n(480) 687-1556
URL:https://www.maddhatterpro.com/event/third-base-karaoke/2029-06-16/
LOCATION:Third Base\, 4910 W Ray Rd #3\, Chandler\, AZ\, 85226\, United States
CATEGORIES:Karaoke,KJ Amygdala
ATTACH;FMTTYPE=image/jpeg:https://www.maddhatterpro.com/wp-content/uploads/2026/02/Third-Base-Chandler.jpg
END:VEVENT
BEGIN:VEVENT
DTSTART;TZID=UTC:20290623T210000
DTEND;TZID=UTC:20290623T210000
DTSTAMP:20260424T124451
CREATED:20250704T004113Z
LAST-MODIFIED:20260206T144717Z
UID:10023496-1876942800-1876942800@www.maddhatterpro.com
SUMMARY:Third Base Karaoke
DESCRIPTION:Super chill and ready to hear you sing! KJ Amygdala in the house slinging those tunes\, and your bar tenders\, slinging those drinks. Lets have a blast! \n4910 W Ray Rd #3\, Chandler\, AZ\, United States\, Arizona \n\n\n\n(480) 687-1556
URL:https://www.maddhatterpro.com/event/third-base-karaoke/2029-06-23/
LOCATION:Third Base\, 4910 W Ray Rd #3\, Chandler\, AZ\, 85226\, United States
CATEGORIES:Karaoke,KJ Amygdala
ATTACH;FMTTYPE=image/jpeg:https://www.maddhatterpro.com/wp-content/uploads/2026/02/Third-Base-Chandler.jpg
END:VEVENT
BEGIN:VEVENT
DTSTART;TZID=UTC:20290630T210000
DTEND;TZID=UTC:20290630T210000
DTSTAMP:20260424T124451
CREATED:20250704T004113Z
LAST-MODIFIED:20260206T144717Z
UID:10023497-1877547600-1877547600@www.maddhatterpro.com
SUMMARY:Third Base Karaoke
DESCRIPTION:Super chill and ready to hear you sing! KJ Amygdala in the house slinging those tunes\, and your bar tenders\, slinging those drinks. Lets have a blast! \n4910 W Ray Rd #3\, Chandler\, AZ\, United States\, Arizona \n\n\n\n(480) 687-1556
URL:https://www.maddhatterpro.com/event/third-base-karaoke/2029-06-30/
LOCATION:Third Base\, 4910 W Ray Rd #3\, Chandler\, AZ\, 85226\, United States
CATEGORIES:Karaoke,KJ Amygdala
ATTACH;FMTTYPE=image/jpeg:https://www.maddhatterpro.com/wp-content/uploads/2026/02/Third-Base-Chandler.jpg
END:VEVENT
BEGIN:VEVENT
DTSTART;TZID=UTC:20290707T210000
DTEND;TZID=UTC:20290707T210000
DTSTAMP:20260424T124451
CREATED:20250704T004113Z
LAST-MODIFIED:20260206T144717Z
UID:10023498-1878152400-1878152400@www.maddhatterpro.com
SUMMARY:Third Base Karaoke
DESCRIPTION:Super chill and ready to hear you sing! KJ Amygdala in the house slinging those tunes\, and your bar tenders\, slinging those drinks. Lets have a blast! \n4910 W Ray Rd #3\, Chandler\, AZ\, United States\, Arizona \n\n\n\n(480) 687-1556
URL:https://www.maddhatterpro.com/event/third-base-karaoke/2029-07-07/
LOCATION:Third Base\, 4910 W Ray Rd #3\, Chandler\, AZ\, 85226\, United States
CATEGORIES:Karaoke,KJ Amygdala
ATTACH;FMTTYPE=image/jpeg:https://www.maddhatterpro.com/wp-content/uploads/2026/02/Third-Base-Chandler.jpg
END:VEVENT
BEGIN:VEVENT
DTSTART;TZID=UTC:20290714T210000
DTEND;TZID=UTC:20290714T210000
DTSTAMP:20260424T124451
CREATED:20250704T004113Z
LAST-MODIFIED:20260206T144717Z
UID:10023499-1878757200-1878757200@www.maddhatterpro.com
SUMMARY:Third Base Karaoke
DESCRIPTION:Super chill and ready to hear you sing! KJ Amygdala in the house slinging those tunes\, and your bar tenders\, slinging those drinks. Lets have a blast! \n4910 W Ray Rd #3\, Chandler\, AZ\, United States\, Arizona \n\n\n\n(480) 687-1556
URL:https://www.maddhatterpro.com/event/third-base-karaoke/2029-07-14/
LOCATION:Third Base\, 4910 W Ray Rd #3\, Chandler\, AZ\, 85226\, United States
CATEGORIES:Karaoke,KJ Amygdala
ATTACH;FMTTYPE=image/jpeg:https://www.maddhatterpro.com/wp-content/uploads/2026/02/Third-Base-Chandler.jpg
END:VEVENT
BEGIN:VEVENT
DTSTART;TZID=UTC:20290721T210000
DTEND;TZID=UTC:20290721T210000
DTSTAMP:20260424T124451
CREATED:20250704T004113Z
LAST-MODIFIED:20260206T144717Z
UID:10023500-1879362000-1879362000@www.maddhatterpro.com
SUMMARY:Third Base Karaoke
DESCRIPTION:Super chill and ready to hear you sing! KJ Amygdala in the house slinging those tunes\, and your bar tenders\, slinging those drinks. Lets have a blast! \n4910 W Ray Rd #3\, Chandler\, AZ\, United States\, Arizona \n\n\n\n(480) 687-1556
URL:https://www.maddhatterpro.com/event/third-base-karaoke/2029-07-21/
LOCATION:Third Base\, 4910 W Ray Rd #3\, Chandler\, AZ\, 85226\, United States
CATEGORIES:Karaoke,KJ Amygdala
ATTACH;FMTTYPE=image/jpeg:https://www.maddhatterpro.com/wp-content/uploads/2026/02/Third-Base-Chandler.jpg
END:VEVENT
BEGIN:VEVENT
DTSTART;TZID=UTC:20290728T210000
DTEND;TZID=UTC:20290728T210000
DTSTAMP:20260424T124451
CREATED:20250704T004113Z
LAST-MODIFIED:20260206T144717Z
UID:10023501-1879966800-1879966800@www.maddhatterpro.com
SUMMARY:Third Base Karaoke
DESCRIPTION:Super chill and ready to hear you sing! KJ Amygdala in the house slinging those tunes\, and your bar tenders\, slinging those drinks. Lets have a blast! \n4910 W Ray Rd #3\, Chandler\, AZ\, United States\, Arizona \n\n\n\n(480) 687-1556
URL:https://www.maddhatterpro.com/event/third-base-karaoke/2029-07-28/
LOCATION:Third Base\, 4910 W Ray Rd #3\, Chandler\, AZ\, 85226\, United States
CATEGORIES:Karaoke,KJ Amygdala
ATTACH;FMTTYPE=image/jpeg:https://www.maddhatterpro.com/wp-content/uploads/2026/02/Third-Base-Chandler.jpg
END:VEVENT
BEGIN:VEVENT
DTSTART;TZID=UTC:20290804T210000
DTEND;TZID=UTC:20290804T210000
DTSTAMP:20260424T124451
CREATED:20250704T004113Z
LAST-MODIFIED:20260206T144717Z
UID:10023502-1880571600-1880571600@www.maddhatterpro.com
SUMMARY:Third Base Karaoke
DESCRIPTION:Super chill and ready to hear you sing! KJ Amygdala in the house slinging those tunes\, and your bar tenders\, slinging those drinks. Lets have a blast! \n4910 W Ray Rd #3\, Chandler\, AZ\, United States\, Arizona \n\n\n\n(480) 687-1556
URL:https://www.maddhatterpro.com/event/third-base-karaoke/2029-08-04/
LOCATION:Third Base\, 4910 W Ray Rd #3\, Chandler\, AZ\, 85226\, United States
CATEGORIES:Karaoke,KJ Amygdala
ATTACH;FMTTYPE=image/jpeg:https://www.maddhatterpro.com/wp-content/uploads/2026/02/Third-Base-Chandler.jpg
END:VEVENT
BEGIN:VEVENT
DTSTART;TZID=UTC:20290811T210000
DTEND;TZID=UTC:20290811T210000
DTSTAMP:20260424T124451
CREATED:20250704T004113Z
LAST-MODIFIED:20260206T144717Z
UID:10023503-1881176400-1881176400@www.maddhatterpro.com
SUMMARY:Third Base Karaoke
DESCRIPTION:Super chill and ready to hear you sing! KJ Amygdala in the house slinging those tunes\, and your bar tenders\, slinging those drinks. Lets have a blast! \n4910 W Ray Rd #3\, Chandler\, AZ\, United States\, Arizona \n\n\n\n(480) 687-1556
URL:https://www.maddhatterpro.com/event/third-base-karaoke/2029-08-11/
LOCATION:Third Base\, 4910 W Ray Rd #3\, Chandler\, AZ\, 85226\, United States
CATEGORIES:Karaoke,KJ Amygdala
ATTACH;FMTTYPE=image/jpeg:https://www.maddhatterpro.com/wp-content/uploads/2026/02/Third-Base-Chandler.jpg
END:VEVENT
BEGIN:VEVENT
DTSTART;TZID=UTC:20290818T210000
DTEND;TZID=UTC:20290818T210000
DTSTAMP:20260424T124451
CREATED:20250704T004113Z
LAST-MODIFIED:20260206T144717Z
UID:10023504-1881781200-1881781200@www.maddhatterpro.com
SUMMARY:Third Base Karaoke
DESCRIPTION:Super chill and ready to hear you sing! KJ Amygdala in the house slinging those tunes\, and your bar tenders\, slinging those drinks. Lets have a blast! \n4910 W Ray Rd #3\, Chandler\, AZ\, United States\, Arizona \n\n\n\n(480) 687-1556
URL:https://www.maddhatterpro.com/event/third-base-karaoke/2029-08-18/
LOCATION:Third Base\, 4910 W Ray Rd #3\, Chandler\, AZ\, 85226\, United States
CATEGORIES:Karaoke,KJ Amygdala
ATTACH;FMTTYPE=image/jpeg:https://www.maddhatterpro.com/wp-content/uploads/2026/02/Third-Base-Chandler.jpg
END:VEVENT
BEGIN:VEVENT
DTSTART;TZID=UTC:20290825T210000
DTEND;TZID=UTC:20290825T210000
DTSTAMP:20260424T124451
CREATED:20250704T004113Z
LAST-MODIFIED:20260206T144717Z
UID:10023505-1882386000-1882386000@www.maddhatterpro.com
SUMMARY:Third Base Karaoke
DESCRIPTION:Super chill and ready to hear you sing! KJ Amygdala in the house slinging those tunes\, and your bar tenders\, slinging those drinks. Lets have a blast! \n4910 W Ray Rd #3\, Chandler\, AZ\, United States\, Arizona \n\n\n\n(480) 687-1556
URL:https://www.maddhatterpro.com/event/third-base-karaoke/2029-08-25/
LOCATION:Third Base\, 4910 W Ray Rd #3\, Chandler\, AZ\, 85226\, United States
CATEGORIES:Karaoke,KJ Amygdala
ATTACH;FMTTYPE=image/jpeg:https://www.maddhatterpro.com/wp-content/uploads/2026/02/Third-Base-Chandler.jpg
END:VEVENT
BEGIN:VEVENT
DTSTART;TZID=UTC:20290901T210000
DTEND;TZID=UTC:20290901T210000
DTSTAMP:20260424T124451
CREATED:20250704T004113Z
LAST-MODIFIED:20260206T144717Z
UID:10023506-1882990800-1882990800@www.maddhatterpro.com
SUMMARY:Third Base Karaoke
DESCRIPTION:Super chill and ready to hear you sing! KJ Amygdala in the house slinging those tunes\, and your bar tenders\, slinging those drinks. Lets have a blast! \n4910 W Ray Rd #3\, Chandler\, AZ\, United States\, Arizona \n\n\n\n(480) 687-1556
URL:https://www.maddhatterpro.com/event/third-base-karaoke/2029-09-01/
LOCATION:Third Base\, 4910 W Ray Rd #3\, Chandler\, AZ\, 85226\, United States
CATEGORIES:Karaoke,KJ Amygdala
ATTACH;FMTTYPE=image/jpeg:https://www.maddhatterpro.com/wp-content/uploads/2026/02/Third-Base-Chandler.jpg
END:VEVENT
BEGIN:VEVENT
DTSTART;TZID=UTC:20290908T210000
DTEND;TZID=UTC:20290908T210000
DTSTAMP:20260424T124451
CREATED:20250704T004113Z
LAST-MODIFIED:20260206T144717Z
UID:10023507-1883595600-1883595600@www.maddhatterpro.com
SUMMARY:Third Base Karaoke
DESCRIPTION:Super chill and ready to hear you sing! KJ Amygdala in the house slinging those tunes\, and your bar tenders\, slinging those drinks. Lets have a blast! \n4910 W Ray Rd #3\, Chandler\, AZ\, United States\, Arizona \n\n\n\n(480) 687-1556
URL:https://www.maddhatterpro.com/event/third-base-karaoke/2029-09-08/
LOCATION:Third Base\, 4910 W Ray Rd #3\, Chandler\, AZ\, 85226\, United States
CATEGORIES:Karaoke,KJ Amygdala
ATTACH;FMTTYPE=image/jpeg:https://www.maddhatterpro.com/wp-content/uploads/2026/02/Third-Base-Chandler.jpg
END:VEVENT
BEGIN:VEVENT
DTSTART;TZID=UTC:20290915T210000
DTEND;TZID=UTC:20290915T210000
DTSTAMP:20260424T124451
CREATED:20250704T004113Z
LAST-MODIFIED:20260206T144717Z
UID:10023508-1884200400-1884200400@www.maddhatterpro.com
SUMMARY:Third Base Karaoke
DESCRIPTION:Super chill and ready to hear you sing! KJ Amygdala in the house slinging those tunes\, and your bar tenders\, slinging those drinks. Lets have a blast! \n4910 W Ray Rd #3\, Chandler\, AZ\, United States\, Arizona \n\n\n\n(480) 687-1556
URL:https://www.maddhatterpro.com/event/third-base-karaoke/2029-09-15/
LOCATION:Third Base\, 4910 W Ray Rd #3\, Chandler\, AZ\, 85226\, United States
CATEGORIES:Karaoke,KJ Amygdala
ATTACH;FMTTYPE=image/jpeg:https://www.maddhatterpro.com/wp-content/uploads/2026/02/Third-Base-Chandler.jpg
END:VEVENT
BEGIN:VEVENT
DTSTART;TZID=UTC:20290922T210000
DTEND;TZID=UTC:20290922T210000
DTSTAMP:20260424T124451
CREATED:20250704T004113Z
LAST-MODIFIED:20260206T144717Z
UID:10023509-1884805200-1884805200@www.maddhatterpro.com
SUMMARY:Third Base Karaoke
DESCRIPTION:Super chill and ready to hear you sing! KJ Amygdala in the house slinging those tunes\, and your bar tenders\, slinging those drinks. Lets have a blast! \n4910 W Ray Rd #3\, Chandler\, AZ\, United States\, Arizona \n\n\n\n(480) 687-1556
URL:https://www.maddhatterpro.com/event/third-base-karaoke/2029-09-22/
LOCATION:Third Base\, 4910 W Ray Rd #3\, Chandler\, AZ\, 85226\, United States
CATEGORIES:Karaoke,KJ Amygdala
ATTACH;FMTTYPE=image/jpeg:https://www.maddhatterpro.com/wp-content/uploads/2026/02/Third-Base-Chandler.jpg
END:VEVENT
BEGIN:VEVENT
DTSTART;TZID=UTC:20290929T210000
DTEND;TZID=UTC:20290929T210000
DTSTAMP:20260424T124451
CREATED:20250704T004113Z
LAST-MODIFIED:20260206T144717Z
UID:10023510-1885410000-1885410000@www.maddhatterpro.com
SUMMARY:Third Base Karaoke
DESCRIPTION:Super chill and ready to hear you sing! KJ Amygdala in the house slinging those tunes\, and your bar tenders\, slinging those drinks. Lets have a blast! \n4910 W Ray Rd #3\, Chandler\, AZ\, United States\, Arizona \n\n\n\n(480) 687-1556
URL:https://www.maddhatterpro.com/event/third-base-karaoke/2029-09-29/
LOCATION:Third Base\, 4910 W Ray Rd #3\, Chandler\, AZ\, 85226\, United States
CATEGORIES:Karaoke,KJ Amygdala
ATTACH;FMTTYPE=image/jpeg:https://www.maddhatterpro.com/wp-content/uploads/2026/02/Third-Base-Chandler.jpg
END:VEVENT
BEGIN:VEVENT
DTSTART;TZID=UTC:20291006T210000
DTEND;TZID=UTC:20291006T210000
DTSTAMP:20260424T124451
CREATED:20250704T004113Z
LAST-MODIFIED:20260206T144717Z
UID:10023511-1886014800-1886014800@www.maddhatterpro.com
SUMMARY:Third Base Karaoke
DESCRIPTION:Super chill and ready to hear you sing! KJ Amygdala in the house slinging those tunes\, and your bar tenders\, slinging those drinks. Lets have a blast! \n4910 W Ray Rd #3\, Chandler\, AZ\, United States\, Arizona \n\n\n\n(480) 687-1556
URL:https://www.maddhatterpro.com/event/third-base-karaoke/2029-10-06/
LOCATION:Third Base\, 4910 W Ray Rd #3\, Chandler\, AZ\, 85226\, United States
CATEGORIES:Karaoke,KJ Amygdala
ATTACH;FMTTYPE=image/jpeg:https://www.maddhatterpro.com/wp-content/uploads/2026/02/Third-Base-Chandler.jpg
END:VEVENT
BEGIN:VEVENT
DTSTART;TZID=UTC:20291013T210000
DTEND;TZID=UTC:20291013T210000
DTSTAMP:20260424T124451
CREATED:20250704T004113Z
LAST-MODIFIED:20260206T144717Z
UID:10023512-1886619600-1886619600@www.maddhatterpro.com
SUMMARY:Third Base Karaoke
DESCRIPTION:Super chill and ready to hear you sing! KJ Amygdala in the house slinging those tunes\, and your bar tenders\, slinging those drinks. Lets have a blast! \n4910 W Ray Rd #3\, Chandler\, AZ\, United States\, Arizona \n\n\n\n(480) 687-1556
URL:https://www.maddhatterpro.com/event/third-base-karaoke/2029-10-13/
LOCATION:Third Base\, 4910 W Ray Rd #3\, Chandler\, AZ\, 85226\, United States
CATEGORIES:Karaoke,KJ Amygdala
ATTACH;FMTTYPE=image/jpeg:https://www.maddhatterpro.com/wp-content/uploads/2026/02/Third-Base-Chandler.jpg
END:VEVENT
BEGIN:VEVENT
DTSTART;TZID=UTC:20291020T210000
DTEND;TZID=UTC:20291020T210000
DTSTAMP:20260424T124451
CREATED:20250704T004113Z
LAST-MODIFIED:20260206T144717Z
UID:10023513-1887224400-1887224400@www.maddhatterpro.com
SUMMARY:Third Base Karaoke
DESCRIPTION:Super chill and ready to hear you sing! KJ Amygdala in the house slinging those tunes\, and your bar tenders\, slinging those drinks. Lets have a blast! \n4910 W Ray Rd #3\, Chandler\, AZ\, United States\, Arizona \n\n\n\n(480) 687-1556
URL:https://www.maddhatterpro.com/event/third-base-karaoke/2029-10-20/
LOCATION:Third Base\, 4910 W Ray Rd #3\, Chandler\, AZ\, 85226\, United States
CATEGORIES:Karaoke,KJ Amygdala
ATTACH;FMTTYPE=image/jpeg:https://www.maddhatterpro.com/wp-content/uploads/2026/02/Third-Base-Chandler.jpg
END:VEVENT
BEGIN:VEVENT
DTSTART;TZID=UTC:20291027T210000
DTEND;TZID=UTC:20291027T210000
DTSTAMP:20260424T124451
CREATED:20250704T004113Z
LAST-MODIFIED:20260206T144717Z
UID:10023514-1887829200-1887829200@www.maddhatterpro.com
SUMMARY:Third Base Karaoke
DESCRIPTION:Super chill and ready to hear you sing! KJ Amygdala in the house slinging those tunes\, and your bar tenders\, slinging those drinks. Lets have a blast! \n4910 W Ray Rd #3\, Chandler\, AZ\, United States\, Arizona \n\n\n\n(480) 687-1556
URL:https://www.maddhatterpro.com/event/third-base-karaoke/2029-10-27/
LOCATION:Third Base\, 4910 W Ray Rd #3\, Chandler\, AZ\, 85226\, United States
CATEGORIES:Karaoke,KJ Amygdala
ATTACH;FMTTYPE=image/jpeg:https://www.maddhatterpro.com/wp-content/uploads/2026/02/Third-Base-Chandler.jpg
END:VEVENT
BEGIN:VEVENT
DTSTART;TZID=UTC:20291103T210000
DTEND;TZID=UTC:20291103T210000
DTSTAMP:20260424T124451
CREATED:20250704T004113Z
LAST-MODIFIED:20260206T144717Z
UID:10023515-1888434000-1888434000@www.maddhatterpro.com
SUMMARY:Third Base Karaoke
DESCRIPTION:Super chill and ready to hear you sing! KJ Amygdala in the house slinging those tunes\, and your bar tenders\, slinging those drinks. Lets have a blast! \n4910 W Ray Rd #3\, Chandler\, AZ\, United States\, Arizona \n\n\n\n(480) 687-1556
URL:https://www.maddhatterpro.com/event/third-base-karaoke/2029-11-03/
LOCATION:Third Base\, 4910 W Ray Rd #3\, Chandler\, AZ\, 85226\, United States
CATEGORIES:Karaoke,KJ Amygdala
ATTACH;FMTTYPE=image/jpeg:https://www.maddhatterpro.com/wp-content/uploads/2026/02/Third-Base-Chandler.jpg
END:VEVENT
BEGIN:VEVENT
DTSTART;TZID=UTC:20291110T210000
DTEND;TZID=UTC:20291110T210000
DTSTAMP:20260424T124451
CREATED:20250704T004113Z
LAST-MODIFIED:20260206T144717Z
UID:10023516-1889038800-1889038800@www.maddhatterpro.com
SUMMARY:Third Base Karaoke
DESCRIPTION:Super chill and ready to hear you sing! KJ Amygdala in the house slinging those tunes\, and your bar tenders\, slinging those drinks. Lets have a blast! \n4910 W Ray Rd #3\, Chandler\, AZ\, United States\, Arizona \n\n\n\n(480) 687-1556
URL:https://www.maddhatterpro.com/event/third-base-karaoke/2029-11-10/
LOCATION:Third Base\, 4910 W Ray Rd #3\, Chandler\, AZ\, 85226\, United States
CATEGORIES:Karaoke,KJ Amygdala
ATTACH;FMTTYPE=image/jpeg:https://www.maddhatterpro.com/wp-content/uploads/2026/02/Third-Base-Chandler.jpg
END:VEVENT
END:VCALENDAR