BEGIN:VCALENDAR
VERSION:2.0
PRODID:-//MaddHatterPro.com - ECPv6.15.20//NONSGML v1.0//EN
CALSCALE:GREGORIAN
METHOD:PUBLISH
X-WR-CALNAME:MaddHatterPro.com
X-ORIGINAL-URL:https://www.maddhatterpro.com
X-WR-CALDESC:Events for MaddHatterPro.com
REFRESH-INTERVAL;VALUE=DURATION:PT1H
X-Robots-Tag:noindex
X-PUBLISHED-TTL:PT1H
BEGIN:VTIMEZONE
TZID:UTC
BEGIN:STANDARD
TZOFFSETFROM:+0000
TZOFFSETTO:+0000
TZNAME:UTC
DTSTART:20280101T000000
END:STANDARD
END:VTIMEZONE
BEGIN:VEVENT
DTSTART;TZID=UTC:20290426T183000
DTEND;TZID=UTC:20290426T183000
DTSTAMP:20260424T115651
CREATED:20250704T002812Z
LAST-MODIFIED:20260206T144210Z
UID:10022965-1871922600-1871922600@www.maddhatterpro.com
SUMMARY:Pho Cao Karaoke
DESCRIPTION:Homey atmosphere\, and the perfect Thursday evening dinner. Come out and see what Pho Cao has to offer with great Vietnamese cuisine. KJ Skribbz in the house\, 6:30pm-10:30pm yet another early show! \n7436 E McDowell Rd\, Scottsdale\, AZ 85257 \n+16234282173
URL:https://www.maddhatterpro.com/event/pho-cao-karaoke/2029-04-26/
LOCATION:Pho Cao\, 7436 E McDowell Rd\, Scottsdale\, AZ\, 85257\, United States
CATEGORIES:Karaoke,KJ Skribbz
ATTACH;FMTTYPE=image/jpeg:https://www.maddhatterpro.com/wp-content/uploads/2026/02/Pho-Scottsdale.jpg
END:VEVENT
BEGIN:VEVENT
DTSTART;TZID=UTC:20290503T183000
DTEND;TZID=UTC:20290503T183000
DTSTAMP:20260424T115651
CREATED:20250704T002812Z
LAST-MODIFIED:20260206T144210Z
UID:10022966-1872527400-1872527400@www.maddhatterpro.com
SUMMARY:Pho Cao Karaoke
DESCRIPTION:Homey atmosphere\, and the perfect Thursday evening dinner. Come out and see what Pho Cao has to offer with great Vietnamese cuisine. KJ Skribbz in the house\, 6:30pm-10:30pm yet another early show! \n7436 E McDowell Rd\, Scottsdale\, AZ 85257 \n+16234282173
URL:https://www.maddhatterpro.com/event/pho-cao-karaoke/2029-05-03/
LOCATION:Pho Cao\, 7436 E McDowell Rd\, Scottsdale\, AZ\, 85257\, United States
CATEGORIES:Karaoke,KJ Skribbz
ATTACH;FMTTYPE=image/jpeg:https://www.maddhatterpro.com/wp-content/uploads/2026/02/Pho-Scottsdale.jpg
END:VEVENT
BEGIN:VEVENT
DTSTART;TZID=UTC:20290510T183000
DTEND;TZID=UTC:20290510T183000
DTSTAMP:20260424T115651
CREATED:20250704T002812Z
LAST-MODIFIED:20260206T144210Z
UID:10022967-1873132200-1873132200@www.maddhatterpro.com
SUMMARY:Pho Cao Karaoke
DESCRIPTION:Homey atmosphere\, and the perfect Thursday evening dinner. Come out and see what Pho Cao has to offer with great Vietnamese cuisine. KJ Skribbz in the house\, 6:30pm-10:30pm yet another early show! \n7436 E McDowell Rd\, Scottsdale\, AZ 85257 \n+16234282173
URL:https://www.maddhatterpro.com/event/pho-cao-karaoke/2029-05-10/
LOCATION:Pho Cao\, 7436 E McDowell Rd\, Scottsdale\, AZ\, 85257\, United States
CATEGORIES:Karaoke,KJ Skribbz
ATTACH;FMTTYPE=image/jpeg:https://www.maddhatterpro.com/wp-content/uploads/2026/02/Pho-Scottsdale.jpg
END:VEVENT
BEGIN:VEVENT
DTSTART;TZID=UTC:20290517T183000
DTEND;TZID=UTC:20290517T183000
DTSTAMP:20260424T115651
CREATED:20250704T002812Z
LAST-MODIFIED:20260206T144210Z
UID:10022968-1873737000-1873737000@www.maddhatterpro.com
SUMMARY:Pho Cao Karaoke
DESCRIPTION:Homey atmosphere\, and the perfect Thursday evening dinner. Come out and see what Pho Cao has to offer with great Vietnamese cuisine. KJ Skribbz in the house\, 6:30pm-10:30pm yet another early show! \n7436 E McDowell Rd\, Scottsdale\, AZ 85257 \n+16234282173
URL:https://www.maddhatterpro.com/event/pho-cao-karaoke/2029-05-17/
LOCATION:Pho Cao\, 7436 E McDowell Rd\, Scottsdale\, AZ\, 85257\, United States
CATEGORIES:Karaoke,KJ Skribbz
ATTACH;FMTTYPE=image/jpeg:https://www.maddhatterpro.com/wp-content/uploads/2026/02/Pho-Scottsdale.jpg
END:VEVENT
BEGIN:VEVENT
DTSTART;TZID=UTC:20290524T183000
DTEND;TZID=UTC:20290524T183000
DTSTAMP:20260424T115651
CREATED:20250704T002812Z
LAST-MODIFIED:20260206T144210Z
UID:10022969-1874341800-1874341800@www.maddhatterpro.com
SUMMARY:Pho Cao Karaoke
DESCRIPTION:Homey atmosphere\, and the perfect Thursday evening dinner. Come out and see what Pho Cao has to offer with great Vietnamese cuisine. KJ Skribbz in the house\, 6:30pm-10:30pm yet another early show! \n7436 E McDowell Rd\, Scottsdale\, AZ 85257 \n+16234282173
URL:https://www.maddhatterpro.com/event/pho-cao-karaoke/2029-05-24/
LOCATION:Pho Cao\, 7436 E McDowell Rd\, Scottsdale\, AZ\, 85257\, United States
CATEGORIES:Karaoke,KJ Skribbz
ATTACH;FMTTYPE=image/jpeg:https://www.maddhatterpro.com/wp-content/uploads/2026/02/Pho-Scottsdale.jpg
END:VEVENT
BEGIN:VEVENT
DTSTART;TZID=UTC:20290531T183000
DTEND;TZID=UTC:20290531T183000
DTSTAMP:20260424T115651
CREATED:20250704T002812Z
LAST-MODIFIED:20260206T144210Z
UID:10022970-1874946600-1874946600@www.maddhatterpro.com
SUMMARY:Pho Cao Karaoke
DESCRIPTION:Homey atmosphere\, and the perfect Thursday evening dinner. Come out and see what Pho Cao has to offer with great Vietnamese cuisine. KJ Skribbz in the house\, 6:30pm-10:30pm yet another early show! \n7436 E McDowell Rd\, Scottsdale\, AZ 85257 \n+16234282173
URL:https://www.maddhatterpro.com/event/pho-cao-karaoke/2029-05-31/
LOCATION:Pho Cao\, 7436 E McDowell Rd\, Scottsdale\, AZ\, 85257\, United States
CATEGORIES:Karaoke,KJ Skribbz
ATTACH;FMTTYPE=image/jpeg:https://www.maddhatterpro.com/wp-content/uploads/2026/02/Pho-Scottsdale.jpg
END:VEVENT
BEGIN:VEVENT
DTSTART;TZID=UTC:20290607T183000
DTEND;TZID=UTC:20290607T183000
DTSTAMP:20260424T115651
CREATED:20250704T002812Z
LAST-MODIFIED:20260206T144210Z
UID:10022971-1875551400-1875551400@www.maddhatterpro.com
SUMMARY:Pho Cao Karaoke
DESCRIPTION:Homey atmosphere\, and the perfect Thursday evening dinner. Come out and see what Pho Cao has to offer with great Vietnamese cuisine. KJ Skribbz in the house\, 6:30pm-10:30pm yet another early show! \n7436 E McDowell Rd\, Scottsdale\, AZ 85257 \n+16234282173
URL:https://www.maddhatterpro.com/event/pho-cao-karaoke/2029-06-07/
LOCATION:Pho Cao\, 7436 E McDowell Rd\, Scottsdale\, AZ\, 85257\, United States
CATEGORIES:Karaoke,KJ Skribbz
ATTACH;FMTTYPE=image/jpeg:https://www.maddhatterpro.com/wp-content/uploads/2026/02/Pho-Scottsdale.jpg
END:VEVENT
BEGIN:VEVENT
DTSTART;TZID=UTC:20290614T183000
DTEND;TZID=UTC:20290614T183000
DTSTAMP:20260424T115651
CREATED:20250704T002812Z
LAST-MODIFIED:20260206T144210Z
UID:10022972-1876156200-1876156200@www.maddhatterpro.com
SUMMARY:Pho Cao Karaoke
DESCRIPTION:Homey atmosphere\, and the perfect Thursday evening dinner. Come out and see what Pho Cao has to offer with great Vietnamese cuisine. KJ Skribbz in the house\, 6:30pm-10:30pm yet another early show! \n7436 E McDowell Rd\, Scottsdale\, AZ 85257 \n+16234282173
URL:https://www.maddhatterpro.com/event/pho-cao-karaoke/2029-06-14/
LOCATION:Pho Cao\, 7436 E McDowell Rd\, Scottsdale\, AZ\, 85257\, United States
CATEGORIES:Karaoke,KJ Skribbz
ATTACH;FMTTYPE=image/jpeg:https://www.maddhatterpro.com/wp-content/uploads/2026/02/Pho-Scottsdale.jpg
END:VEVENT
BEGIN:VEVENT
DTSTART;TZID=UTC:20290621T183000
DTEND;TZID=UTC:20290621T183000
DTSTAMP:20260424T115651
CREATED:20250704T002812Z
LAST-MODIFIED:20260206T144210Z
UID:10022973-1876761000-1876761000@www.maddhatterpro.com
SUMMARY:Pho Cao Karaoke
DESCRIPTION:Homey atmosphere\, and the perfect Thursday evening dinner. Come out and see what Pho Cao has to offer with great Vietnamese cuisine. KJ Skribbz in the house\, 6:30pm-10:30pm yet another early show! \n7436 E McDowell Rd\, Scottsdale\, AZ 85257 \n+16234282173
URL:https://www.maddhatterpro.com/event/pho-cao-karaoke/2029-06-21/
LOCATION:Pho Cao\, 7436 E McDowell Rd\, Scottsdale\, AZ\, 85257\, United States
CATEGORIES:Karaoke,KJ Skribbz
ATTACH;FMTTYPE=image/jpeg:https://www.maddhatterpro.com/wp-content/uploads/2026/02/Pho-Scottsdale.jpg
END:VEVENT
BEGIN:VEVENT
DTSTART;TZID=UTC:20290628T183000
DTEND;TZID=UTC:20290628T183000
DTSTAMP:20260424T115651
CREATED:20250704T002812Z
LAST-MODIFIED:20260206T144210Z
UID:10022974-1877365800-1877365800@www.maddhatterpro.com
SUMMARY:Pho Cao Karaoke
DESCRIPTION:Homey atmosphere\, and the perfect Thursday evening dinner. Come out and see what Pho Cao has to offer with great Vietnamese cuisine. KJ Skribbz in the house\, 6:30pm-10:30pm yet another early show! \n7436 E McDowell Rd\, Scottsdale\, AZ 85257 \n+16234282173
URL:https://www.maddhatterpro.com/event/pho-cao-karaoke/2029-06-28/
LOCATION:Pho Cao\, 7436 E McDowell Rd\, Scottsdale\, AZ\, 85257\, United States
CATEGORIES:Karaoke,KJ Skribbz
ATTACH;FMTTYPE=image/jpeg:https://www.maddhatterpro.com/wp-content/uploads/2026/02/Pho-Scottsdale.jpg
END:VEVENT
BEGIN:VEVENT
DTSTART;TZID=UTC:20290705T183000
DTEND;TZID=UTC:20290705T183000
DTSTAMP:20260424T115651
CREATED:20250704T002812Z
LAST-MODIFIED:20260206T144210Z
UID:10022975-1877970600-1877970600@www.maddhatterpro.com
SUMMARY:Pho Cao Karaoke
DESCRIPTION:Homey atmosphere\, and the perfect Thursday evening dinner. Come out and see what Pho Cao has to offer with great Vietnamese cuisine. KJ Skribbz in the house\, 6:30pm-10:30pm yet another early show! \n7436 E McDowell Rd\, Scottsdale\, AZ 85257 \n+16234282173
URL:https://www.maddhatterpro.com/event/pho-cao-karaoke/2029-07-05/
LOCATION:Pho Cao\, 7436 E McDowell Rd\, Scottsdale\, AZ\, 85257\, United States
CATEGORIES:Karaoke,KJ Skribbz
ATTACH;FMTTYPE=image/jpeg:https://www.maddhatterpro.com/wp-content/uploads/2026/02/Pho-Scottsdale.jpg
END:VEVENT
BEGIN:VEVENT
DTSTART;TZID=UTC:20290712T183000
DTEND;TZID=UTC:20290712T183000
DTSTAMP:20260424T115651
CREATED:20250704T002812Z
LAST-MODIFIED:20260206T144210Z
UID:10022976-1878575400-1878575400@www.maddhatterpro.com
SUMMARY:Pho Cao Karaoke
DESCRIPTION:Homey atmosphere\, and the perfect Thursday evening dinner. Come out and see what Pho Cao has to offer with great Vietnamese cuisine. KJ Skribbz in the house\, 6:30pm-10:30pm yet another early show! \n7436 E McDowell Rd\, Scottsdale\, AZ 85257 \n+16234282173
URL:https://www.maddhatterpro.com/event/pho-cao-karaoke/2029-07-12/
LOCATION:Pho Cao\, 7436 E McDowell Rd\, Scottsdale\, AZ\, 85257\, United States
CATEGORIES:Karaoke,KJ Skribbz
ATTACH;FMTTYPE=image/jpeg:https://www.maddhatterpro.com/wp-content/uploads/2026/02/Pho-Scottsdale.jpg
END:VEVENT
BEGIN:VEVENT
DTSTART;TZID=UTC:20290719T183000
DTEND;TZID=UTC:20290719T183000
DTSTAMP:20260424T115651
CREATED:20250704T002812Z
LAST-MODIFIED:20260206T144210Z
UID:10022977-1879180200-1879180200@www.maddhatterpro.com
SUMMARY:Pho Cao Karaoke
DESCRIPTION:Homey atmosphere\, and the perfect Thursday evening dinner. Come out and see what Pho Cao has to offer with great Vietnamese cuisine. KJ Skribbz in the house\, 6:30pm-10:30pm yet another early show! \n7436 E McDowell Rd\, Scottsdale\, AZ 85257 \n+16234282173
URL:https://www.maddhatterpro.com/event/pho-cao-karaoke/2029-07-19/
LOCATION:Pho Cao\, 7436 E McDowell Rd\, Scottsdale\, AZ\, 85257\, United States
CATEGORIES:Karaoke,KJ Skribbz
ATTACH;FMTTYPE=image/jpeg:https://www.maddhatterpro.com/wp-content/uploads/2026/02/Pho-Scottsdale.jpg
END:VEVENT
BEGIN:VEVENT
DTSTART;TZID=UTC:20290726T183000
DTEND;TZID=UTC:20290726T183000
DTSTAMP:20260424T115651
CREATED:20250704T002812Z
LAST-MODIFIED:20260206T144210Z
UID:10022978-1879785000-1879785000@www.maddhatterpro.com
SUMMARY:Pho Cao Karaoke
DESCRIPTION:Homey atmosphere\, and the perfect Thursday evening dinner. Come out and see what Pho Cao has to offer with great Vietnamese cuisine. KJ Skribbz in the house\, 6:30pm-10:30pm yet another early show! \n7436 E McDowell Rd\, Scottsdale\, AZ 85257 \n+16234282173
URL:https://www.maddhatterpro.com/event/pho-cao-karaoke/2029-07-26/
LOCATION:Pho Cao\, 7436 E McDowell Rd\, Scottsdale\, AZ\, 85257\, United States
CATEGORIES:Karaoke,KJ Skribbz
ATTACH;FMTTYPE=image/jpeg:https://www.maddhatterpro.com/wp-content/uploads/2026/02/Pho-Scottsdale.jpg
END:VEVENT
BEGIN:VEVENT
DTSTART;TZID=UTC:20290802T183000
DTEND;TZID=UTC:20290802T183000
DTSTAMP:20260424T115651
CREATED:20250704T002812Z
LAST-MODIFIED:20260206T144210Z
UID:10022979-1880389800-1880389800@www.maddhatterpro.com
SUMMARY:Pho Cao Karaoke
DESCRIPTION:Homey atmosphere\, and the perfect Thursday evening dinner. Come out and see what Pho Cao has to offer with great Vietnamese cuisine. KJ Skribbz in the house\, 6:30pm-10:30pm yet another early show! \n7436 E McDowell Rd\, Scottsdale\, AZ 85257 \n+16234282173
URL:https://www.maddhatterpro.com/event/pho-cao-karaoke/2029-08-02/
LOCATION:Pho Cao\, 7436 E McDowell Rd\, Scottsdale\, AZ\, 85257\, United States
CATEGORIES:Karaoke,KJ Skribbz
ATTACH;FMTTYPE=image/jpeg:https://www.maddhatterpro.com/wp-content/uploads/2026/02/Pho-Scottsdale.jpg
END:VEVENT
BEGIN:VEVENT
DTSTART;TZID=UTC:20290809T183000
DTEND;TZID=UTC:20290809T183000
DTSTAMP:20260424T115651
CREATED:20250704T002812Z
LAST-MODIFIED:20260206T144210Z
UID:10022980-1880994600-1880994600@www.maddhatterpro.com
SUMMARY:Pho Cao Karaoke
DESCRIPTION:Homey atmosphere\, and the perfect Thursday evening dinner. Come out and see what Pho Cao has to offer with great Vietnamese cuisine. KJ Skribbz in the house\, 6:30pm-10:30pm yet another early show! \n7436 E McDowell Rd\, Scottsdale\, AZ 85257 \n+16234282173
URL:https://www.maddhatterpro.com/event/pho-cao-karaoke/2029-08-09/
LOCATION:Pho Cao\, 7436 E McDowell Rd\, Scottsdale\, AZ\, 85257\, United States
CATEGORIES:Karaoke,KJ Skribbz
ATTACH;FMTTYPE=image/jpeg:https://www.maddhatterpro.com/wp-content/uploads/2026/02/Pho-Scottsdale.jpg
END:VEVENT
BEGIN:VEVENT
DTSTART;TZID=UTC:20290816T183000
DTEND;TZID=UTC:20290816T183000
DTSTAMP:20260424T115651
CREATED:20250704T002812Z
LAST-MODIFIED:20260206T144210Z
UID:10022981-1881599400-1881599400@www.maddhatterpro.com
SUMMARY:Pho Cao Karaoke
DESCRIPTION:Homey atmosphere\, and the perfect Thursday evening dinner. Come out and see what Pho Cao has to offer with great Vietnamese cuisine. KJ Skribbz in the house\, 6:30pm-10:30pm yet another early show! \n7436 E McDowell Rd\, Scottsdale\, AZ 85257 \n+16234282173
URL:https://www.maddhatterpro.com/event/pho-cao-karaoke/2029-08-16/
LOCATION:Pho Cao\, 7436 E McDowell Rd\, Scottsdale\, AZ\, 85257\, United States
CATEGORIES:Karaoke,KJ Skribbz
ATTACH;FMTTYPE=image/jpeg:https://www.maddhatterpro.com/wp-content/uploads/2026/02/Pho-Scottsdale.jpg
END:VEVENT
BEGIN:VEVENT
DTSTART;TZID=UTC:20290823T183000
DTEND;TZID=UTC:20290823T183000
DTSTAMP:20260424T115651
CREATED:20250704T002812Z
LAST-MODIFIED:20260206T144210Z
UID:10022982-1882204200-1882204200@www.maddhatterpro.com
SUMMARY:Pho Cao Karaoke
DESCRIPTION:Homey atmosphere\, and the perfect Thursday evening dinner. Come out and see what Pho Cao has to offer with great Vietnamese cuisine. KJ Skribbz in the house\, 6:30pm-10:30pm yet another early show! \n7436 E McDowell Rd\, Scottsdale\, AZ 85257 \n+16234282173
URL:https://www.maddhatterpro.com/event/pho-cao-karaoke/2029-08-23/
LOCATION:Pho Cao\, 7436 E McDowell Rd\, Scottsdale\, AZ\, 85257\, United States
CATEGORIES:Karaoke,KJ Skribbz
ATTACH;FMTTYPE=image/jpeg:https://www.maddhatterpro.com/wp-content/uploads/2026/02/Pho-Scottsdale.jpg
END:VEVENT
BEGIN:VEVENT
DTSTART;TZID=UTC:20290830T183000
DTEND;TZID=UTC:20290830T183000
DTSTAMP:20260424T115651
CREATED:20250704T002812Z
LAST-MODIFIED:20260206T144210Z
UID:10022983-1882809000-1882809000@www.maddhatterpro.com
SUMMARY:Pho Cao Karaoke
DESCRIPTION:Homey atmosphere\, and the perfect Thursday evening dinner. Come out and see what Pho Cao has to offer with great Vietnamese cuisine. KJ Skribbz in the house\, 6:30pm-10:30pm yet another early show! \n7436 E McDowell Rd\, Scottsdale\, AZ 85257 \n+16234282173
URL:https://www.maddhatterpro.com/event/pho-cao-karaoke/2029-08-30/
LOCATION:Pho Cao\, 7436 E McDowell Rd\, Scottsdale\, AZ\, 85257\, United States
CATEGORIES:Karaoke,KJ Skribbz
ATTACH;FMTTYPE=image/jpeg:https://www.maddhatterpro.com/wp-content/uploads/2026/02/Pho-Scottsdale.jpg
END:VEVENT
BEGIN:VEVENT
DTSTART;TZID=UTC:20290906T183000
DTEND;TZID=UTC:20290906T183000
DTSTAMP:20260424T115651
CREATED:20250704T002812Z
LAST-MODIFIED:20260206T144210Z
UID:10022984-1883413800-1883413800@www.maddhatterpro.com
SUMMARY:Pho Cao Karaoke
DESCRIPTION:Homey atmosphere\, and the perfect Thursday evening dinner. Come out and see what Pho Cao has to offer with great Vietnamese cuisine. KJ Skribbz in the house\, 6:30pm-10:30pm yet another early show! \n7436 E McDowell Rd\, Scottsdale\, AZ 85257 \n+16234282173
URL:https://www.maddhatterpro.com/event/pho-cao-karaoke/2029-09-06/
LOCATION:Pho Cao\, 7436 E McDowell Rd\, Scottsdale\, AZ\, 85257\, United States
CATEGORIES:Karaoke,KJ Skribbz
ATTACH;FMTTYPE=image/jpeg:https://www.maddhatterpro.com/wp-content/uploads/2026/02/Pho-Scottsdale.jpg
END:VEVENT
BEGIN:VEVENT
DTSTART;TZID=UTC:20290913T183000
DTEND;TZID=UTC:20290913T183000
DTSTAMP:20260424T115651
CREATED:20250704T002812Z
LAST-MODIFIED:20260206T144210Z
UID:10022985-1884018600-1884018600@www.maddhatterpro.com
SUMMARY:Pho Cao Karaoke
DESCRIPTION:Homey atmosphere\, and the perfect Thursday evening dinner. Come out and see what Pho Cao has to offer with great Vietnamese cuisine. KJ Skribbz in the house\, 6:30pm-10:30pm yet another early show! \n7436 E McDowell Rd\, Scottsdale\, AZ 85257 \n+16234282173
URL:https://www.maddhatterpro.com/event/pho-cao-karaoke/2029-09-13/
LOCATION:Pho Cao\, 7436 E McDowell Rd\, Scottsdale\, AZ\, 85257\, United States
CATEGORIES:Karaoke,KJ Skribbz
ATTACH;FMTTYPE=image/jpeg:https://www.maddhatterpro.com/wp-content/uploads/2026/02/Pho-Scottsdale.jpg
END:VEVENT
BEGIN:VEVENT
DTSTART;TZID=UTC:20290920T183000
DTEND;TZID=UTC:20290920T183000
DTSTAMP:20260424T115651
CREATED:20250704T002812Z
LAST-MODIFIED:20260206T144210Z
UID:10022986-1884623400-1884623400@www.maddhatterpro.com
SUMMARY:Pho Cao Karaoke
DESCRIPTION:Homey atmosphere\, and the perfect Thursday evening dinner. Come out and see what Pho Cao has to offer with great Vietnamese cuisine. KJ Skribbz in the house\, 6:30pm-10:30pm yet another early show! \n7436 E McDowell Rd\, Scottsdale\, AZ 85257 \n+16234282173
URL:https://www.maddhatterpro.com/event/pho-cao-karaoke/2029-09-20/
LOCATION:Pho Cao\, 7436 E McDowell Rd\, Scottsdale\, AZ\, 85257\, United States
CATEGORIES:Karaoke,KJ Skribbz
ATTACH;FMTTYPE=image/jpeg:https://www.maddhatterpro.com/wp-content/uploads/2026/02/Pho-Scottsdale.jpg
END:VEVENT
BEGIN:VEVENT
DTSTART;TZID=UTC:20290927T183000
DTEND;TZID=UTC:20290927T183000
DTSTAMP:20260424T115651
CREATED:20250704T002812Z
LAST-MODIFIED:20260206T144210Z
UID:10022987-1885228200-1885228200@www.maddhatterpro.com
SUMMARY:Pho Cao Karaoke
DESCRIPTION:Homey atmosphere\, and the perfect Thursday evening dinner. Come out and see what Pho Cao has to offer with great Vietnamese cuisine. KJ Skribbz in the house\, 6:30pm-10:30pm yet another early show! \n7436 E McDowell Rd\, Scottsdale\, AZ 85257 \n+16234282173
URL:https://www.maddhatterpro.com/event/pho-cao-karaoke/2029-09-27/
LOCATION:Pho Cao\, 7436 E McDowell Rd\, Scottsdale\, AZ\, 85257\, United States
CATEGORIES:Karaoke,KJ Skribbz
ATTACH;FMTTYPE=image/jpeg:https://www.maddhatterpro.com/wp-content/uploads/2026/02/Pho-Scottsdale.jpg
END:VEVENT
BEGIN:VEVENT
DTSTART;TZID=UTC:20291004T183000
DTEND;TZID=UTC:20291004T183000
DTSTAMP:20260424T115651
CREATED:20250704T002812Z
LAST-MODIFIED:20260206T144210Z
UID:10022988-1885833000-1885833000@www.maddhatterpro.com
SUMMARY:Pho Cao Karaoke
DESCRIPTION:Homey atmosphere\, and the perfect Thursday evening dinner. Come out and see what Pho Cao has to offer with great Vietnamese cuisine. KJ Skribbz in the house\, 6:30pm-10:30pm yet another early show! \n7436 E McDowell Rd\, Scottsdale\, AZ 85257 \n+16234282173
URL:https://www.maddhatterpro.com/event/pho-cao-karaoke/2029-10-04/
LOCATION:Pho Cao\, 7436 E McDowell Rd\, Scottsdale\, AZ\, 85257\, United States
CATEGORIES:Karaoke,KJ Skribbz
ATTACH;FMTTYPE=image/jpeg:https://www.maddhatterpro.com/wp-content/uploads/2026/02/Pho-Scottsdale.jpg
END:VEVENT
BEGIN:VEVENT
DTSTART;TZID=UTC:20291011T183000
DTEND;TZID=UTC:20291011T183000
DTSTAMP:20260424T115651
CREATED:20250704T002812Z
LAST-MODIFIED:20260206T144210Z
UID:10022989-1886437800-1886437800@www.maddhatterpro.com
SUMMARY:Pho Cao Karaoke
DESCRIPTION:Homey atmosphere\, and the perfect Thursday evening dinner. Come out and see what Pho Cao has to offer with great Vietnamese cuisine. KJ Skribbz in the house\, 6:30pm-10:30pm yet another early show! \n7436 E McDowell Rd\, Scottsdale\, AZ 85257 \n+16234282173
URL:https://www.maddhatterpro.com/event/pho-cao-karaoke/2029-10-11/
LOCATION:Pho Cao\, 7436 E McDowell Rd\, Scottsdale\, AZ\, 85257\, United States
CATEGORIES:Karaoke,KJ Skribbz
ATTACH;FMTTYPE=image/jpeg:https://www.maddhatterpro.com/wp-content/uploads/2026/02/Pho-Scottsdale.jpg
END:VEVENT
BEGIN:VEVENT
DTSTART;TZID=UTC:20291018T183000
DTEND;TZID=UTC:20291018T183000
DTSTAMP:20260424T115651
CREATED:20250704T002812Z
LAST-MODIFIED:20260206T144210Z
UID:10022990-1887042600-1887042600@www.maddhatterpro.com
SUMMARY:Pho Cao Karaoke
DESCRIPTION:Homey atmosphere\, and the perfect Thursday evening dinner. Come out and see what Pho Cao has to offer with great Vietnamese cuisine. KJ Skribbz in the house\, 6:30pm-10:30pm yet another early show! \n7436 E McDowell Rd\, Scottsdale\, AZ 85257 \n+16234282173
URL:https://www.maddhatterpro.com/event/pho-cao-karaoke/2029-10-18/
LOCATION:Pho Cao\, 7436 E McDowell Rd\, Scottsdale\, AZ\, 85257\, United States
CATEGORIES:Karaoke,KJ Skribbz
ATTACH;FMTTYPE=image/jpeg:https://www.maddhatterpro.com/wp-content/uploads/2026/02/Pho-Scottsdale.jpg
END:VEVENT
BEGIN:VEVENT
DTSTART;TZID=UTC:20291025T183000
DTEND;TZID=UTC:20291025T183000
DTSTAMP:20260424T115651
CREATED:20250704T002812Z
LAST-MODIFIED:20260206T144210Z
UID:10022991-1887647400-1887647400@www.maddhatterpro.com
SUMMARY:Pho Cao Karaoke
DESCRIPTION:Homey atmosphere\, and the perfect Thursday evening dinner. Come out and see what Pho Cao has to offer with great Vietnamese cuisine. KJ Skribbz in the house\, 6:30pm-10:30pm yet another early show! \n7436 E McDowell Rd\, Scottsdale\, AZ 85257 \n+16234282173
URL:https://www.maddhatterpro.com/event/pho-cao-karaoke/2029-10-25/
LOCATION:Pho Cao\, 7436 E McDowell Rd\, Scottsdale\, AZ\, 85257\, United States
CATEGORIES:Karaoke,KJ Skribbz
ATTACH;FMTTYPE=image/jpeg:https://www.maddhatterpro.com/wp-content/uploads/2026/02/Pho-Scottsdale.jpg
END:VEVENT
BEGIN:VEVENT
DTSTART;TZID=UTC:20291101T183000
DTEND;TZID=UTC:20291101T183000
DTSTAMP:20260424T115651
CREATED:20250704T002812Z
LAST-MODIFIED:20260206T144210Z
UID:10022992-1888252200-1888252200@www.maddhatterpro.com
SUMMARY:Pho Cao Karaoke
DESCRIPTION:Homey atmosphere\, and the perfect Thursday evening dinner. Come out and see what Pho Cao has to offer with great Vietnamese cuisine. KJ Skribbz in the house\, 6:30pm-10:30pm yet another early show! \n7436 E McDowell Rd\, Scottsdale\, AZ 85257 \n+16234282173
URL:https://www.maddhatterpro.com/event/pho-cao-karaoke/2029-11-01/
LOCATION:Pho Cao\, 7436 E McDowell Rd\, Scottsdale\, AZ\, 85257\, United States
CATEGORIES:Karaoke,KJ Skribbz
ATTACH;FMTTYPE=image/jpeg:https://www.maddhatterpro.com/wp-content/uploads/2026/02/Pho-Scottsdale.jpg
END:VEVENT
BEGIN:VEVENT
DTSTART;TZID=UTC:20291108T183000
DTEND;TZID=UTC:20291108T183000
DTSTAMP:20260424T115651
CREATED:20250704T002812Z
LAST-MODIFIED:20260206T144210Z
UID:10022993-1888857000-1888857000@www.maddhatterpro.com
SUMMARY:Pho Cao Karaoke
DESCRIPTION:Homey atmosphere\, and the perfect Thursday evening dinner. Come out and see what Pho Cao has to offer with great Vietnamese cuisine. KJ Skribbz in the house\, 6:30pm-10:30pm yet another early show! \n7436 E McDowell Rd\, Scottsdale\, AZ 85257 \n+16234282173
URL:https://www.maddhatterpro.com/event/pho-cao-karaoke/2029-11-08/
LOCATION:Pho Cao\, 7436 E McDowell Rd\, Scottsdale\, AZ\, 85257\, United States
CATEGORIES:Karaoke,KJ Skribbz
ATTACH;FMTTYPE=image/jpeg:https://www.maddhatterpro.com/wp-content/uploads/2026/02/Pho-Scottsdale.jpg
END:VEVENT
BEGIN:VEVENT
DTSTART;TZID=UTC:20291115T183000
DTEND;TZID=UTC:20291115T183000
DTSTAMP:20260424T115651
CREATED:20250704T002812Z
LAST-MODIFIED:20260206T144210Z
UID:10022994-1889461800-1889461800@www.maddhatterpro.com
SUMMARY:Pho Cao Karaoke
DESCRIPTION:Homey atmosphere\, and the perfect Thursday evening dinner. Come out and see what Pho Cao has to offer with great Vietnamese cuisine. KJ Skribbz in the house\, 6:30pm-10:30pm yet another early show! \n7436 E McDowell Rd\, Scottsdale\, AZ 85257 \n+16234282173
URL:https://www.maddhatterpro.com/event/pho-cao-karaoke/2029-11-15/
LOCATION:Pho Cao\, 7436 E McDowell Rd\, Scottsdale\, AZ\, 85257\, United States
CATEGORIES:Karaoke,KJ Skribbz
ATTACH;FMTTYPE=image/jpeg:https://www.maddhatterpro.com/wp-content/uploads/2026/02/Pho-Scottsdale.jpg
END:VEVENT
END:VCALENDAR