BEGIN:VCALENDAR
VERSION:2.0
PRODID:-//MaddHatterPro.com - ECPv6.15.20//NONSGML v1.0//EN
CALSCALE:GREGORIAN
METHOD:PUBLISH
X-ORIGINAL-URL:https://www.maddhatterpro.com
X-WR-CALDESC:Events for MaddHatterPro.com
REFRESH-INTERVAL;VALUE=DURATION:PT1H
X-Robots-Tag:noindex
X-PUBLISHED-TTL:PT1H
BEGIN:VTIMEZONE
TZID:UTC
BEGIN:STANDARD
TZOFFSETFROM:+0000
TZOFFSETTO:+0000
TZNAME:UTC
DTSTART:20260101T000000
END:STANDARD
END:VTIMEZONE
BEGIN:VEVENT
DTSTART;TZID=UTC:20270911T200000
DTEND;TZID=UTC:20270911T200000
DTSTAMP:20260424T094203
CREATED:20250704T001639Z
LAST-MODIFIED:20260206T143841Z
UID:10022210-1820692800-1820692800@www.maddhatterpro.com
SUMMARY:Beast of Bourbon Karaoke
DESCRIPTION:Great open atmosphere. Come out and sing your heart out with KJ Skribbz\, Yes\, some songs are off limits\, but its a blast anyway and there are plenty of songs to sing. Click following link to see what the venue is NOT licensed for. Please do NOT request 8pm-Midnight \n2235 S Power Rd #127\, Mesa\, AZ 85209 \n+14804261005
URL:https://www.maddhatterpro.com/event/beast-of-bourbon-karaoke/2027-09-11/
LOCATION:Beast of Bourbon\, 2235 S Power Rd #127\, Mesa\, AZ\, 85209\, United States
CATEGORIES:Karaoke,KJ Skribbz
ATTACH;FMTTYPE=image/jpeg:https://www.maddhatterpro.com/wp-content/uploads/2026/02/Beast-Mesa.jpg
END:VEVENT
BEGIN:VEVENT
DTSTART;TZID=UTC:20270914T200000
DTEND;TZID=UTC:20270914T200000
DTSTAMP:20260424T094203
CREATED:20250704T001639Z
LAST-MODIFIED:20260206T143841Z
UID:10022211-1820952000-1820952000@www.maddhatterpro.com
SUMMARY:Beast of Bourbon Karaoke
DESCRIPTION:Great open atmosphere. Come out and sing your heart out with KJ Skribbz\, Yes\, some songs are off limits\, but its a blast anyway and there are plenty of songs to sing. Click following link to see what the venue is NOT licensed for. Please do NOT request 8pm-Midnight \n2235 S Power Rd #127\, Mesa\, AZ 85209 \n+14804261005
URL:https://www.maddhatterpro.com/event/beast-of-bourbon-karaoke/2027-09-14/
LOCATION:Beast of Bourbon\, 2235 S Power Rd #127\, Mesa\, AZ\, 85209\, United States
CATEGORIES:Karaoke,KJ Skribbz
ATTACH;FMTTYPE=image/jpeg:https://www.maddhatterpro.com/wp-content/uploads/2026/02/Beast-Mesa.jpg
END:VEVENT
BEGIN:VEVENT
DTSTART;TZID=UTC:20270918T200000
DTEND;TZID=UTC:20270918T200000
DTSTAMP:20260424T094203
CREATED:20250704T001639Z
LAST-MODIFIED:20260206T143841Z
UID:10022212-1821297600-1821297600@www.maddhatterpro.com
SUMMARY:Beast of Bourbon Karaoke
DESCRIPTION:Great open atmosphere. Come out and sing your heart out with KJ Skribbz\, Yes\, some songs are off limits\, but its a blast anyway and there are plenty of songs to sing. Click following link to see what the venue is NOT licensed for. Please do NOT request 8pm-Midnight \n2235 S Power Rd #127\, Mesa\, AZ 85209 \n+14804261005
URL:https://www.maddhatterpro.com/event/beast-of-bourbon-karaoke/2027-09-18/
LOCATION:Beast of Bourbon\, 2235 S Power Rd #127\, Mesa\, AZ\, 85209\, United States
CATEGORIES:Karaoke,KJ Skribbz
ATTACH;FMTTYPE=image/jpeg:https://www.maddhatterpro.com/wp-content/uploads/2026/02/Beast-Mesa.jpg
END:VEVENT
BEGIN:VEVENT
DTSTART;TZID=UTC:20270921T200000
DTEND;TZID=UTC:20270921T200000
DTSTAMP:20260424T094203
CREATED:20250704T001639Z
LAST-MODIFIED:20260206T143841Z
UID:10022213-1821556800-1821556800@www.maddhatterpro.com
SUMMARY:Beast of Bourbon Karaoke
DESCRIPTION:Great open atmosphere. Come out and sing your heart out with KJ Skribbz\, Yes\, some songs are off limits\, but its a blast anyway and there are plenty of songs to sing. Click following link to see what the venue is NOT licensed for. Please do NOT request 8pm-Midnight \n2235 S Power Rd #127\, Mesa\, AZ 85209 \n+14804261005
URL:https://www.maddhatterpro.com/event/beast-of-bourbon-karaoke/2027-09-21/
LOCATION:Beast of Bourbon\, 2235 S Power Rd #127\, Mesa\, AZ\, 85209\, United States
CATEGORIES:Karaoke,KJ Skribbz
ATTACH;FMTTYPE=image/jpeg:https://www.maddhatterpro.com/wp-content/uploads/2026/02/Beast-Mesa.jpg
END:VEVENT
BEGIN:VEVENT
DTSTART;TZID=UTC:20270925T200000
DTEND;TZID=UTC:20270925T200000
DTSTAMP:20260424T094203
CREATED:20250704T001639Z
LAST-MODIFIED:20260206T143841Z
UID:10022214-1821902400-1821902400@www.maddhatterpro.com
SUMMARY:Beast of Bourbon Karaoke
DESCRIPTION:Great open atmosphere. Come out and sing your heart out with KJ Skribbz\, Yes\, some songs are off limits\, but its a blast anyway and there are plenty of songs to sing. Click following link to see what the venue is NOT licensed for. Please do NOT request 8pm-Midnight \n2235 S Power Rd #127\, Mesa\, AZ 85209 \n+14804261005
URL:https://www.maddhatterpro.com/event/beast-of-bourbon-karaoke/2027-09-25/
LOCATION:Beast of Bourbon\, 2235 S Power Rd #127\, Mesa\, AZ\, 85209\, United States
CATEGORIES:Karaoke,KJ Skribbz
ATTACH;FMTTYPE=image/jpeg:https://www.maddhatterpro.com/wp-content/uploads/2026/02/Beast-Mesa.jpg
END:VEVENT
BEGIN:VEVENT
DTSTART;TZID=UTC:20270928T200000
DTEND;TZID=UTC:20270928T200000
DTSTAMP:20260424T094203
CREATED:20250704T001639Z
LAST-MODIFIED:20260206T143841Z
UID:10022215-1822161600-1822161600@www.maddhatterpro.com
SUMMARY:Beast of Bourbon Karaoke
DESCRIPTION:Great open atmosphere. Come out and sing your heart out with KJ Skribbz\, Yes\, some songs are off limits\, but its a blast anyway and there are plenty of songs to sing. Click following link to see what the venue is NOT licensed for. Please do NOT request 8pm-Midnight \n2235 S Power Rd #127\, Mesa\, AZ 85209 \n+14804261005
URL:https://www.maddhatterpro.com/event/beast-of-bourbon-karaoke/2027-09-28/
LOCATION:Beast of Bourbon\, 2235 S Power Rd #127\, Mesa\, AZ\, 85209\, United States
CATEGORIES:Karaoke,KJ Skribbz
ATTACH;FMTTYPE=image/jpeg:https://www.maddhatterpro.com/wp-content/uploads/2026/02/Beast-Mesa.jpg
END:VEVENT
BEGIN:VEVENT
DTSTART;TZID=UTC:20271002T200000
DTEND;TZID=UTC:20271002T200000
DTSTAMP:20260424T094203
CREATED:20250704T001639Z
LAST-MODIFIED:20260206T143841Z
UID:10022216-1822507200-1822507200@www.maddhatterpro.com
SUMMARY:Beast of Bourbon Karaoke
DESCRIPTION:Great open atmosphere. Come out and sing your heart out with KJ Skribbz\, Yes\, some songs are off limits\, but its a blast anyway and there are plenty of songs to sing. Click following link to see what the venue is NOT licensed for. Please do NOT request 8pm-Midnight \n2235 S Power Rd #127\, Mesa\, AZ 85209 \n+14804261005
URL:https://www.maddhatterpro.com/event/beast-of-bourbon-karaoke/2027-10-02/
LOCATION:Beast of Bourbon\, 2235 S Power Rd #127\, Mesa\, AZ\, 85209\, United States
CATEGORIES:Karaoke,KJ Skribbz
ATTACH;FMTTYPE=image/jpeg:https://www.maddhatterpro.com/wp-content/uploads/2026/02/Beast-Mesa.jpg
END:VEVENT
BEGIN:VEVENT
DTSTART;TZID=UTC:20271005T200000
DTEND;TZID=UTC:20271005T200000
DTSTAMP:20260424T094203
CREATED:20250704T001639Z
LAST-MODIFIED:20260206T143841Z
UID:10022217-1822766400-1822766400@www.maddhatterpro.com
SUMMARY:Beast of Bourbon Karaoke
DESCRIPTION:Great open atmosphere. Come out and sing your heart out with KJ Skribbz\, Yes\, some songs are off limits\, but its a blast anyway and there are plenty of songs to sing. Click following link to see what the venue is NOT licensed for. Please do NOT request 8pm-Midnight \n2235 S Power Rd #127\, Mesa\, AZ 85209 \n+14804261005
URL:https://www.maddhatterpro.com/event/beast-of-bourbon-karaoke/2027-10-05/
LOCATION:Beast of Bourbon\, 2235 S Power Rd #127\, Mesa\, AZ\, 85209\, United States
CATEGORIES:Karaoke,KJ Skribbz
ATTACH;FMTTYPE=image/jpeg:https://www.maddhatterpro.com/wp-content/uploads/2026/02/Beast-Mesa.jpg
END:VEVENT
BEGIN:VEVENT
DTSTART;TZID=UTC:20271009T200000
DTEND;TZID=UTC:20271009T200000
DTSTAMP:20260424T094203
CREATED:20250704T001639Z
LAST-MODIFIED:20260206T143841Z
UID:10022218-1823112000-1823112000@www.maddhatterpro.com
SUMMARY:Beast of Bourbon Karaoke
DESCRIPTION:Great open atmosphere. Come out and sing your heart out with KJ Skribbz\, Yes\, some songs are off limits\, but its a blast anyway and there are plenty of songs to sing. Click following link to see what the venue is NOT licensed for. Please do NOT request 8pm-Midnight \n2235 S Power Rd #127\, Mesa\, AZ 85209 \n+14804261005
URL:https://www.maddhatterpro.com/event/beast-of-bourbon-karaoke/2027-10-09/
LOCATION:Beast of Bourbon\, 2235 S Power Rd #127\, Mesa\, AZ\, 85209\, United States
CATEGORIES:Karaoke,KJ Skribbz
ATTACH;FMTTYPE=image/jpeg:https://www.maddhatterpro.com/wp-content/uploads/2026/02/Beast-Mesa.jpg
END:VEVENT
BEGIN:VEVENT
DTSTART;TZID=UTC:20271012T200000
DTEND;TZID=UTC:20271012T200000
DTSTAMP:20260424T094203
CREATED:20250704T001639Z
LAST-MODIFIED:20260206T143841Z
UID:10022219-1823371200-1823371200@www.maddhatterpro.com
SUMMARY:Beast of Bourbon Karaoke
DESCRIPTION:Great open atmosphere. Come out and sing your heart out with KJ Skribbz\, Yes\, some songs are off limits\, but its a blast anyway and there are plenty of songs to sing. Click following link to see what the venue is NOT licensed for. Please do NOT request 8pm-Midnight \n2235 S Power Rd #127\, Mesa\, AZ 85209 \n+14804261005
URL:https://www.maddhatterpro.com/event/beast-of-bourbon-karaoke/2027-10-12/
LOCATION:Beast of Bourbon\, 2235 S Power Rd #127\, Mesa\, AZ\, 85209\, United States
CATEGORIES:Karaoke,KJ Skribbz
ATTACH;FMTTYPE=image/jpeg:https://www.maddhatterpro.com/wp-content/uploads/2026/02/Beast-Mesa.jpg
END:VEVENT
BEGIN:VEVENT
DTSTART;TZID=UTC:20271016T200000
DTEND;TZID=UTC:20271016T200000
DTSTAMP:20260424T094203
CREATED:20250704T001639Z
LAST-MODIFIED:20260206T143841Z
UID:10022220-1823716800-1823716800@www.maddhatterpro.com
SUMMARY:Beast of Bourbon Karaoke
DESCRIPTION:Great open atmosphere. Come out and sing your heart out with KJ Skribbz\, Yes\, some songs are off limits\, but its a blast anyway and there are plenty of songs to sing. Click following link to see what the venue is NOT licensed for. Please do NOT request 8pm-Midnight \n2235 S Power Rd #127\, Mesa\, AZ 85209 \n+14804261005
URL:https://www.maddhatterpro.com/event/beast-of-bourbon-karaoke/2027-10-16/
LOCATION:Beast of Bourbon\, 2235 S Power Rd #127\, Mesa\, AZ\, 85209\, United States
CATEGORIES:Karaoke,KJ Skribbz
ATTACH;FMTTYPE=image/jpeg:https://www.maddhatterpro.com/wp-content/uploads/2026/02/Beast-Mesa.jpg
END:VEVENT
BEGIN:VEVENT
DTSTART;TZID=UTC:20271019T200000
DTEND;TZID=UTC:20271019T200000
DTSTAMP:20260424T094203
CREATED:20250704T001639Z
LAST-MODIFIED:20260206T143841Z
UID:10022221-1823976000-1823976000@www.maddhatterpro.com
SUMMARY:Beast of Bourbon Karaoke
DESCRIPTION:Great open atmosphere. Come out and sing your heart out with KJ Skribbz\, Yes\, some songs are off limits\, but its a blast anyway and there are plenty of songs to sing. Click following link to see what the venue is NOT licensed for. Please do NOT request 8pm-Midnight \n2235 S Power Rd #127\, Mesa\, AZ 85209 \n+14804261005
URL:https://www.maddhatterpro.com/event/beast-of-bourbon-karaoke/2027-10-19/
LOCATION:Beast of Bourbon\, 2235 S Power Rd #127\, Mesa\, AZ\, 85209\, United States
CATEGORIES:Karaoke,KJ Skribbz
ATTACH;FMTTYPE=image/jpeg:https://www.maddhatterpro.com/wp-content/uploads/2026/02/Beast-Mesa.jpg
END:VEVENT
BEGIN:VEVENT
DTSTART;TZID=UTC:20271023T200000
DTEND;TZID=UTC:20271023T200000
DTSTAMP:20260424T094203
CREATED:20250704T001639Z
LAST-MODIFIED:20260206T143841Z
UID:10022222-1824321600-1824321600@www.maddhatterpro.com
SUMMARY:Beast of Bourbon Karaoke
DESCRIPTION:Great open atmosphere. Come out and sing your heart out with KJ Skribbz\, Yes\, some songs are off limits\, but its a blast anyway and there are plenty of songs to sing. Click following link to see what the venue is NOT licensed for. Please do NOT request 8pm-Midnight \n2235 S Power Rd #127\, Mesa\, AZ 85209 \n+14804261005
URL:https://www.maddhatterpro.com/event/beast-of-bourbon-karaoke/2027-10-23/
LOCATION:Beast of Bourbon\, 2235 S Power Rd #127\, Mesa\, AZ\, 85209\, United States
CATEGORIES:Karaoke,KJ Skribbz
ATTACH;FMTTYPE=image/jpeg:https://www.maddhatterpro.com/wp-content/uploads/2026/02/Beast-Mesa.jpg
END:VEVENT
BEGIN:VEVENT
DTSTART;TZID=UTC:20271026T200000
DTEND;TZID=UTC:20271026T200000
DTSTAMP:20260424T094203
CREATED:20250704T001639Z
LAST-MODIFIED:20260206T143841Z
UID:10022223-1824580800-1824580800@www.maddhatterpro.com
SUMMARY:Beast of Bourbon Karaoke
DESCRIPTION:Great open atmosphere. Come out and sing your heart out with KJ Skribbz\, Yes\, some songs are off limits\, but its a blast anyway and there are plenty of songs to sing. Click following link to see what the venue is NOT licensed for. Please do NOT request 8pm-Midnight \n2235 S Power Rd #127\, Mesa\, AZ 85209 \n+14804261005
URL:https://www.maddhatterpro.com/event/beast-of-bourbon-karaoke/2027-10-26/
LOCATION:Beast of Bourbon\, 2235 S Power Rd #127\, Mesa\, AZ\, 85209\, United States
CATEGORIES:Karaoke,KJ Skribbz
ATTACH;FMTTYPE=image/jpeg:https://www.maddhatterpro.com/wp-content/uploads/2026/02/Beast-Mesa.jpg
END:VEVENT
BEGIN:VEVENT
DTSTART;TZID=UTC:20271030T200000
DTEND;TZID=UTC:20271030T200000
DTSTAMP:20260424T094203
CREATED:20250704T001639Z
LAST-MODIFIED:20260206T143841Z
UID:10022224-1824926400-1824926400@www.maddhatterpro.com
SUMMARY:Beast of Bourbon Karaoke
DESCRIPTION:Great open atmosphere. Come out and sing your heart out with KJ Skribbz\, Yes\, some songs are off limits\, but its a blast anyway and there are plenty of songs to sing. Click following link to see what the venue is NOT licensed for. Please do NOT request 8pm-Midnight \n2235 S Power Rd #127\, Mesa\, AZ 85209 \n+14804261005
URL:https://www.maddhatterpro.com/event/beast-of-bourbon-karaoke/2027-10-30/
LOCATION:Beast of Bourbon\, 2235 S Power Rd #127\, Mesa\, AZ\, 85209\, United States
CATEGORIES:Karaoke,KJ Skribbz
ATTACH;FMTTYPE=image/jpeg:https://www.maddhatterpro.com/wp-content/uploads/2026/02/Beast-Mesa.jpg
END:VEVENT
BEGIN:VEVENT
DTSTART;TZID=UTC:20271102T200000
DTEND;TZID=UTC:20271102T200000
DTSTAMP:20260424T094203
CREATED:20250704T001639Z
LAST-MODIFIED:20260206T143841Z
UID:10022225-1825185600-1825185600@www.maddhatterpro.com
SUMMARY:Beast of Bourbon Karaoke
DESCRIPTION:Great open atmosphere. Come out and sing your heart out with KJ Skribbz\, Yes\, some songs are off limits\, but its a blast anyway and there are plenty of songs to sing. Click following link to see what the venue is NOT licensed for. Please do NOT request 8pm-Midnight \n2235 S Power Rd #127\, Mesa\, AZ 85209 \n+14804261005
URL:https://www.maddhatterpro.com/event/beast-of-bourbon-karaoke/2027-11-02/
LOCATION:Beast of Bourbon\, 2235 S Power Rd #127\, Mesa\, AZ\, 85209\, United States
CATEGORIES:Karaoke,KJ Skribbz
ATTACH;FMTTYPE=image/jpeg:https://www.maddhatterpro.com/wp-content/uploads/2026/02/Beast-Mesa.jpg
END:VEVENT
BEGIN:VEVENT
DTSTART;TZID=UTC:20271106T200000
DTEND;TZID=UTC:20271106T200000
DTSTAMP:20260424T094203
CREATED:20250704T001639Z
LAST-MODIFIED:20260206T143841Z
UID:10022226-1825531200-1825531200@www.maddhatterpro.com
SUMMARY:Beast of Bourbon Karaoke
DESCRIPTION:Great open atmosphere. Come out and sing your heart out with KJ Skribbz\, Yes\, some songs are off limits\, but its a blast anyway and there are plenty of songs to sing. Click following link to see what the venue is NOT licensed for. Please do NOT request 8pm-Midnight \n2235 S Power Rd #127\, Mesa\, AZ 85209 \n+14804261005
URL:https://www.maddhatterpro.com/event/beast-of-bourbon-karaoke/2027-11-06/
LOCATION:Beast of Bourbon\, 2235 S Power Rd #127\, Mesa\, AZ\, 85209\, United States
CATEGORIES:Karaoke,KJ Skribbz
ATTACH;FMTTYPE=image/jpeg:https://www.maddhatterpro.com/wp-content/uploads/2026/02/Beast-Mesa.jpg
END:VEVENT
BEGIN:VEVENT
DTSTART;TZID=UTC:20271109T200000
DTEND;TZID=UTC:20271109T200000
DTSTAMP:20260424T094203
CREATED:20250704T001639Z
LAST-MODIFIED:20260206T143841Z
UID:10022227-1825790400-1825790400@www.maddhatterpro.com
SUMMARY:Beast of Bourbon Karaoke
DESCRIPTION:Great open atmosphere. Come out and sing your heart out with KJ Skribbz\, Yes\, some songs are off limits\, but its a blast anyway and there are plenty of songs to sing. Click following link to see what the venue is NOT licensed for. Please do NOT request 8pm-Midnight \n2235 S Power Rd #127\, Mesa\, AZ 85209 \n+14804261005
URL:https://www.maddhatterpro.com/event/beast-of-bourbon-karaoke/2027-11-09/
LOCATION:Beast of Bourbon\, 2235 S Power Rd #127\, Mesa\, AZ\, 85209\, United States
CATEGORIES:Karaoke,KJ Skribbz
ATTACH;FMTTYPE=image/jpeg:https://www.maddhatterpro.com/wp-content/uploads/2026/02/Beast-Mesa.jpg
END:VEVENT
BEGIN:VEVENT
DTSTART;TZID=UTC:20271113T200000
DTEND;TZID=UTC:20271113T200000
DTSTAMP:20260424T094203
CREATED:20250704T001639Z
LAST-MODIFIED:20260206T143841Z
UID:10022228-1826136000-1826136000@www.maddhatterpro.com
SUMMARY:Beast of Bourbon Karaoke
DESCRIPTION:Great open atmosphere. Come out and sing your heart out with KJ Skribbz\, Yes\, some songs are off limits\, but its a blast anyway and there are plenty of songs to sing. Click following link to see what the venue is NOT licensed for. Please do NOT request 8pm-Midnight \n2235 S Power Rd #127\, Mesa\, AZ 85209 \n+14804261005
URL:https://www.maddhatterpro.com/event/beast-of-bourbon-karaoke/2027-11-13/
LOCATION:Beast of Bourbon\, 2235 S Power Rd #127\, Mesa\, AZ\, 85209\, United States
CATEGORIES:Karaoke,KJ Skribbz
ATTACH;FMTTYPE=image/jpeg:https://www.maddhatterpro.com/wp-content/uploads/2026/02/Beast-Mesa.jpg
END:VEVENT
BEGIN:VEVENT
DTSTART;TZID=UTC:20271116T200000
DTEND;TZID=UTC:20271116T200000
DTSTAMP:20260424T094203
CREATED:20250704T001639Z
LAST-MODIFIED:20260206T143841Z
UID:10022229-1826395200-1826395200@www.maddhatterpro.com
SUMMARY:Beast of Bourbon Karaoke
DESCRIPTION:Great open atmosphere. Come out and sing your heart out with KJ Skribbz\, Yes\, some songs are off limits\, but its a blast anyway and there are plenty of songs to sing. Click following link to see what the venue is NOT licensed for. Please do NOT request 8pm-Midnight \n2235 S Power Rd #127\, Mesa\, AZ 85209 \n+14804261005
URL:https://www.maddhatterpro.com/event/beast-of-bourbon-karaoke/2027-11-16/
LOCATION:Beast of Bourbon\, 2235 S Power Rd #127\, Mesa\, AZ\, 85209\, United States
CATEGORIES:Karaoke,KJ Skribbz
ATTACH;FMTTYPE=image/jpeg:https://www.maddhatterpro.com/wp-content/uploads/2026/02/Beast-Mesa.jpg
END:VEVENT
BEGIN:VEVENT
DTSTART;TZID=UTC:20271120T200000
DTEND;TZID=UTC:20271120T200000
DTSTAMP:20260424T094203
CREATED:20250704T001639Z
LAST-MODIFIED:20260206T143841Z
UID:10022230-1826740800-1826740800@www.maddhatterpro.com
SUMMARY:Beast of Bourbon Karaoke
DESCRIPTION:Great open atmosphere. Come out and sing your heart out with KJ Skribbz\, Yes\, some songs are off limits\, but its a blast anyway and there are plenty of songs to sing. Click following link to see what the venue is NOT licensed for. Please do NOT request 8pm-Midnight \n2235 S Power Rd #127\, Mesa\, AZ 85209 \n+14804261005
URL:https://www.maddhatterpro.com/event/beast-of-bourbon-karaoke/2027-11-20/
LOCATION:Beast of Bourbon\, 2235 S Power Rd #127\, Mesa\, AZ\, 85209\, United States
CATEGORIES:Karaoke,KJ Skribbz
ATTACH;FMTTYPE=image/jpeg:https://www.maddhatterpro.com/wp-content/uploads/2026/02/Beast-Mesa.jpg
END:VEVENT
BEGIN:VEVENT
DTSTART;TZID=UTC:20271123T200000
DTEND;TZID=UTC:20271123T200000
DTSTAMP:20260424T094203
CREATED:20250704T001639Z
LAST-MODIFIED:20260206T143841Z
UID:10022231-1827000000-1827000000@www.maddhatterpro.com
SUMMARY:Beast of Bourbon Karaoke
DESCRIPTION:Great open atmosphere. Come out and sing your heart out with KJ Skribbz\, Yes\, some songs are off limits\, but its a blast anyway and there are plenty of songs to sing. Click following link to see what the venue is NOT licensed for. Please do NOT request 8pm-Midnight \n2235 S Power Rd #127\, Mesa\, AZ 85209 \n+14804261005
URL:https://www.maddhatterpro.com/event/beast-of-bourbon-karaoke/2027-11-23/
LOCATION:Beast of Bourbon\, 2235 S Power Rd #127\, Mesa\, AZ\, 85209\, United States
CATEGORIES:Karaoke,KJ Skribbz
ATTACH;FMTTYPE=image/jpeg:https://www.maddhatterpro.com/wp-content/uploads/2026/02/Beast-Mesa.jpg
END:VEVENT
BEGIN:VEVENT
DTSTART;TZID=UTC:20271127T200000
DTEND;TZID=UTC:20271127T200000
DTSTAMP:20260424T094203
CREATED:20250704T001639Z
LAST-MODIFIED:20260206T143841Z
UID:10022232-1827345600-1827345600@www.maddhatterpro.com
SUMMARY:Beast of Bourbon Karaoke
DESCRIPTION:Great open atmosphere. Come out and sing your heart out with KJ Skribbz\, Yes\, some songs are off limits\, but its a blast anyway and there are plenty of songs to sing. Click following link to see what the venue is NOT licensed for. Please do NOT request 8pm-Midnight \n2235 S Power Rd #127\, Mesa\, AZ 85209 \n+14804261005
URL:https://www.maddhatterpro.com/event/beast-of-bourbon-karaoke/2027-11-27/
LOCATION:Beast of Bourbon\, 2235 S Power Rd #127\, Mesa\, AZ\, 85209\, United States
CATEGORIES:Karaoke,KJ Skribbz
ATTACH;FMTTYPE=image/jpeg:https://www.maddhatterpro.com/wp-content/uploads/2026/02/Beast-Mesa.jpg
END:VEVENT
BEGIN:VEVENT
DTSTART;TZID=UTC:20271130T200000
DTEND;TZID=UTC:20271130T200000
DTSTAMP:20260424T094203
CREATED:20250704T001639Z
LAST-MODIFIED:20260206T143841Z
UID:10022233-1827604800-1827604800@www.maddhatterpro.com
SUMMARY:Beast of Bourbon Karaoke
DESCRIPTION:Great open atmosphere. Come out and sing your heart out with KJ Skribbz\, Yes\, some songs are off limits\, but its a blast anyway and there are plenty of songs to sing. Click following link to see what the venue is NOT licensed for. Please do NOT request 8pm-Midnight \n2235 S Power Rd #127\, Mesa\, AZ 85209 \n+14804261005
URL:https://www.maddhatterpro.com/event/beast-of-bourbon-karaoke/2027-11-30/
LOCATION:Beast of Bourbon\, 2235 S Power Rd #127\, Mesa\, AZ\, 85209\, United States
CATEGORIES:Karaoke,KJ Skribbz
ATTACH;FMTTYPE=image/jpeg:https://www.maddhatterpro.com/wp-content/uploads/2026/02/Beast-Mesa.jpg
END:VEVENT
BEGIN:VEVENT
DTSTART;TZID=UTC:20271204T200000
DTEND;TZID=UTC:20271204T200000
DTSTAMP:20260424T094203
CREATED:20250704T001639Z
LAST-MODIFIED:20260206T143841Z
UID:10022234-1827950400-1827950400@www.maddhatterpro.com
SUMMARY:Beast of Bourbon Karaoke
DESCRIPTION:Great open atmosphere. Come out and sing your heart out with KJ Skribbz\, Yes\, some songs are off limits\, but its a blast anyway and there are plenty of songs to sing. Click following link to see what the venue is NOT licensed for. Please do NOT request 8pm-Midnight \n2235 S Power Rd #127\, Mesa\, AZ 85209 \n+14804261005
URL:https://www.maddhatterpro.com/event/beast-of-bourbon-karaoke/2027-12-04/
LOCATION:Beast of Bourbon\, 2235 S Power Rd #127\, Mesa\, AZ\, 85209\, United States
CATEGORIES:Karaoke,KJ Skribbz
ATTACH;FMTTYPE=image/jpeg:https://www.maddhatterpro.com/wp-content/uploads/2026/02/Beast-Mesa.jpg
END:VEVENT
BEGIN:VEVENT
DTSTART;TZID=UTC:20271207T200000
DTEND;TZID=UTC:20271207T200000
DTSTAMP:20260424T094203
CREATED:20250704T001639Z
LAST-MODIFIED:20260206T143841Z
UID:10022235-1828209600-1828209600@www.maddhatterpro.com
SUMMARY:Beast of Bourbon Karaoke
DESCRIPTION:Great open atmosphere. Come out and sing your heart out with KJ Skribbz\, Yes\, some songs are off limits\, but its a blast anyway and there are plenty of songs to sing. Click following link to see what the venue is NOT licensed for. Please do NOT request 8pm-Midnight \n2235 S Power Rd #127\, Mesa\, AZ 85209 \n+14804261005
URL:https://www.maddhatterpro.com/event/beast-of-bourbon-karaoke/2027-12-07/
LOCATION:Beast of Bourbon\, 2235 S Power Rd #127\, Mesa\, AZ\, 85209\, United States
CATEGORIES:Karaoke,KJ Skribbz
ATTACH;FMTTYPE=image/jpeg:https://www.maddhatterpro.com/wp-content/uploads/2026/02/Beast-Mesa.jpg
END:VEVENT
BEGIN:VEVENT
DTSTART;TZID=UTC:20271211T200000
DTEND;TZID=UTC:20271211T200000
DTSTAMP:20260424T094203
CREATED:20250704T001639Z
LAST-MODIFIED:20260206T143841Z
UID:10022236-1828555200-1828555200@www.maddhatterpro.com
SUMMARY:Beast of Bourbon Karaoke
DESCRIPTION:Great open atmosphere. Come out and sing your heart out with KJ Skribbz\, Yes\, some songs are off limits\, but its a blast anyway and there are plenty of songs to sing. Click following link to see what the venue is NOT licensed for. Please do NOT request 8pm-Midnight \n2235 S Power Rd #127\, Mesa\, AZ 85209 \n+14804261005
URL:https://www.maddhatterpro.com/event/beast-of-bourbon-karaoke/2027-12-11/
LOCATION:Beast of Bourbon\, 2235 S Power Rd #127\, Mesa\, AZ\, 85209\, United States
CATEGORIES:Karaoke,KJ Skribbz
ATTACH;FMTTYPE=image/jpeg:https://www.maddhatterpro.com/wp-content/uploads/2026/02/Beast-Mesa.jpg
END:VEVENT
BEGIN:VEVENT
DTSTART;TZID=UTC:20271214T200000
DTEND;TZID=UTC:20271214T200000
DTSTAMP:20260424T094203
CREATED:20250704T001639Z
LAST-MODIFIED:20260206T143841Z
UID:10022237-1828814400-1828814400@www.maddhatterpro.com
SUMMARY:Beast of Bourbon Karaoke
DESCRIPTION:Great open atmosphere. Come out and sing your heart out with KJ Skribbz\, Yes\, some songs are off limits\, but its a blast anyway and there are plenty of songs to sing. Click following link to see what the venue is NOT licensed for. Please do NOT request 8pm-Midnight \n2235 S Power Rd #127\, Mesa\, AZ 85209 \n+14804261005
URL:https://www.maddhatterpro.com/event/beast-of-bourbon-karaoke/2027-12-14/
LOCATION:Beast of Bourbon\, 2235 S Power Rd #127\, Mesa\, AZ\, 85209\, United States
CATEGORIES:Karaoke,KJ Skribbz
ATTACH;FMTTYPE=image/jpeg:https://www.maddhatterpro.com/wp-content/uploads/2026/02/Beast-Mesa.jpg
END:VEVENT
BEGIN:VEVENT
DTSTART;TZID=UTC:20271218T200000
DTEND;TZID=UTC:20271218T200000
DTSTAMP:20260424T094203
CREATED:20250704T001639Z
LAST-MODIFIED:20260206T143841Z
UID:10022238-1829160000-1829160000@www.maddhatterpro.com
SUMMARY:Beast of Bourbon Karaoke
DESCRIPTION:Great open atmosphere. Come out and sing your heart out with KJ Skribbz\, Yes\, some songs are off limits\, but its a blast anyway and there are plenty of songs to sing. Click following link to see what the venue is NOT licensed for. Please do NOT request 8pm-Midnight \n2235 S Power Rd #127\, Mesa\, AZ 85209 \n+14804261005
URL:https://www.maddhatterpro.com/event/beast-of-bourbon-karaoke/2027-12-18/
LOCATION:Beast of Bourbon\, 2235 S Power Rd #127\, Mesa\, AZ\, 85209\, United States
CATEGORIES:Karaoke,KJ Skribbz
ATTACH;FMTTYPE=image/jpeg:https://www.maddhatterpro.com/wp-content/uploads/2026/02/Beast-Mesa.jpg
END:VEVENT
BEGIN:VEVENT
DTSTART;TZID=UTC:20271221T200000
DTEND;TZID=UTC:20271221T200000
DTSTAMP:20260424T094203
CREATED:20250704T001639Z
LAST-MODIFIED:20260206T143841Z
UID:10022239-1829419200-1829419200@www.maddhatterpro.com
SUMMARY:Beast of Bourbon Karaoke
DESCRIPTION:Great open atmosphere. Come out and sing your heart out with KJ Skribbz\, Yes\, some songs are off limits\, but its a blast anyway and there are plenty of songs to sing. Click following link to see what the venue is NOT licensed for. Please do NOT request 8pm-Midnight \n2235 S Power Rd #127\, Mesa\, AZ 85209 \n+14804261005
URL:https://www.maddhatterpro.com/event/beast-of-bourbon-karaoke/2027-12-21/
LOCATION:Beast of Bourbon\, 2235 S Power Rd #127\, Mesa\, AZ\, 85209\, United States
CATEGORIES:Karaoke,KJ Skribbz
ATTACH;FMTTYPE=image/jpeg:https://www.maddhatterpro.com/wp-content/uploads/2026/02/Beast-Mesa.jpg
END:VEVENT
END:VCALENDAR