BEGIN:VCALENDAR
VERSION:2.0
PRODID:-//MaddHatterPro.com - ECPv6.15.20//NONSGML v1.0//EN
CALSCALE:GREGORIAN
METHOD:PUBLISH
X-ORIGINAL-URL:https://www.maddhatterpro.com
X-WR-CALDESC:Events for MaddHatterPro.com
REFRESH-INTERVAL;VALUE=DURATION:PT1H
X-Robots-Tag:noindex
X-PUBLISHED-TTL:PT1H
BEGIN:VTIMEZONE
TZID:UTC
BEGIN:STANDARD
TZOFFSETFROM:+0000
TZOFFSETTO:+0000
TZNAME:UTC
DTSTART:20260101T000000
END:STANDARD
END:VTIMEZONE
BEGIN:VEVENT
DTSTART;TZID=UTC:20270326T210000
DTEND;TZID=UTC:20270326T210000
DTSTAMP:20260424T105444
CREATED:20250703T235929Z
LAST-MODIFIED:20260206T145047Z
UID:10021810-1806094800-1806094800@www.maddhatterpro.com
SUMMARY:The480Bar Karaoke
DESCRIPTION:Everyone’s favorite neighborhood bar in chandler! Always a great time with Wilde in the house. Come see what the big deal is. Thursdays 8pm-midnight\, Friday/Saturday 9pm-1am \n480 N Arizona Ave\, Chandler\, AZ 85225 \n+14808992268
URL:https://www.maddhatterpro.com/event/the480bar-karaoke-2/2027-03-26/
LOCATION:the480bar\, 480 N Arizona Ave\, Chandler\, AZ\, 85225\, United States
CATEGORIES:Karaoke,KJ Wilde
ATTACH;FMTTYPE=image/jpeg:https://www.maddhatterpro.com/wp-content/uploads/2026/02/480-Chandler.jpg
END:VEVENT
BEGIN:VEVENT
DTSTART;TZID=UTC:20270327T210000
DTEND;TZID=UTC:20270327T210000
DTSTAMP:20260424T105444
CREATED:20250703T235929Z
LAST-MODIFIED:20260206T145047Z
UID:10025163-1806181200-1806181200@www.maddhatterpro.com
SUMMARY:The480Bar Karaoke
DESCRIPTION:Everyone’s favorite neighborhood bar in chandler! Always a great time with Wilde in the house. Come see what the big deal is. Thursdays 8pm-midnight\, Friday/Saturday 9pm-1am \n480 N Arizona Ave\, Chandler\, AZ 85225 \n+14808992268
URL:https://www.maddhatterpro.com/event/the480bar-karaoke-2/2027-03-27/
LOCATION:the480bar\, 480 N Arizona Ave\, Chandler\, AZ\, 85225\, United States
CATEGORIES:Karaoke,KJ Wilde
ATTACH;FMTTYPE=image/jpeg:https://www.maddhatterpro.com/wp-content/uploads/2026/02/480-Chandler.jpg
END:VEVENT
BEGIN:VEVENT
DTSTART;TZID=UTC:20270401T200000
DTEND;TZID=UTC:20270401T200000
DTSTAMP:20260424T105444
CREATED:20250703T235739Z
LAST-MODIFIED:20260206T144305Z
UID:10021288-1806609600-1806609600@www.maddhatterpro.com
SUMMARY:The480Bar Karaoke
DESCRIPTION:Everyone’s favorite neighborhood bar in chandler! Always a great time with Wilde in the house. Come see what the big deal is. Thursdays 8pm-midnight\, Friday/Saturday 9pm-1am \n480 N Arizona Ave\, Chandler\, AZ 85225 \n+14808992268
URL:https://www.maddhatterpro.com/event/the480bar-karaoke/2027-04-01/
LOCATION:the480bar\, 480 N Arizona Ave\, Chandler\, AZ\, 85225\, United States
CATEGORIES:Karaoke,KJ Wilde
ATTACH;FMTTYPE=image/jpeg:https://www.maddhatterpro.com/wp-content/uploads/2026/02/480-Chandler.jpg
END:VEVENT
BEGIN:VEVENT
DTSTART;TZID=UTC:20270402T210000
DTEND;TZID=UTC:20270402T210000
DTSTAMP:20260424T105444
CREATED:20250703T235929Z
LAST-MODIFIED:20260206T145047Z
UID:10021811-1806699600-1806699600@www.maddhatterpro.com
SUMMARY:The480Bar Karaoke
DESCRIPTION:Everyone’s favorite neighborhood bar in chandler! Always a great time with Wilde in the house. Come see what the big deal is. Thursdays 8pm-midnight\, Friday/Saturday 9pm-1am \n480 N Arizona Ave\, Chandler\, AZ 85225 \n+14808992268
URL:https://www.maddhatterpro.com/event/the480bar-karaoke-2/2027-04-02/
LOCATION:the480bar\, 480 N Arizona Ave\, Chandler\, AZ\, 85225\, United States
CATEGORIES:Karaoke,KJ Wilde
ATTACH;FMTTYPE=image/jpeg:https://www.maddhatterpro.com/wp-content/uploads/2026/02/480-Chandler.jpg
END:VEVENT
BEGIN:VEVENT
DTSTART;TZID=UTC:20270403T210000
DTEND;TZID=UTC:20270403T210000
DTSTAMP:20260424T105444
CREATED:20250703T235929Z
LAST-MODIFIED:20260206T145047Z
UID:10025164-1806786000-1806786000@www.maddhatterpro.com
SUMMARY:The480Bar Karaoke
DESCRIPTION:Everyone’s favorite neighborhood bar in chandler! Always a great time with Wilde in the house. Come see what the big deal is. Thursdays 8pm-midnight\, Friday/Saturday 9pm-1am \n480 N Arizona Ave\, Chandler\, AZ 85225 \n+14808992268
URL:https://www.maddhatterpro.com/event/the480bar-karaoke-2/2027-04-03/
LOCATION:the480bar\, 480 N Arizona Ave\, Chandler\, AZ\, 85225\, United States
CATEGORIES:Karaoke,KJ Wilde
ATTACH;FMTTYPE=image/jpeg:https://www.maddhatterpro.com/wp-content/uploads/2026/02/480-Chandler.jpg
END:VEVENT
BEGIN:VEVENT
DTSTART;TZID=UTC:20270408T200000
DTEND;TZID=UTC:20270408T200000
DTSTAMP:20260424T105444
CREATED:20250703T235739Z
LAST-MODIFIED:20260206T144305Z
UID:10021289-1807214400-1807214400@www.maddhatterpro.com
SUMMARY:The480Bar Karaoke
DESCRIPTION:Everyone’s favorite neighborhood bar in chandler! Always a great time with Wilde in the house. Come see what the big deal is. Thursdays 8pm-midnight\, Friday/Saturday 9pm-1am \n480 N Arizona Ave\, Chandler\, AZ 85225 \n+14808992268
URL:https://www.maddhatterpro.com/event/the480bar-karaoke/2027-04-08/
LOCATION:the480bar\, 480 N Arizona Ave\, Chandler\, AZ\, 85225\, United States
CATEGORIES:Karaoke,KJ Wilde
ATTACH;FMTTYPE=image/jpeg:https://www.maddhatterpro.com/wp-content/uploads/2026/02/480-Chandler.jpg
END:VEVENT
BEGIN:VEVENT
DTSTART;TZID=UTC:20270409T210000
DTEND;TZID=UTC:20270409T210000
DTSTAMP:20260424T105444
CREATED:20250703T235929Z
LAST-MODIFIED:20260206T145047Z
UID:10021812-1807304400-1807304400@www.maddhatterpro.com
SUMMARY:The480Bar Karaoke
DESCRIPTION:Everyone’s favorite neighborhood bar in chandler! Always a great time with Wilde in the house. Come see what the big deal is. Thursdays 8pm-midnight\, Friday/Saturday 9pm-1am \n480 N Arizona Ave\, Chandler\, AZ 85225 \n+14808992268
URL:https://www.maddhatterpro.com/event/the480bar-karaoke-2/2027-04-09/
LOCATION:the480bar\, 480 N Arizona Ave\, Chandler\, AZ\, 85225\, United States
CATEGORIES:Karaoke,KJ Wilde
ATTACH;FMTTYPE=image/jpeg:https://www.maddhatterpro.com/wp-content/uploads/2026/02/480-Chandler.jpg
END:VEVENT
BEGIN:VEVENT
DTSTART;TZID=UTC:20270410T210000
DTEND;TZID=UTC:20270410T210000
DTSTAMP:20260424T105444
CREATED:20250703T235929Z
LAST-MODIFIED:20260206T145047Z
UID:10025165-1807390800-1807390800@www.maddhatterpro.com
SUMMARY:The480Bar Karaoke
DESCRIPTION:Everyone’s favorite neighborhood bar in chandler! Always a great time with Wilde in the house. Come see what the big deal is. Thursdays 8pm-midnight\, Friday/Saturday 9pm-1am \n480 N Arizona Ave\, Chandler\, AZ 85225 \n+14808992268
URL:https://www.maddhatterpro.com/event/the480bar-karaoke-2/2027-04-10/
LOCATION:the480bar\, 480 N Arizona Ave\, Chandler\, AZ\, 85225\, United States
CATEGORIES:Karaoke,KJ Wilde
ATTACH;FMTTYPE=image/jpeg:https://www.maddhatterpro.com/wp-content/uploads/2026/02/480-Chandler.jpg
END:VEVENT
BEGIN:VEVENT
DTSTART;TZID=UTC:20270415T200000
DTEND;TZID=UTC:20270415T200000
DTSTAMP:20260424T105444
CREATED:20250703T235739Z
LAST-MODIFIED:20260206T144305Z
UID:10021290-1807819200-1807819200@www.maddhatterpro.com
SUMMARY:The480Bar Karaoke
DESCRIPTION:Everyone’s favorite neighborhood bar in chandler! Always a great time with Wilde in the house. Come see what the big deal is. Thursdays 8pm-midnight\, Friday/Saturday 9pm-1am \n480 N Arizona Ave\, Chandler\, AZ 85225 \n+14808992268
URL:https://www.maddhatterpro.com/event/the480bar-karaoke/2027-04-15/
LOCATION:the480bar\, 480 N Arizona Ave\, Chandler\, AZ\, 85225\, United States
CATEGORIES:Karaoke,KJ Wilde
ATTACH;FMTTYPE=image/jpeg:https://www.maddhatterpro.com/wp-content/uploads/2026/02/480-Chandler.jpg
END:VEVENT
BEGIN:VEVENT
DTSTART;TZID=UTC:20270416T210000
DTEND;TZID=UTC:20270416T210000
DTSTAMP:20260424T105444
CREATED:20250703T235929Z
LAST-MODIFIED:20260206T145047Z
UID:10021813-1807909200-1807909200@www.maddhatterpro.com
SUMMARY:The480Bar Karaoke
DESCRIPTION:Everyone’s favorite neighborhood bar in chandler! Always a great time with Wilde in the house. Come see what the big deal is. Thursdays 8pm-midnight\, Friday/Saturday 9pm-1am \n480 N Arizona Ave\, Chandler\, AZ 85225 \n+14808992268
URL:https://www.maddhatterpro.com/event/the480bar-karaoke-2/2027-04-16/
LOCATION:the480bar\, 480 N Arizona Ave\, Chandler\, AZ\, 85225\, United States
CATEGORIES:Karaoke,KJ Wilde
ATTACH;FMTTYPE=image/jpeg:https://www.maddhatterpro.com/wp-content/uploads/2026/02/480-Chandler.jpg
END:VEVENT
BEGIN:VEVENT
DTSTART;TZID=UTC:20270417T210000
DTEND;TZID=UTC:20270417T210000
DTSTAMP:20260424T105444
CREATED:20250703T235929Z
LAST-MODIFIED:20260206T145047Z
UID:10025166-1807995600-1807995600@www.maddhatterpro.com
SUMMARY:The480Bar Karaoke
DESCRIPTION:Everyone’s favorite neighborhood bar in chandler! Always a great time with Wilde in the house. Come see what the big deal is. Thursdays 8pm-midnight\, Friday/Saturday 9pm-1am \n480 N Arizona Ave\, Chandler\, AZ 85225 \n+14808992268
URL:https://www.maddhatterpro.com/event/the480bar-karaoke-2/2027-04-17/
LOCATION:the480bar\, 480 N Arizona Ave\, Chandler\, AZ\, 85225\, United States
CATEGORIES:Karaoke,KJ Wilde
ATTACH;FMTTYPE=image/jpeg:https://www.maddhatterpro.com/wp-content/uploads/2026/02/480-Chandler.jpg
END:VEVENT
BEGIN:VEVENT
DTSTART;TZID=UTC:20270422T200000
DTEND;TZID=UTC:20270422T200000
DTSTAMP:20260424T105444
CREATED:20250703T235739Z
LAST-MODIFIED:20260206T144305Z
UID:10021291-1808424000-1808424000@www.maddhatterpro.com
SUMMARY:The480Bar Karaoke
DESCRIPTION:Everyone’s favorite neighborhood bar in chandler! Always a great time with Wilde in the house. Come see what the big deal is. Thursdays 8pm-midnight\, Friday/Saturday 9pm-1am \n480 N Arizona Ave\, Chandler\, AZ 85225 \n+14808992268
URL:https://www.maddhatterpro.com/event/the480bar-karaoke/2027-04-22/
LOCATION:the480bar\, 480 N Arizona Ave\, Chandler\, AZ\, 85225\, United States
CATEGORIES:Karaoke,KJ Wilde
ATTACH;FMTTYPE=image/jpeg:https://www.maddhatterpro.com/wp-content/uploads/2026/02/480-Chandler.jpg
END:VEVENT
BEGIN:VEVENT
DTSTART;TZID=UTC:20270423T210000
DTEND;TZID=UTC:20270423T210000
DTSTAMP:20260424T105444
CREATED:20250703T235929Z
LAST-MODIFIED:20260206T145047Z
UID:10021814-1808514000-1808514000@www.maddhatterpro.com
SUMMARY:The480Bar Karaoke
DESCRIPTION:Everyone’s favorite neighborhood bar in chandler! Always a great time with Wilde in the house. Come see what the big deal is. Thursdays 8pm-midnight\, Friday/Saturday 9pm-1am \n480 N Arizona Ave\, Chandler\, AZ 85225 \n+14808992268
URL:https://www.maddhatterpro.com/event/the480bar-karaoke-2/2027-04-23/
LOCATION:the480bar\, 480 N Arizona Ave\, Chandler\, AZ\, 85225\, United States
CATEGORIES:Karaoke,KJ Wilde
ATTACH;FMTTYPE=image/jpeg:https://www.maddhatterpro.com/wp-content/uploads/2026/02/480-Chandler.jpg
END:VEVENT
BEGIN:VEVENT
DTSTART;TZID=UTC:20270424T210000
DTEND;TZID=UTC:20270424T210000
DTSTAMP:20260424T105444
CREATED:20250703T235929Z
LAST-MODIFIED:20260206T145047Z
UID:10025167-1808600400-1808600400@www.maddhatterpro.com
SUMMARY:The480Bar Karaoke
DESCRIPTION:Everyone’s favorite neighborhood bar in chandler! Always a great time with Wilde in the house. Come see what the big deal is. Thursdays 8pm-midnight\, Friday/Saturday 9pm-1am \n480 N Arizona Ave\, Chandler\, AZ 85225 \n+14808992268
URL:https://www.maddhatterpro.com/event/the480bar-karaoke-2/2027-04-24/
LOCATION:the480bar\, 480 N Arizona Ave\, Chandler\, AZ\, 85225\, United States
CATEGORIES:Karaoke,KJ Wilde
ATTACH;FMTTYPE=image/jpeg:https://www.maddhatterpro.com/wp-content/uploads/2026/02/480-Chandler.jpg
END:VEVENT
BEGIN:VEVENT
DTSTART;TZID=UTC:20270429T200000
DTEND;TZID=UTC:20270429T200000
DTSTAMP:20260424T105444
CREATED:20250703T235739Z
LAST-MODIFIED:20260206T144305Z
UID:10021292-1809028800-1809028800@www.maddhatterpro.com
SUMMARY:The480Bar Karaoke
DESCRIPTION:Everyone’s favorite neighborhood bar in chandler! Always a great time with Wilde in the house. Come see what the big deal is. Thursdays 8pm-midnight\, Friday/Saturday 9pm-1am \n480 N Arizona Ave\, Chandler\, AZ 85225 \n+14808992268
URL:https://www.maddhatterpro.com/event/the480bar-karaoke/2027-04-29/
LOCATION:the480bar\, 480 N Arizona Ave\, Chandler\, AZ\, 85225\, United States
CATEGORIES:Karaoke,KJ Wilde
ATTACH;FMTTYPE=image/jpeg:https://www.maddhatterpro.com/wp-content/uploads/2026/02/480-Chandler.jpg
END:VEVENT
BEGIN:VEVENT
DTSTART;TZID=UTC:20270430T210000
DTEND;TZID=UTC:20270430T210000
DTSTAMP:20260424T105444
CREATED:20250703T235929Z
LAST-MODIFIED:20260206T145047Z
UID:10021815-1809118800-1809118800@www.maddhatterpro.com
SUMMARY:The480Bar Karaoke
DESCRIPTION:Everyone’s favorite neighborhood bar in chandler! Always a great time with Wilde in the house. Come see what the big deal is. Thursdays 8pm-midnight\, Friday/Saturday 9pm-1am \n480 N Arizona Ave\, Chandler\, AZ 85225 \n+14808992268
URL:https://www.maddhatterpro.com/event/the480bar-karaoke-2/2027-04-30/
LOCATION:the480bar\, 480 N Arizona Ave\, Chandler\, AZ\, 85225\, United States
CATEGORIES:Karaoke,KJ Wilde
ATTACH;FMTTYPE=image/jpeg:https://www.maddhatterpro.com/wp-content/uploads/2026/02/480-Chandler.jpg
END:VEVENT
BEGIN:VEVENT
DTSTART;TZID=UTC:20270501T210000
DTEND;TZID=UTC:20270501T210000
DTSTAMP:20260424T105444
CREATED:20250703T235929Z
LAST-MODIFIED:20260206T145047Z
UID:10025168-1809205200-1809205200@www.maddhatterpro.com
SUMMARY:The480Bar Karaoke
DESCRIPTION:Everyone’s favorite neighborhood bar in chandler! Always a great time with Wilde in the house. Come see what the big deal is. Thursdays 8pm-midnight\, Friday/Saturday 9pm-1am \n480 N Arizona Ave\, Chandler\, AZ 85225 \n+14808992268
URL:https://www.maddhatterpro.com/event/the480bar-karaoke-2/2027-05-01/
LOCATION:the480bar\, 480 N Arizona Ave\, Chandler\, AZ\, 85225\, United States
CATEGORIES:Karaoke,KJ Wilde
ATTACH;FMTTYPE=image/jpeg:https://www.maddhatterpro.com/wp-content/uploads/2026/02/480-Chandler.jpg
END:VEVENT
BEGIN:VEVENT
DTSTART;TZID=UTC:20270506T200000
DTEND;TZID=UTC:20270506T200000
DTSTAMP:20260424T105444
CREATED:20250703T235739Z
LAST-MODIFIED:20260206T144305Z
UID:10021293-1809633600-1809633600@www.maddhatterpro.com
SUMMARY:The480Bar Karaoke
DESCRIPTION:Everyone’s favorite neighborhood bar in chandler! Always a great time with Wilde in the house. Come see what the big deal is. Thursdays 8pm-midnight\, Friday/Saturday 9pm-1am \n480 N Arizona Ave\, Chandler\, AZ 85225 \n+14808992268
URL:https://www.maddhatterpro.com/event/the480bar-karaoke/2027-05-06/
LOCATION:the480bar\, 480 N Arizona Ave\, Chandler\, AZ\, 85225\, United States
CATEGORIES:Karaoke,KJ Wilde
ATTACH;FMTTYPE=image/jpeg:https://www.maddhatterpro.com/wp-content/uploads/2026/02/480-Chandler.jpg
END:VEVENT
BEGIN:VEVENT
DTSTART;TZID=UTC:20270507T210000
DTEND;TZID=UTC:20270507T210000
DTSTAMP:20260424T105444
CREATED:20250703T235929Z
LAST-MODIFIED:20260206T145047Z
UID:10021816-1809723600-1809723600@www.maddhatterpro.com
SUMMARY:The480Bar Karaoke
DESCRIPTION:Everyone’s favorite neighborhood bar in chandler! Always a great time with Wilde in the house. Come see what the big deal is. Thursdays 8pm-midnight\, Friday/Saturday 9pm-1am \n480 N Arizona Ave\, Chandler\, AZ 85225 \n+14808992268
URL:https://www.maddhatterpro.com/event/the480bar-karaoke-2/2027-05-07/
LOCATION:the480bar\, 480 N Arizona Ave\, Chandler\, AZ\, 85225\, United States
CATEGORIES:Karaoke,KJ Wilde
ATTACH;FMTTYPE=image/jpeg:https://www.maddhatterpro.com/wp-content/uploads/2026/02/480-Chandler.jpg
END:VEVENT
BEGIN:VEVENT
DTSTART;TZID=UTC:20270508T210000
DTEND;TZID=UTC:20270508T210000
DTSTAMP:20260424T105444
CREATED:20250703T235929Z
LAST-MODIFIED:20260206T145047Z
UID:10025169-1809810000-1809810000@www.maddhatterpro.com
SUMMARY:The480Bar Karaoke
DESCRIPTION:Everyone’s favorite neighborhood bar in chandler! Always a great time with Wilde in the house. Come see what the big deal is. Thursdays 8pm-midnight\, Friday/Saturday 9pm-1am \n480 N Arizona Ave\, Chandler\, AZ 85225 \n+14808992268
URL:https://www.maddhatterpro.com/event/the480bar-karaoke-2/2027-05-08/
LOCATION:the480bar\, 480 N Arizona Ave\, Chandler\, AZ\, 85225\, United States
CATEGORIES:Karaoke,KJ Wilde
ATTACH;FMTTYPE=image/jpeg:https://www.maddhatterpro.com/wp-content/uploads/2026/02/480-Chandler.jpg
END:VEVENT
BEGIN:VEVENT
DTSTART;TZID=UTC:20270513T200000
DTEND;TZID=UTC:20270513T200000
DTSTAMP:20260424T105444
CREATED:20250703T235739Z
LAST-MODIFIED:20260206T144305Z
UID:10021294-1810238400-1810238400@www.maddhatterpro.com
SUMMARY:The480Bar Karaoke
DESCRIPTION:Everyone’s favorite neighborhood bar in chandler! Always a great time with Wilde in the house. Come see what the big deal is. Thursdays 8pm-midnight\, Friday/Saturday 9pm-1am \n480 N Arizona Ave\, Chandler\, AZ 85225 \n+14808992268
URL:https://www.maddhatterpro.com/event/the480bar-karaoke/2027-05-13/
LOCATION:the480bar\, 480 N Arizona Ave\, Chandler\, AZ\, 85225\, United States
CATEGORIES:Karaoke,KJ Wilde
ATTACH;FMTTYPE=image/jpeg:https://www.maddhatterpro.com/wp-content/uploads/2026/02/480-Chandler.jpg
END:VEVENT
BEGIN:VEVENT
DTSTART;TZID=UTC:20270514T210000
DTEND;TZID=UTC:20270514T210000
DTSTAMP:20260424T105444
CREATED:20250703T235929Z
LAST-MODIFIED:20260206T145047Z
UID:10021817-1810328400-1810328400@www.maddhatterpro.com
SUMMARY:The480Bar Karaoke
DESCRIPTION:Everyone’s favorite neighborhood bar in chandler! Always a great time with Wilde in the house. Come see what the big deal is. Thursdays 8pm-midnight\, Friday/Saturday 9pm-1am \n480 N Arizona Ave\, Chandler\, AZ 85225 \n+14808992268
URL:https://www.maddhatterpro.com/event/the480bar-karaoke-2/2027-05-14/
LOCATION:the480bar\, 480 N Arizona Ave\, Chandler\, AZ\, 85225\, United States
CATEGORIES:Karaoke,KJ Wilde
ATTACH;FMTTYPE=image/jpeg:https://www.maddhatterpro.com/wp-content/uploads/2026/02/480-Chandler.jpg
END:VEVENT
BEGIN:VEVENT
DTSTART;TZID=UTC:20270515T210000
DTEND;TZID=UTC:20270515T210000
DTSTAMP:20260424T105444
CREATED:20250703T235929Z
LAST-MODIFIED:20260206T145047Z
UID:10025170-1810414800-1810414800@www.maddhatterpro.com
SUMMARY:The480Bar Karaoke
DESCRIPTION:Everyone’s favorite neighborhood bar in chandler! Always a great time with Wilde in the house. Come see what the big deal is. Thursdays 8pm-midnight\, Friday/Saturday 9pm-1am \n480 N Arizona Ave\, Chandler\, AZ 85225 \n+14808992268
URL:https://www.maddhatterpro.com/event/the480bar-karaoke-2/2027-05-15/
LOCATION:the480bar\, 480 N Arizona Ave\, Chandler\, AZ\, 85225\, United States
CATEGORIES:Karaoke,KJ Wilde
ATTACH;FMTTYPE=image/jpeg:https://www.maddhatterpro.com/wp-content/uploads/2026/02/480-Chandler.jpg
END:VEVENT
BEGIN:VEVENT
DTSTART;TZID=UTC:20270520T200000
DTEND;TZID=UTC:20270520T200000
DTSTAMP:20260424T105444
CREATED:20250703T235739Z
LAST-MODIFIED:20260206T144305Z
UID:10021295-1810843200-1810843200@www.maddhatterpro.com
SUMMARY:The480Bar Karaoke
DESCRIPTION:Everyone’s favorite neighborhood bar in chandler! Always a great time with Wilde in the house. Come see what the big deal is. Thursdays 8pm-midnight\, Friday/Saturday 9pm-1am \n480 N Arizona Ave\, Chandler\, AZ 85225 \n+14808992268
URL:https://www.maddhatterpro.com/event/the480bar-karaoke/2027-05-20/
LOCATION:the480bar\, 480 N Arizona Ave\, Chandler\, AZ\, 85225\, United States
CATEGORIES:Karaoke,KJ Wilde
ATTACH;FMTTYPE=image/jpeg:https://www.maddhatterpro.com/wp-content/uploads/2026/02/480-Chandler.jpg
END:VEVENT
BEGIN:VEVENT
DTSTART;TZID=UTC:20270521T210000
DTEND;TZID=UTC:20270521T210000
DTSTAMP:20260424T105444
CREATED:20250703T235929Z
LAST-MODIFIED:20260206T145047Z
UID:10021818-1810933200-1810933200@www.maddhatterpro.com
SUMMARY:The480Bar Karaoke
DESCRIPTION:Everyone’s favorite neighborhood bar in chandler! Always a great time with Wilde in the house. Come see what the big deal is. Thursdays 8pm-midnight\, Friday/Saturday 9pm-1am \n480 N Arizona Ave\, Chandler\, AZ 85225 \n+14808992268
URL:https://www.maddhatterpro.com/event/the480bar-karaoke-2/2027-05-21/
LOCATION:the480bar\, 480 N Arizona Ave\, Chandler\, AZ\, 85225\, United States
CATEGORIES:Karaoke,KJ Wilde
ATTACH;FMTTYPE=image/jpeg:https://www.maddhatterpro.com/wp-content/uploads/2026/02/480-Chandler.jpg
END:VEVENT
BEGIN:VEVENT
DTSTART;TZID=UTC:20270522T210000
DTEND;TZID=UTC:20270522T210000
DTSTAMP:20260424T105444
CREATED:20250703T235929Z
LAST-MODIFIED:20260206T145047Z
UID:10025171-1811019600-1811019600@www.maddhatterpro.com
SUMMARY:The480Bar Karaoke
DESCRIPTION:Everyone’s favorite neighborhood bar in chandler! Always a great time with Wilde in the house. Come see what the big deal is. Thursdays 8pm-midnight\, Friday/Saturday 9pm-1am \n480 N Arizona Ave\, Chandler\, AZ 85225 \n+14808992268
URL:https://www.maddhatterpro.com/event/the480bar-karaoke-2/2027-05-22/
LOCATION:the480bar\, 480 N Arizona Ave\, Chandler\, AZ\, 85225\, United States
CATEGORIES:Karaoke,KJ Wilde
ATTACH;FMTTYPE=image/jpeg:https://www.maddhatterpro.com/wp-content/uploads/2026/02/480-Chandler.jpg
END:VEVENT
BEGIN:VEVENT
DTSTART;TZID=UTC:20270527T200000
DTEND;TZID=UTC:20270527T200000
DTSTAMP:20260424T105444
CREATED:20250703T235739Z
LAST-MODIFIED:20260206T144305Z
UID:10021296-1811448000-1811448000@www.maddhatterpro.com
SUMMARY:The480Bar Karaoke
DESCRIPTION:Everyone’s favorite neighborhood bar in chandler! Always a great time with Wilde in the house. Come see what the big deal is. Thursdays 8pm-midnight\, Friday/Saturday 9pm-1am \n480 N Arizona Ave\, Chandler\, AZ 85225 \n+14808992268
URL:https://www.maddhatterpro.com/event/the480bar-karaoke/2027-05-27/
LOCATION:the480bar\, 480 N Arizona Ave\, Chandler\, AZ\, 85225\, United States
CATEGORIES:Karaoke,KJ Wilde
ATTACH;FMTTYPE=image/jpeg:https://www.maddhatterpro.com/wp-content/uploads/2026/02/480-Chandler.jpg
END:VEVENT
BEGIN:VEVENT
DTSTART;TZID=UTC:20270528T210000
DTEND;TZID=UTC:20270528T210000
DTSTAMP:20260424T105444
CREATED:20250703T235929Z
LAST-MODIFIED:20260206T145047Z
UID:10021819-1811538000-1811538000@www.maddhatterpro.com
SUMMARY:The480Bar Karaoke
DESCRIPTION:Everyone’s favorite neighborhood bar in chandler! Always a great time with Wilde in the house. Come see what the big deal is. Thursdays 8pm-midnight\, Friday/Saturday 9pm-1am \n480 N Arizona Ave\, Chandler\, AZ 85225 \n+14808992268
URL:https://www.maddhatterpro.com/event/the480bar-karaoke-2/2027-05-28/
LOCATION:the480bar\, 480 N Arizona Ave\, Chandler\, AZ\, 85225\, United States
CATEGORIES:Karaoke,KJ Wilde
ATTACH;FMTTYPE=image/jpeg:https://www.maddhatterpro.com/wp-content/uploads/2026/02/480-Chandler.jpg
END:VEVENT
BEGIN:VEVENT
DTSTART;TZID=UTC:20270529T210000
DTEND;TZID=UTC:20270529T210000
DTSTAMP:20260424T105444
CREATED:20250703T235929Z
LAST-MODIFIED:20260206T145047Z
UID:10025172-1811624400-1811624400@www.maddhatterpro.com
SUMMARY:The480Bar Karaoke
DESCRIPTION:Everyone’s favorite neighborhood bar in chandler! Always a great time with Wilde in the house. Come see what the big deal is. Thursdays 8pm-midnight\, Friday/Saturday 9pm-1am \n480 N Arizona Ave\, Chandler\, AZ 85225 \n+14808992268
URL:https://www.maddhatterpro.com/event/the480bar-karaoke-2/2027-05-29/
LOCATION:the480bar\, 480 N Arizona Ave\, Chandler\, AZ\, 85225\, United States
CATEGORIES:Karaoke,KJ Wilde
ATTACH;FMTTYPE=image/jpeg:https://www.maddhatterpro.com/wp-content/uploads/2026/02/480-Chandler.jpg
END:VEVENT
BEGIN:VEVENT
DTSTART;TZID=UTC:20270603T200000
DTEND;TZID=UTC:20270603T200000
DTSTAMP:20260424T105444
CREATED:20250703T235739Z
LAST-MODIFIED:20260206T144305Z
UID:10021297-1812052800-1812052800@www.maddhatterpro.com
SUMMARY:The480Bar Karaoke
DESCRIPTION:Everyone’s favorite neighborhood bar in chandler! Always a great time with Wilde in the house. Come see what the big deal is. Thursdays 8pm-midnight\, Friday/Saturday 9pm-1am \n480 N Arizona Ave\, Chandler\, AZ 85225 \n+14808992268
URL:https://www.maddhatterpro.com/event/the480bar-karaoke/2027-06-03/
LOCATION:the480bar\, 480 N Arizona Ave\, Chandler\, AZ\, 85225\, United States
CATEGORIES:Karaoke,KJ Wilde
ATTACH;FMTTYPE=image/jpeg:https://www.maddhatterpro.com/wp-content/uploads/2026/02/480-Chandler.jpg
END:VEVENT
END:VCALENDAR