BEGIN:VCALENDAR
VERSION:2.0
PRODID:-//MaddHatterPro.com - ECPv6.15.20//NONSGML v1.0//EN
CALSCALE:GREGORIAN
METHOD:PUBLISH
X-ORIGINAL-URL:https://www.maddhatterpro.com
X-WR-CALDESC:Events for MaddHatterPro.com
REFRESH-INTERVAL;VALUE=DURATION:PT1H
X-Robots-Tag:noindex
X-PUBLISHED-TTL:PT1H
BEGIN:VTIMEZONE
TZID:UTC
BEGIN:STANDARD
TZOFFSETFROM:+0000
TZOFFSETTO:+0000
TZNAME:UTC
DTSTART:20270101T000000
END:STANDARD
END:VTIMEZONE
BEGIN:VEVENT
DTSTART;TZID=UTC:20281104T210000
DTEND;TZID=UTC:20281104T210000
DTSTAMP:20260424T094203
CREATED:20250704T004113Z
LAST-MODIFIED:20260206T144717Z
UID:10023463-1856984400-1856984400@www.maddhatterpro.com
SUMMARY:Third Base Karaoke
DESCRIPTION:Super chill and ready to hear you sing! KJ Amygdala in the house slinging those tunes\, and your bar tenders\, slinging those drinks. Lets have a blast! \n4910 W Ray Rd #3\, Chandler\, AZ\, United States\, Arizona \n\n\n\n(480) 687-1556
URL:https://www.maddhatterpro.com/event/third-base-karaoke/2028-11-04/
LOCATION:Third Base\, 4910 W Ray Rd #3\, Chandler\, AZ\, 85226\, United States
CATEGORIES:Karaoke,KJ Amygdala
ATTACH;FMTTYPE=image/jpeg:https://www.maddhatterpro.com/wp-content/uploads/2026/02/Third-Base-Chandler.jpg
END:VEVENT
BEGIN:VEVENT
DTSTART;TZID=UTC:20281111T210000
DTEND;TZID=UTC:20281111T210000
DTSTAMP:20260424T094203
CREATED:20250704T004113Z
LAST-MODIFIED:20260206T144717Z
UID:10023464-1857589200-1857589200@www.maddhatterpro.com
SUMMARY:Third Base Karaoke
DESCRIPTION:Super chill and ready to hear you sing! KJ Amygdala in the house slinging those tunes\, and your bar tenders\, slinging those drinks. Lets have a blast! \n4910 W Ray Rd #3\, Chandler\, AZ\, United States\, Arizona \n\n\n\n(480) 687-1556
URL:https://www.maddhatterpro.com/event/third-base-karaoke/2028-11-11/
LOCATION:Third Base\, 4910 W Ray Rd #3\, Chandler\, AZ\, 85226\, United States
CATEGORIES:Karaoke,KJ Amygdala
ATTACH;FMTTYPE=image/jpeg:https://www.maddhatterpro.com/wp-content/uploads/2026/02/Third-Base-Chandler.jpg
END:VEVENT
BEGIN:VEVENT
DTSTART;TZID=UTC:20281118T210000
DTEND;TZID=UTC:20281118T210000
DTSTAMP:20260424T094203
CREATED:20250704T004113Z
LAST-MODIFIED:20260206T144717Z
UID:10023465-1858194000-1858194000@www.maddhatterpro.com
SUMMARY:Third Base Karaoke
DESCRIPTION:Super chill and ready to hear you sing! KJ Amygdala in the house slinging those tunes\, and your bar tenders\, slinging those drinks. Lets have a blast! \n4910 W Ray Rd #3\, Chandler\, AZ\, United States\, Arizona \n\n\n\n(480) 687-1556
URL:https://www.maddhatterpro.com/event/third-base-karaoke/2028-11-18/
LOCATION:Third Base\, 4910 W Ray Rd #3\, Chandler\, AZ\, 85226\, United States
CATEGORIES:Karaoke,KJ Amygdala
ATTACH;FMTTYPE=image/jpeg:https://www.maddhatterpro.com/wp-content/uploads/2026/02/Third-Base-Chandler.jpg
END:VEVENT
BEGIN:VEVENT
DTSTART;TZID=UTC:20281125T210000
DTEND;TZID=UTC:20281125T210000
DTSTAMP:20260424T094203
CREATED:20250704T004113Z
LAST-MODIFIED:20260206T144717Z
UID:10023466-1858798800-1858798800@www.maddhatterpro.com
SUMMARY:Third Base Karaoke
DESCRIPTION:Super chill and ready to hear you sing! KJ Amygdala in the house slinging those tunes\, and your bar tenders\, slinging those drinks. Lets have a blast! \n4910 W Ray Rd #3\, Chandler\, AZ\, United States\, Arizona \n\n\n\n(480) 687-1556
URL:https://www.maddhatterpro.com/event/third-base-karaoke/2028-11-25/
LOCATION:Third Base\, 4910 W Ray Rd #3\, Chandler\, AZ\, 85226\, United States
CATEGORIES:Karaoke,KJ Amygdala
ATTACH;FMTTYPE=image/jpeg:https://www.maddhatterpro.com/wp-content/uploads/2026/02/Third-Base-Chandler.jpg
END:VEVENT
BEGIN:VEVENT
DTSTART;TZID=UTC:20281202T210000
DTEND;TZID=UTC:20281202T210000
DTSTAMP:20260424T094203
CREATED:20250704T004113Z
LAST-MODIFIED:20260206T144717Z
UID:10023467-1859403600-1859403600@www.maddhatterpro.com
SUMMARY:Third Base Karaoke
DESCRIPTION:Super chill and ready to hear you sing! KJ Amygdala in the house slinging those tunes\, and your bar tenders\, slinging those drinks. Lets have a blast! \n4910 W Ray Rd #3\, Chandler\, AZ\, United States\, Arizona \n\n\n\n(480) 687-1556
URL:https://www.maddhatterpro.com/event/third-base-karaoke/2028-12-02/
LOCATION:Third Base\, 4910 W Ray Rd #3\, Chandler\, AZ\, 85226\, United States
CATEGORIES:Karaoke,KJ Amygdala
ATTACH;FMTTYPE=image/jpeg:https://www.maddhatterpro.com/wp-content/uploads/2026/02/Third-Base-Chandler.jpg
END:VEVENT
BEGIN:VEVENT
DTSTART;TZID=UTC:20281209T210000
DTEND;TZID=UTC:20281209T210000
DTSTAMP:20260424T094203
CREATED:20250704T004113Z
LAST-MODIFIED:20260206T144717Z
UID:10023468-1860008400-1860008400@www.maddhatterpro.com
SUMMARY:Third Base Karaoke
DESCRIPTION:Super chill and ready to hear you sing! KJ Amygdala in the house slinging those tunes\, and your bar tenders\, slinging those drinks. Lets have a blast! \n4910 W Ray Rd #3\, Chandler\, AZ\, United States\, Arizona \n\n\n\n(480) 687-1556
URL:https://www.maddhatterpro.com/event/third-base-karaoke/2028-12-09/
LOCATION:Third Base\, 4910 W Ray Rd #3\, Chandler\, AZ\, 85226\, United States
CATEGORIES:Karaoke,KJ Amygdala
ATTACH;FMTTYPE=image/jpeg:https://www.maddhatterpro.com/wp-content/uploads/2026/02/Third-Base-Chandler.jpg
END:VEVENT
BEGIN:VEVENT
DTSTART;TZID=UTC:20281216T210000
DTEND;TZID=UTC:20281216T210000
DTSTAMP:20260424T094203
CREATED:20250704T004113Z
LAST-MODIFIED:20260206T144717Z
UID:10023469-1860613200-1860613200@www.maddhatterpro.com
SUMMARY:Third Base Karaoke
DESCRIPTION:Super chill and ready to hear you sing! KJ Amygdala in the house slinging those tunes\, and your bar tenders\, slinging those drinks. Lets have a blast! \n4910 W Ray Rd #3\, Chandler\, AZ\, United States\, Arizona \n\n\n\n(480) 687-1556
URL:https://www.maddhatterpro.com/event/third-base-karaoke/2028-12-16/
LOCATION:Third Base\, 4910 W Ray Rd #3\, Chandler\, AZ\, 85226\, United States
CATEGORIES:Karaoke,KJ Amygdala
ATTACH;FMTTYPE=image/jpeg:https://www.maddhatterpro.com/wp-content/uploads/2026/02/Third-Base-Chandler.jpg
END:VEVENT
BEGIN:VEVENT
DTSTART;TZID=UTC:20281223T210000
DTEND;TZID=UTC:20281223T210000
DTSTAMP:20260424T094203
CREATED:20250704T004113Z
LAST-MODIFIED:20260206T144717Z
UID:10023470-1861218000-1861218000@www.maddhatterpro.com
SUMMARY:Third Base Karaoke
DESCRIPTION:Super chill and ready to hear you sing! KJ Amygdala in the house slinging those tunes\, and your bar tenders\, slinging those drinks. Lets have a blast! \n4910 W Ray Rd #3\, Chandler\, AZ\, United States\, Arizona \n\n\n\n(480) 687-1556
URL:https://www.maddhatterpro.com/event/third-base-karaoke/2028-12-23/
LOCATION:Third Base\, 4910 W Ray Rd #3\, Chandler\, AZ\, 85226\, United States
CATEGORIES:Karaoke,KJ Amygdala
ATTACH;FMTTYPE=image/jpeg:https://www.maddhatterpro.com/wp-content/uploads/2026/02/Third-Base-Chandler.jpg
END:VEVENT
BEGIN:VEVENT
DTSTART;TZID=UTC:20281230T210000
DTEND;TZID=UTC:20281230T210000
DTSTAMP:20260424T094203
CREATED:20250704T004113Z
LAST-MODIFIED:20260206T144717Z
UID:10023471-1861822800-1861822800@www.maddhatterpro.com
SUMMARY:Third Base Karaoke
DESCRIPTION:Super chill and ready to hear you sing! KJ Amygdala in the house slinging those tunes\, and your bar tenders\, slinging those drinks. Lets have a blast! \n4910 W Ray Rd #3\, Chandler\, AZ\, United States\, Arizona \n\n\n\n(480) 687-1556
URL:https://www.maddhatterpro.com/event/third-base-karaoke/2028-12-30/
LOCATION:Third Base\, 4910 W Ray Rd #3\, Chandler\, AZ\, 85226\, United States
CATEGORIES:Karaoke,KJ Amygdala
ATTACH;FMTTYPE=image/jpeg:https://www.maddhatterpro.com/wp-content/uploads/2026/02/Third-Base-Chandler.jpg
END:VEVENT
BEGIN:VEVENT
DTSTART;TZID=UTC:20290106T210000
DTEND;TZID=UTC:20290106T210000
DTSTAMP:20260424T094203
CREATED:20250704T004113Z
LAST-MODIFIED:20260206T144717Z
UID:10023472-1862427600-1862427600@www.maddhatterpro.com
SUMMARY:Third Base Karaoke
DESCRIPTION:Super chill and ready to hear you sing! KJ Amygdala in the house slinging those tunes\, and your bar tenders\, slinging those drinks. Lets have a blast! \n4910 W Ray Rd #3\, Chandler\, AZ\, United States\, Arizona \n\n\n\n(480) 687-1556
URL:https://www.maddhatterpro.com/event/third-base-karaoke/2029-01-06/
LOCATION:Third Base\, 4910 W Ray Rd #3\, Chandler\, AZ\, 85226\, United States
CATEGORIES:Karaoke,KJ Amygdala
ATTACH;FMTTYPE=image/jpeg:https://www.maddhatterpro.com/wp-content/uploads/2026/02/Third-Base-Chandler.jpg
END:VEVENT
BEGIN:VEVENT
DTSTART;TZID=UTC:20290113T210000
DTEND;TZID=UTC:20290113T210000
DTSTAMP:20260424T094203
CREATED:20250704T004113Z
LAST-MODIFIED:20260206T144717Z
UID:10023473-1863032400-1863032400@www.maddhatterpro.com
SUMMARY:Third Base Karaoke
DESCRIPTION:Super chill and ready to hear you sing! KJ Amygdala in the house slinging those tunes\, and your bar tenders\, slinging those drinks. Lets have a blast! \n4910 W Ray Rd #3\, Chandler\, AZ\, United States\, Arizona \n\n\n\n(480) 687-1556
URL:https://www.maddhatterpro.com/event/third-base-karaoke/2029-01-13/
LOCATION:Third Base\, 4910 W Ray Rd #3\, Chandler\, AZ\, 85226\, United States
CATEGORIES:Karaoke,KJ Amygdala
ATTACH;FMTTYPE=image/jpeg:https://www.maddhatterpro.com/wp-content/uploads/2026/02/Third-Base-Chandler.jpg
END:VEVENT
BEGIN:VEVENT
DTSTART;TZID=UTC:20290120T210000
DTEND;TZID=UTC:20290120T210000
DTSTAMP:20260424T094203
CREATED:20250704T004113Z
LAST-MODIFIED:20260206T144717Z
UID:10023474-1863637200-1863637200@www.maddhatterpro.com
SUMMARY:Third Base Karaoke
DESCRIPTION:Super chill and ready to hear you sing! KJ Amygdala in the house slinging those tunes\, and your bar tenders\, slinging those drinks. Lets have a blast! \n4910 W Ray Rd #3\, Chandler\, AZ\, United States\, Arizona \n\n\n\n(480) 687-1556
URL:https://www.maddhatterpro.com/event/third-base-karaoke/2029-01-20/
LOCATION:Third Base\, 4910 W Ray Rd #3\, Chandler\, AZ\, 85226\, United States
CATEGORIES:Karaoke,KJ Amygdala
ATTACH;FMTTYPE=image/jpeg:https://www.maddhatterpro.com/wp-content/uploads/2026/02/Third-Base-Chandler.jpg
END:VEVENT
BEGIN:VEVENT
DTSTART;TZID=UTC:20290127T210000
DTEND;TZID=UTC:20290127T210000
DTSTAMP:20260424T094203
CREATED:20250704T004113Z
LAST-MODIFIED:20260206T144717Z
UID:10023475-1864242000-1864242000@www.maddhatterpro.com
SUMMARY:Third Base Karaoke
DESCRIPTION:Super chill and ready to hear you sing! KJ Amygdala in the house slinging those tunes\, and your bar tenders\, slinging those drinks. Lets have a blast! \n4910 W Ray Rd #3\, Chandler\, AZ\, United States\, Arizona \n\n\n\n(480) 687-1556
URL:https://www.maddhatterpro.com/event/third-base-karaoke/2029-01-27/
LOCATION:Third Base\, 4910 W Ray Rd #3\, Chandler\, AZ\, 85226\, United States
CATEGORIES:Karaoke,KJ Amygdala
ATTACH;FMTTYPE=image/jpeg:https://www.maddhatterpro.com/wp-content/uploads/2026/02/Third-Base-Chandler.jpg
END:VEVENT
BEGIN:VEVENT
DTSTART;TZID=UTC:20290203T210000
DTEND;TZID=UTC:20290203T210000
DTSTAMP:20260424T094203
CREATED:20250704T004113Z
LAST-MODIFIED:20260206T144717Z
UID:10023476-1864846800-1864846800@www.maddhatterpro.com
SUMMARY:Third Base Karaoke
DESCRIPTION:Super chill and ready to hear you sing! KJ Amygdala in the house slinging those tunes\, and your bar tenders\, slinging those drinks. Lets have a blast! \n4910 W Ray Rd #3\, Chandler\, AZ\, United States\, Arizona \n\n\n\n(480) 687-1556
URL:https://www.maddhatterpro.com/event/third-base-karaoke/2029-02-03/
LOCATION:Third Base\, 4910 W Ray Rd #3\, Chandler\, AZ\, 85226\, United States
CATEGORIES:Karaoke,KJ Amygdala
ATTACH;FMTTYPE=image/jpeg:https://www.maddhatterpro.com/wp-content/uploads/2026/02/Third-Base-Chandler.jpg
END:VEVENT
BEGIN:VEVENT
DTSTART;TZID=UTC:20290210T210000
DTEND;TZID=UTC:20290210T210000
DTSTAMP:20260424T094203
CREATED:20250704T004113Z
LAST-MODIFIED:20260206T144717Z
UID:10023477-1865451600-1865451600@www.maddhatterpro.com
SUMMARY:Third Base Karaoke
DESCRIPTION:Super chill and ready to hear you sing! KJ Amygdala in the house slinging those tunes\, and your bar tenders\, slinging those drinks. Lets have a blast! \n4910 W Ray Rd #3\, Chandler\, AZ\, United States\, Arizona \n\n\n\n(480) 687-1556
URL:https://www.maddhatterpro.com/event/third-base-karaoke/2029-02-10/
LOCATION:Third Base\, 4910 W Ray Rd #3\, Chandler\, AZ\, 85226\, United States
CATEGORIES:Karaoke,KJ Amygdala
ATTACH;FMTTYPE=image/jpeg:https://www.maddhatterpro.com/wp-content/uploads/2026/02/Third-Base-Chandler.jpg
END:VEVENT
BEGIN:VEVENT
DTSTART;TZID=UTC:20290217T210000
DTEND;TZID=UTC:20290217T210000
DTSTAMP:20260424T094203
CREATED:20250704T004113Z
LAST-MODIFIED:20260206T144717Z
UID:10023478-1866056400-1866056400@www.maddhatterpro.com
SUMMARY:Third Base Karaoke
DESCRIPTION:Super chill and ready to hear you sing! KJ Amygdala in the house slinging those tunes\, and your bar tenders\, slinging those drinks. Lets have a blast! \n4910 W Ray Rd #3\, Chandler\, AZ\, United States\, Arizona \n\n\n\n(480) 687-1556
URL:https://www.maddhatterpro.com/event/third-base-karaoke/2029-02-17/
LOCATION:Third Base\, 4910 W Ray Rd #3\, Chandler\, AZ\, 85226\, United States
CATEGORIES:Karaoke,KJ Amygdala
ATTACH;FMTTYPE=image/jpeg:https://www.maddhatterpro.com/wp-content/uploads/2026/02/Third-Base-Chandler.jpg
END:VEVENT
BEGIN:VEVENT
DTSTART;TZID=UTC:20290224T210000
DTEND;TZID=UTC:20290224T210000
DTSTAMP:20260424T094203
CREATED:20250704T004113Z
LAST-MODIFIED:20260206T144717Z
UID:10023479-1866661200-1866661200@www.maddhatterpro.com
SUMMARY:Third Base Karaoke
DESCRIPTION:Super chill and ready to hear you sing! KJ Amygdala in the house slinging those tunes\, and your bar tenders\, slinging those drinks. Lets have a blast! \n4910 W Ray Rd #3\, Chandler\, AZ\, United States\, Arizona \n\n\n\n(480) 687-1556
URL:https://www.maddhatterpro.com/event/third-base-karaoke/2029-02-24/
LOCATION:Third Base\, 4910 W Ray Rd #3\, Chandler\, AZ\, 85226\, United States
CATEGORIES:Karaoke,KJ Amygdala
ATTACH;FMTTYPE=image/jpeg:https://www.maddhatterpro.com/wp-content/uploads/2026/02/Third-Base-Chandler.jpg
END:VEVENT
BEGIN:VEVENT
DTSTART;TZID=UTC:20290303T210000
DTEND;TZID=UTC:20290303T210000
DTSTAMP:20260424T094203
CREATED:20250704T004113Z
LAST-MODIFIED:20260206T144717Z
UID:10023480-1867266000-1867266000@www.maddhatterpro.com
SUMMARY:Third Base Karaoke
DESCRIPTION:Super chill and ready to hear you sing! KJ Amygdala in the house slinging those tunes\, and your bar tenders\, slinging those drinks. Lets have a blast! \n4910 W Ray Rd #3\, Chandler\, AZ\, United States\, Arizona \n\n\n\n(480) 687-1556
URL:https://www.maddhatterpro.com/event/third-base-karaoke/2029-03-03/
LOCATION:Third Base\, 4910 W Ray Rd #3\, Chandler\, AZ\, 85226\, United States
CATEGORIES:Karaoke,KJ Amygdala
ATTACH;FMTTYPE=image/jpeg:https://www.maddhatterpro.com/wp-content/uploads/2026/02/Third-Base-Chandler.jpg
END:VEVENT
BEGIN:VEVENT
DTSTART;TZID=UTC:20290310T210000
DTEND;TZID=UTC:20290310T210000
DTSTAMP:20260424T094203
CREATED:20250704T004113Z
LAST-MODIFIED:20260206T144717Z
UID:10023481-1867870800-1867870800@www.maddhatterpro.com
SUMMARY:Third Base Karaoke
DESCRIPTION:Super chill and ready to hear you sing! KJ Amygdala in the house slinging those tunes\, and your bar tenders\, slinging those drinks. Lets have a blast! \n4910 W Ray Rd #3\, Chandler\, AZ\, United States\, Arizona \n\n\n\n(480) 687-1556
URL:https://www.maddhatterpro.com/event/third-base-karaoke/2029-03-10/
LOCATION:Third Base\, 4910 W Ray Rd #3\, Chandler\, AZ\, 85226\, United States
CATEGORIES:Karaoke,KJ Amygdala
ATTACH;FMTTYPE=image/jpeg:https://www.maddhatterpro.com/wp-content/uploads/2026/02/Third-Base-Chandler.jpg
END:VEVENT
BEGIN:VEVENT
DTSTART;TZID=UTC:20290317T210000
DTEND;TZID=UTC:20290317T210000
DTSTAMP:20260424T094203
CREATED:20250704T004113Z
LAST-MODIFIED:20260206T144717Z
UID:10023482-1868475600-1868475600@www.maddhatterpro.com
SUMMARY:Third Base Karaoke
DESCRIPTION:Super chill and ready to hear you sing! KJ Amygdala in the house slinging those tunes\, and your bar tenders\, slinging those drinks. Lets have a blast! \n4910 W Ray Rd #3\, Chandler\, AZ\, United States\, Arizona \n\n\n\n(480) 687-1556
URL:https://www.maddhatterpro.com/event/third-base-karaoke/2029-03-17/
LOCATION:Third Base\, 4910 W Ray Rd #3\, Chandler\, AZ\, 85226\, United States
CATEGORIES:Karaoke,KJ Amygdala
ATTACH;FMTTYPE=image/jpeg:https://www.maddhatterpro.com/wp-content/uploads/2026/02/Third-Base-Chandler.jpg
END:VEVENT
BEGIN:VEVENT
DTSTART;TZID=UTC:20290324T210000
DTEND;TZID=UTC:20290324T210000
DTSTAMP:20260424T094203
CREATED:20250704T004113Z
LAST-MODIFIED:20260206T144717Z
UID:10023483-1869080400-1869080400@www.maddhatterpro.com
SUMMARY:Third Base Karaoke
DESCRIPTION:Super chill and ready to hear you sing! KJ Amygdala in the house slinging those tunes\, and your bar tenders\, slinging those drinks. Lets have a blast! \n4910 W Ray Rd #3\, Chandler\, AZ\, United States\, Arizona \n\n\n\n(480) 687-1556
URL:https://www.maddhatterpro.com/event/third-base-karaoke/2029-03-24/
LOCATION:Third Base\, 4910 W Ray Rd #3\, Chandler\, AZ\, 85226\, United States
CATEGORIES:Karaoke,KJ Amygdala
ATTACH;FMTTYPE=image/jpeg:https://www.maddhatterpro.com/wp-content/uploads/2026/02/Third-Base-Chandler.jpg
END:VEVENT
BEGIN:VEVENT
DTSTART;TZID=UTC:20290331T210000
DTEND;TZID=UTC:20290331T210000
DTSTAMP:20260424T094203
CREATED:20250704T004113Z
LAST-MODIFIED:20260206T144717Z
UID:10023484-1869685200-1869685200@www.maddhatterpro.com
SUMMARY:Third Base Karaoke
DESCRIPTION:Super chill and ready to hear you sing! KJ Amygdala in the house slinging those tunes\, and your bar tenders\, slinging those drinks. Lets have a blast! \n4910 W Ray Rd #3\, Chandler\, AZ\, United States\, Arizona \n\n\n\n(480) 687-1556
URL:https://www.maddhatterpro.com/event/third-base-karaoke/2029-03-31/
LOCATION:Third Base\, 4910 W Ray Rd #3\, Chandler\, AZ\, 85226\, United States
CATEGORIES:Karaoke,KJ Amygdala
ATTACH;FMTTYPE=image/jpeg:https://www.maddhatterpro.com/wp-content/uploads/2026/02/Third-Base-Chandler.jpg
END:VEVENT
BEGIN:VEVENT
DTSTART;TZID=UTC:20290407T210000
DTEND;TZID=UTC:20290407T210000
DTSTAMP:20260424T094203
CREATED:20250704T004113Z
LAST-MODIFIED:20260206T144717Z
UID:10023485-1870290000-1870290000@www.maddhatterpro.com
SUMMARY:Third Base Karaoke
DESCRIPTION:Super chill and ready to hear you sing! KJ Amygdala in the house slinging those tunes\, and your bar tenders\, slinging those drinks. Lets have a blast! \n4910 W Ray Rd #3\, Chandler\, AZ\, United States\, Arizona \n\n\n\n(480) 687-1556
URL:https://www.maddhatterpro.com/event/third-base-karaoke/2029-04-07/
LOCATION:Third Base\, 4910 W Ray Rd #3\, Chandler\, AZ\, 85226\, United States
CATEGORIES:Karaoke,KJ Amygdala
ATTACH;FMTTYPE=image/jpeg:https://www.maddhatterpro.com/wp-content/uploads/2026/02/Third-Base-Chandler.jpg
END:VEVENT
BEGIN:VEVENT
DTSTART;TZID=UTC:20290414T210000
DTEND;TZID=UTC:20290414T210000
DTSTAMP:20260424T094203
CREATED:20250704T004113Z
LAST-MODIFIED:20260206T144717Z
UID:10023486-1870894800-1870894800@www.maddhatterpro.com
SUMMARY:Third Base Karaoke
DESCRIPTION:Super chill and ready to hear you sing! KJ Amygdala in the house slinging those tunes\, and your bar tenders\, slinging those drinks. Lets have a blast! \n4910 W Ray Rd #3\, Chandler\, AZ\, United States\, Arizona \n\n\n\n(480) 687-1556
URL:https://www.maddhatterpro.com/event/third-base-karaoke/2029-04-14/
LOCATION:Third Base\, 4910 W Ray Rd #3\, Chandler\, AZ\, 85226\, United States
CATEGORIES:Karaoke,KJ Amygdala
ATTACH;FMTTYPE=image/jpeg:https://www.maddhatterpro.com/wp-content/uploads/2026/02/Third-Base-Chandler.jpg
END:VEVENT
BEGIN:VEVENT
DTSTART;TZID=UTC:20290421T210000
DTEND;TZID=UTC:20290421T210000
DTSTAMP:20260424T094203
CREATED:20250704T004113Z
LAST-MODIFIED:20260206T144717Z
UID:10023487-1871499600-1871499600@www.maddhatterpro.com
SUMMARY:Third Base Karaoke
DESCRIPTION:Super chill and ready to hear you sing! KJ Amygdala in the house slinging those tunes\, and your bar tenders\, slinging those drinks. Lets have a blast! \n4910 W Ray Rd #3\, Chandler\, AZ\, United States\, Arizona \n\n\n\n(480) 687-1556
URL:https://www.maddhatterpro.com/event/third-base-karaoke/2029-04-21/
LOCATION:Third Base\, 4910 W Ray Rd #3\, Chandler\, AZ\, 85226\, United States
CATEGORIES:Karaoke,KJ Amygdala
ATTACH;FMTTYPE=image/jpeg:https://www.maddhatterpro.com/wp-content/uploads/2026/02/Third-Base-Chandler.jpg
END:VEVENT
BEGIN:VEVENT
DTSTART;TZID=UTC:20290428T210000
DTEND;TZID=UTC:20290428T210000
DTSTAMP:20260424T094203
CREATED:20250704T004113Z
LAST-MODIFIED:20260206T144717Z
UID:10023488-1872104400-1872104400@www.maddhatterpro.com
SUMMARY:Third Base Karaoke
DESCRIPTION:Super chill and ready to hear you sing! KJ Amygdala in the house slinging those tunes\, and your bar tenders\, slinging those drinks. Lets have a blast! \n4910 W Ray Rd #3\, Chandler\, AZ\, United States\, Arizona \n\n\n\n(480) 687-1556
URL:https://www.maddhatterpro.com/event/third-base-karaoke/2029-04-28/
LOCATION:Third Base\, 4910 W Ray Rd #3\, Chandler\, AZ\, 85226\, United States
CATEGORIES:Karaoke,KJ Amygdala
ATTACH;FMTTYPE=image/jpeg:https://www.maddhatterpro.com/wp-content/uploads/2026/02/Third-Base-Chandler.jpg
END:VEVENT
BEGIN:VEVENT
DTSTART;TZID=UTC:20290505T210000
DTEND;TZID=UTC:20290505T210000
DTSTAMP:20260424T094203
CREATED:20250704T004113Z
LAST-MODIFIED:20260206T144717Z
UID:10023489-1872709200-1872709200@www.maddhatterpro.com
SUMMARY:Third Base Karaoke
DESCRIPTION:Super chill and ready to hear you sing! KJ Amygdala in the house slinging those tunes\, and your bar tenders\, slinging those drinks. Lets have a blast! \n4910 W Ray Rd #3\, Chandler\, AZ\, United States\, Arizona \n\n\n\n(480) 687-1556
URL:https://www.maddhatterpro.com/event/third-base-karaoke/2029-05-05/
LOCATION:Third Base\, 4910 W Ray Rd #3\, Chandler\, AZ\, 85226\, United States
CATEGORIES:Karaoke,KJ Amygdala
ATTACH;FMTTYPE=image/jpeg:https://www.maddhatterpro.com/wp-content/uploads/2026/02/Third-Base-Chandler.jpg
END:VEVENT
BEGIN:VEVENT
DTSTART;TZID=UTC:20290512T210000
DTEND;TZID=UTC:20290512T210000
DTSTAMP:20260424T094203
CREATED:20250704T004113Z
LAST-MODIFIED:20260206T144717Z
UID:10023490-1873314000-1873314000@www.maddhatterpro.com
SUMMARY:Third Base Karaoke
DESCRIPTION:Super chill and ready to hear you sing! KJ Amygdala in the house slinging those tunes\, and your bar tenders\, slinging those drinks. Lets have a blast! \n4910 W Ray Rd #3\, Chandler\, AZ\, United States\, Arizona \n\n\n\n(480) 687-1556
URL:https://www.maddhatterpro.com/event/third-base-karaoke/2029-05-12/
LOCATION:Third Base\, 4910 W Ray Rd #3\, Chandler\, AZ\, 85226\, United States
CATEGORIES:Karaoke,KJ Amygdala
ATTACH;FMTTYPE=image/jpeg:https://www.maddhatterpro.com/wp-content/uploads/2026/02/Third-Base-Chandler.jpg
END:VEVENT
BEGIN:VEVENT
DTSTART;TZID=UTC:20290519T210000
DTEND;TZID=UTC:20290519T210000
DTSTAMP:20260424T094203
CREATED:20250704T004113Z
LAST-MODIFIED:20260206T144717Z
UID:10023491-1873918800-1873918800@www.maddhatterpro.com
SUMMARY:Third Base Karaoke
DESCRIPTION:Super chill and ready to hear you sing! KJ Amygdala in the house slinging those tunes\, and your bar tenders\, slinging those drinks. Lets have a blast! \n4910 W Ray Rd #3\, Chandler\, AZ\, United States\, Arizona \n\n\n\n(480) 687-1556
URL:https://www.maddhatterpro.com/event/third-base-karaoke/2029-05-19/
LOCATION:Third Base\, 4910 W Ray Rd #3\, Chandler\, AZ\, 85226\, United States
CATEGORIES:Karaoke,KJ Amygdala
ATTACH;FMTTYPE=image/jpeg:https://www.maddhatterpro.com/wp-content/uploads/2026/02/Third-Base-Chandler.jpg
END:VEVENT
BEGIN:VEVENT
DTSTART;TZID=UTC:20290526T210000
DTEND;TZID=UTC:20290526T210000
DTSTAMP:20260424T094203
CREATED:20250704T004113Z
LAST-MODIFIED:20260206T144717Z
UID:10023492-1874523600-1874523600@www.maddhatterpro.com
SUMMARY:Third Base Karaoke
DESCRIPTION:Super chill and ready to hear you sing! KJ Amygdala in the house slinging those tunes\, and your bar tenders\, slinging those drinks. Lets have a blast! \n4910 W Ray Rd #3\, Chandler\, AZ\, United States\, Arizona \n\n\n\n(480) 687-1556
URL:https://www.maddhatterpro.com/event/third-base-karaoke/2029-05-26/
LOCATION:Third Base\, 4910 W Ray Rd #3\, Chandler\, AZ\, 85226\, United States
CATEGORIES:Karaoke,KJ Amygdala
ATTACH;FMTTYPE=image/jpeg:https://www.maddhatterpro.com/wp-content/uploads/2026/02/Third-Base-Chandler.jpg
END:VEVENT
END:VCALENDAR